BEGIN:VCALENDAR
VERSION:2.0
PRODID:-//Université de Caen Normandie - ECPv6.15.18//NONSGML v1.0//EN
CALSCALE:GREGORIAN
METHOD:PUBLISH
X-WR-CALNAME:Université de Caen Normandie
X-ORIGINAL-URL:https://www.unicaen.fr
X-WR-CALDESC:Évènements pour Université de Caen Normandie
REFRESH-INTERVAL;VALUE=DURATION:PT1H
X-Robots-Tag:noindex
X-PUBLISHED-TTL:PT1H
BEGIN:VTIMEZONE
TZID:Europe/Paris
BEGIN:DAYLIGHT
TZOFFSETFROM:+0100
TZOFFSETTO:+0200
TZNAME:CEST
DTSTART:20240331T010000
END:DAYLIGHT
BEGIN:STANDARD
TZOFFSETFROM:+0200
TZOFFSETTO:+0100
TZNAME:CET
DTSTART:20241027T010000
END:STANDARD
BEGIN:DAYLIGHT
TZOFFSETFROM:+0100
TZOFFSETTO:+0200
TZNAME:CEST
DTSTART:20250330T010000
END:DAYLIGHT
BEGIN:STANDARD
TZOFFSETFROM:+0200
TZOFFSETTO:+0100
TZNAME:CET
DTSTART:20251026T010000
END:STANDARD
BEGIN:DAYLIGHT
TZOFFSETFROM:+0100
TZOFFSETTO:+0200
TZNAME:CEST
DTSTART:20260329T010000
END:DAYLIGHT
BEGIN:STANDARD
TZOFFSETFROM:+0200
TZOFFSETTO:+0100
TZNAME:CET
DTSTART:20261025T010000
END:STANDARD
END:VTIMEZONE
BEGIN:VEVENT
DTSTART;TZID=Europe/Paris:20250604T090000
DTEND;TZID=Europe/Paris:20250711T170000
DTSTAMP:20260420T054005
CREATED:20250604T085927Z
LAST-MODIFIED:20250604T100308Z
UID:78351-1749027600-1752253200@www.unicaen.fr
SUMMARY:Braderie solidaire : collecte de dons
DESCRIPTION:Pour les étudiantes et les étudiants\, la rentrée peut être une période particulièrement difficile sur le plan financier\, comme plusieurs études l’ont confirmé ces dernières années. Aussi\, pour lutter contre la précarité et renforcer la solidarité envers la communauté étudiante\, une braderie solidaire sera organisée le 4 septembre 2025 par notre université\, en collaboration avec le CROUS Normandie et en partenariat avec la FCBN et l’AGORAE. \n\n\n\nVous souhaitez faire un don ?\n\n\n\nDifférentes collectes sont organisées dès le mois de mai\, où vous pouvez donner : vêtements et linge de maison (lavés à 60°C si possible\, bien secs et déposés dans sacs fermés)\, livres\, fournitures scolaires\, petits équipements sportifs\, vaisselle\, petit électroménager\, et petits meubles en bon état. \n\n\n\nVos dons peuvent être déposés aux dates suivantes : \n\n\n\n\nle mercredi 11 juin\, lundi 16 juin et vendredi 27 juin\, de 11h30 à 14h\, à Caen\, sur le campus 1\, devant la Maison de la Recherche en Sciences Humaines (MRSH) ;\n\n\n\ndès maintenant et jusqu’au 11 juillet\, à la Bulle (Caen – Campus 1 – bâtiment L’Oxygène)\, de 09h00 à 17h00 du lundi au vendredi\, ou à l’accueil de la Cité U CROUS (Caen – campus 1)\, disponible 24h/24.
URL:https://www.unicaen.fr/evenement/braderie-solidaire-collecte-de-dons/
LOCATION:Caen · Campus 1 · Bâtiment L’Oxygène\, Bâtiment L'Oxygène\, 23 Avenue de Bruxelles\, Caen\, 14000\, France
CATEGORIES:Vie de campus
ATTACH;FMTTYPE=image/jpeg:https://www.unicaen.fr/wp-content/uploads/2025/06/2025-06-04_Braderie-Collecte.jpg
ORGANIZER;CN="Bureau de la vie %C3%A9tudiante (BVE)":MAILTO:bve@unicaen.fr
END:VEVENT
BEGIN:VEVENT
DTSTART;TZID=Europe/Paris:20250610T000000
DTEND;TZID=Europe/Paris:20250704T235959
DTSTAMP:20260420T054005
CREATED:20250506T101227Z
LAST-MODIFIED:20250527T125453Z
UID:77707-1749513600-1751673599@www.unicaen.fr
SUMMARY:Appel du cyber juin
DESCRIPTION:Dans un contexte où les menaces informatiques ne cessent de croître\, exacerbées par des tensions géopolitiques\, de nombreux acteurs publics\, privés et associatifs normands se mobilisent pour promouvoir la cybersécurité autour d’un évènement unique : l’Appel du Cyber Juin. \n\n\n\nPendant quatre semaines\, la Normandie accueillera des conférences\, des ateliers\, des démonstrations et des partages d’expériences et d’innovation auprès de différents publics.
URL:https://www.unicaen.fr/evenement/appel-du-cyber-juin/
ATTACH;FMTTYPE=image/jpeg:https://www.unicaen.fr/wp-content/uploads/2025/05/banniere-webconf-v8.jpg
END:VEVENT
BEGIN:VEVENT
DTSTART;TZID=Europe/Paris:20250629T000000
DTEND;TZID=Europe/Paris:20250704T235959
DTSTAMP:20260420T054005
CREATED:20250221T080559Z
LAST-MODIFIED:20250513T140100Z
UID:74256-1751155200-1751673599@www.unicaen.fr
SUMMARY:Summer school "Advancing Scientific Discovery with AI"
DESCRIPTION:Du 29 juin au 04 juillet 2025\, l’université de Caen Normandie organise sa 2e Summer school sur le thème de l’IA. \n\n\n\nLa 2ᵉ Summer school sur l’IA « Advancing Scientific Discovery with AI » est un programme complet conçu pour explorer l’intersection entre l’intelligence artificielle (IA) et la recherche scientifique. \n\n\n\nCet événement a pour objectif d’offrir aux participants une compréhension approfondie des techniques d’IA et de leur application pour accélérer et améliorer le processus de découverte scientifique dans divers domaines. \n\n\n\nCette Summer school couvrira un large éventail de sujets\, notamment l’apprentissage automatique pour l’analyse de données scientifiques\, la conception et l’optimisation expérimentales pilotées par l’IA\, l’utilisation de modèles génératifs dans les applications scientifiques\, ainsi que l’intégration de l’IA aux simulations physiques et aux cadres théoriques. \n\n\n\nLes participants auront l’opportunité de participer à des ateliers pratiques\, des études de cas et des discussions animées par des experts renommés dans le domaine. L’événement favorisera un environnement collaboratif propice au partage des connaissances et aux échanges interdisciplinaires. \n\n\n\nL’objectif principal de la Summer school est d’équiper les chercheurs\, scientifiques et étudiants des compétences et des connaissances nécessaires pour exploiter la puissance de l’IA dans leurs propres travaux de recherche. \n\n\n\nEn rapprochant l’IA et la découverte scientifique\, cet événement vise à catalyser des avancées majeures et à accélérer le progrès scientifique. \n\n\n\nLe programme s’adresse aux doctorants\, aux post-doctorants et aux chercheurs en sciences.
URL:https://www.unicaen.fr/evenement/summer-school-advancing-scientific-discovery-with-ai/
LOCATION:Caen · Campus 2\, Campus 2\, Avenue de la Côte de Nacre\, Caen\, 14000\, France
CATEGORIES:Journée d'étude,Mobilité internationale,Sciences et technologies
ATTACH;FMTTYPE=image/jpeg:https://www.unicaen.fr/wp-content/uploads/2025/02/IA.jpg
END:VEVENT
BEGIN:VEVENT
DTSTART;TZID=Europe/Paris:20250704T100000
DTEND;TZID=Europe/Paris:20250705T170000
DTSTAMP:20260420T054006
CREATED:20250516T124946Z
LAST-MODIFIED:20250704T070002Z
UID:64455-1751623200-1751734800@www.unicaen.fr
SUMMARY:Visites des campus 1 et 2 à Caen\, les 4 et 5 juillet 2025
DESCRIPTION:Vous êtes futur étudiant ou étudiante à l’université de Caen Normandie\, venez découvrir votre nouveau lieu d’études et de vie étudiante. \n\n\n\nLes vendredi 4 et samedi 5 juillet 2025\, l’université organise des visites guidées de ses campus caennais 1 et 2 ! \n\n\n\nAccompagné par des étudiants et étudiantes\, vous pourrez découvrir les différents espaces afin de mieux vous repérer : amphithéâtres\, salles de cours\, services à l’étudiant\, bibliothèques universitaires\, Maison de l’étudiant\, infrastructures sportives\, restaurants et cafétérias universitaires… \n\n\n\nModalités pratiques\n\n\n\n\nLes vendredi 4 et samedi 5 juillet 2025\, de 10h à 17h – Départ toutes les 30 minutes (10h – 11h – 12h – 13h – 14h – 15h – 16h)\n\n\n\nTemps de visite : il faut compter environ 45 minutes sur le campus 1 et environ 30 minutes sur le campus 2\n\n\n\nLieux de rendez-vous : campus 1 | campus 2\n\n\n\n\nContact\n\n\n\nBesoin d’un renseignement ? Vous pouvez contacter le Bureau de la vie étudiante : bve@unicaen.fr
URL:https://www.unicaen.fr/evenement/visites-des-campus-1-et-2-a-caen-2/
CATEGORIES:Vie de campus
ATTACH;FMTTYPE=image/jpeg:https://www.unicaen.fr/wp-content/uploads/2024/05/Image2-scaled.jpg
END:VEVENT
BEGIN:VEVENT
DTSTART;TZID=Europe/Paris:20250707T140000
DTEND;TZID=Europe/Paris:20250824T180000
DTSTAMP:20260420T054006
CREATED:20250604T152707Z
LAST-MODIFIED:20250604T152710Z
UID:78179-1751896800-1756058400@www.unicaen.fr
SUMMARY:Reconstruire l’avenir à l’université de Caen : itinéraire artistique
DESCRIPTION:En juillet 1944 une bombe s’abat sur l’université\, n’en laissant que des cendres. Pourtant\, dès 1945\, sous l’impulsion des recteurs Robert Mazet puis Pierre Daure\, la reconstruction de l’université de Caen commence. \n\n\n\nL’architecte Henry Bernard\, Premier Grand prix de Rome\, imagine un palais universitaire\, au cœur d’un parc paysager. Ouvert sur la ville\, le campus est pensé pour rassembler les disciplines et favoriser le dialogue entre sciences et sciences humaines\, réunies par une galerie aux piliers gravés de grandes figures normandes et une galerie vitrée conçue comme espace de rencontre et de détente. À l’Aula Magna\, hall d’apparat\, répond la bibliothèque universitaire dont les collections sont reconstituées selon un vaste programme\, mené par Madeleine Dupasquier\, d’acquisitions et de dons venus du monde entier. \n\n\n\nLa statue du phénix de Louis Leygue est installée à l’entrée du campus en 1958. Symbole de renaissance\, l’oiseau mythique annonce également le programme de la reconstruction de l’université : le savoir comme gage de la paix\, la synthèse plutôt que la division. \n\n\n\nCet ambitieux projet immobilier trouve sa continuité dans son programme mobilier. Le designer Jacques Quinet multipliant les variations afin de répondre aux différents usages. Coutumier de l’ébénisterie de luxe\, il réalise pour l’université de Caen sa première série\, utilisant des matériaux plus courants comme le sycomore ou le Formica. Alliant le confort à la beauté\, ce mobilier désormais inscrit à l’inventaire des monuments historiques est toujours utilisé par l’ensemble des publics. \n\n\n\nC’est un itinéraire à travers les premières années de la reconstruction de l’université qui se dessine\, autour des œuvres d’Henry Bernard\, Jacques Quinet\, Yvonne Guégan\, Louis Leygue et Charles-Emile Pinson. \n\n\n\nAu sein de la salle du conseil\, qui porte désormais le nom d’Henry Bernard\, l’exposition se déploie devant le Triptyque du Mont Saint-Michel de Henri-Georges Adam.
URL:https://www.unicaen.fr/evenement/reconstruire-lavenir-a-luniversite-de-caen-itineraire-artistique/
LOCATION:Caen · Campus 1 · Bâtiment P · Salle Henry Bernard\, Bâtiment P\, Esplanade de la Paix\, Caen\, 14000\, France
CATEGORIES:Exposition,Université
ATTACH;FMTTYPE=image/jpeg:https://www.unicaen.fr/wp-content/uploads/2025/06/2025-06-04_Millenaire-expo-mobilier-1.jpg
END:VEVENT
BEGIN:VEVENT
DTSTART;TZID=Europe/Paris:20250709T080000
DTEND;TZID=Europe/Paris:20251017T170000
DTSTAMP:20260420T054006
CREATED:20250820T125304Z
LAST-MODIFIED:20250829T140253Z
UID:80485-1752048000-1760720400@www.unicaen.fr
SUMMARY:Jouons cartes sur table !
DESCRIPTION:En 2022\, 71 géographes et enseignants-chercheurs de l’université de Caen Normandie en partenariat avec le CNRS et la Maison de la Recherche en Sciences Humaines se sont associés pour produire un Atlas social de Caen. Cet ouvrage\, unique en France\, dresse le portrait de la ville à travers une série de cartes à thèmes. Logement et habitat\, santé\, économie\, sport\, culture et loisirs\, accompagnement social… la diversité des thématiques dévoile des facettes méconnues\, parfois surprenantes\, de Caen.  \n\n\n\nL’exposition Jouons cartes sur table est le fruit de ce travail universitaire\, destiné à être connu de tous. Venez en apprendre toujours plus sur votre ville ! \n\n\n\n20 panneaux sont à découvrir dans le bâtiment A du campus de Caen. L’exposition se terminera par une conférence conclusive.
URL:https://www.unicaen.fr/evenement/jouons-cartes-sur-table/
LOCATION:Caen · INSPÉ\, INSPÉ Caen Normandie\, 186 Rue de la Délivrande\, Caen\, 14000\, France
CATEGORIES:Exposition
ATTACH;FMTTYPE=image/jpeg:https://www.unicaen.fr/wp-content/uploads/2025/08/atlas_social_Mise_en_avant.jpg
END:VEVENT
BEGIN:VEVENT
DTSTART;TZID=Europe/Paris:20250727T190000
DTEND;TZID=Europe/Paris:20250731T140000
DTSTAMP:20260420T054006
CREATED:20250115T121140Z
LAST-MODIFIED:20250703T083905Z
UID:79318-1753642800-1753970400@www.unicaen.fr
SUMMARY:Un mystère à Carentan : Le Saint Julien retrouvé (1529)
DESCRIPTION:Tout part de la découverte d’un exemplaire imprimé du Mystère de Saint Julien\, pièce représentée à Carentan (Normandie) en 1529-1530. La trouvaille est spectaculaire\, puisqu’on pouvait avoir le sentiment que toutes les pièces de ce genre avaient été dénichées\, éditées et analysées. Il s’agit donc d’un évènement majeur pour l’histoire du théâtre français. \n\n\n\nÀ Cerisy\, ce mystère atypique fera l’objet d’une étude littéraire et historique visant à éclairer son contexte de production\, son ancrage dans la vie culturelle\, mais aussi à révéler ses enjeux dramaturgiques et linguistiques. Fort d’une ambition interdisciplinaire\, le colloque se distinguera par son ouverture : à travers la rencontre entre public et spécialistes\, il sera l’occasion de penser les conditions de représentation du mystère et d’éclairer la vie culturelle en Normandie à la fin du Moyen Âge. Des tables rondes\, des performances musicales et dramatiques ponctueront les quatre jours. \n\n\n\nAffiche ()Télécharger ()
URL:https://www.unicaen.fr/evenement/un-mystere-a-carentan-le-saint-julien-retrouve-1529/
LOCATION:Cerisy-la-salle et Caen\, Caen\, France
CATEGORIES:Congrès - Colloque,Sciences humaines et sociales
ATTACH;FMTTYPE=image/jpeg:https://www.unicaen.fr/wp-content/uploads/2025/07/UNICAEN_LASLAR_Illustration_Colloque_Mystere_a_Carentan_CCIC.jpg
END:VEVENT
BEGIN:VEVENT
DTSTART;TZID=Europe/Paris:20250729T090000
DTEND;TZID=Europe/Paris:20250814T183000
DTSTAMP:20260420T054006
CREATED:20250623T095740Z
LAST-MODIFIED:20250702T090116Z
UID:78981-1753779600-1755196200@www.unicaen.fr
SUMMARY:Ouverture de salles de travail pendant la pause estivale
DESCRIPTION:Pendant la période de fermeture administrative de l’université\, les étudiantes et les étudiants pourront bénéficier de l’ouverture d’un lieu d’étude mais aussi de détente sur le campus 5\, au bâtiment Pharma\, à Caen.  \n\n\n\nDes ouvrages seront mis à disposition par la BU Madeleine Brès\, notamment pour les étudiantes et étudiants en médecine préparant les examens ayant lieu en début d’année universitaire.  \n\n\n\nL’espace est ouvert au public étudiant de l’UFR Santé devant réviser leurs concours et examens sur la période estivale\, mais également à toute la communauté étudiante de l’université de Caen Normandie\, dans la limite des places disponibles.  \n\n\n\nSeront également mis à disposition des bouilloires\, cafetières\, poufs et micro-ondes pour déjeuner et se détendre.  \n\n\n\nLes locaux seront accessibles du mardi 29 juillet au jeudi 14 août compris\, de 9h à 18h30\, du lundi au vendredi.
URL:https://www.unicaen.fr/evenement/ouverture-de-salles-de-travail-pendant-la-pause-estivale-2/
LOCATION:Caen · Campus 5 · UFR des Sciences Pharmaceutiques\, UFR des Sciences Pharmaceutiques Caen Bd Henri Becquerel\, Caen\, 14032\, France
CATEGORIES:Formation,Vie de campus
ATTACH;FMTTYPE=image/jpeg:https://www.unicaen.fr/wp-content/uploads/2024/05/actu-WP-salle-travail.jpg
ORGANIZER;CN="Bureau de la vie %C3%A9tudiante (BVE)":MAILTO:bve@unicaen.fr
END:VEVENT
END:VCALENDAR