BEGIN:VCALENDAR
VERSION:2.0
PRODID:-//Université de Caen Normandie - ECPv6.15.18//NONSGML v1.0//EN
CALSCALE:GREGORIAN
METHOD:PUBLISH
X-WR-CALNAME:Université de Caen Normandie
X-ORIGINAL-URL:https://www.unicaen.fr
X-WR-CALDESC:Évènements pour Université de Caen Normandie
REFRESH-INTERVAL;VALUE=DURATION:PT1H
X-Robots-Tag:noindex
X-PUBLISHED-TTL:PT1H
BEGIN:VTIMEZONE
TZID:Europe/Paris
BEGIN:DAYLIGHT
TZOFFSETFROM:+0100
TZOFFSETTO:+0200
TZNAME:CEST
DTSTART:20220327T010000
END:DAYLIGHT
BEGIN:STANDARD
TZOFFSETFROM:+0200
TZOFFSETTO:+0100
TZNAME:CET
DTSTART:20221030T010000
END:STANDARD
BEGIN:DAYLIGHT
TZOFFSETFROM:+0100
TZOFFSETTO:+0200
TZNAME:CEST
DTSTART:20230326T010000
END:DAYLIGHT
BEGIN:STANDARD
TZOFFSETFROM:+0200
TZOFFSETTO:+0100
TZNAME:CET
DTSTART:20231029T010000
END:STANDARD
BEGIN:DAYLIGHT
TZOFFSETFROM:+0100
TZOFFSETTO:+0200
TZNAME:CEST
DTSTART:20240331T010000
END:DAYLIGHT
BEGIN:STANDARD
TZOFFSETFROM:+0200
TZOFFSETTO:+0100
TZNAME:CET
DTSTART:20241027T010000
END:STANDARD
END:VTIMEZONE
BEGIN:VEVENT
DTSTART;TZID=Europe/Paris:20230509T000000
DTEND;TZID=Europe/Paris:20230904T235959
DTSTAMP:20260425T211523
CREATED:20230509T100201Z
LAST-MODIFIED:20230905T142718Z
UID:47811-1683590400-1693871999@www.unicaen.fr
SUMMARY:Cabu\, dessinateur-citoyen
DESCRIPTION:Cette exposition qui rend hommage au célèbre caricaturiste\, est l’occasion à travers ses dessins de se pencher sur l’histoire de la caricature et de la liberté de la presse en France. \nRéalisée par Le Musée du Vivant-AgroParisTech\, en partenariat avec Canopé\, La Ligue de l’Enseignement et le Clémi\, cette exposition nous propose de découvrir une facette méconnue de Cabu. \nEn effet Jean Cabut a fait don au Musée du Vivant-AgroParisTech\, premier musée international sur l’écologie et le développement durable\, de plus de 600 dessins originaux sur l’agriculture\, la nature et l’écologie. \nExposition gratuite\, ouverte à toutes et à tous pendant les horaires d’ouverture de la bibliothèque
URL:https://www.unicaen.fr/evenement/cabu-dessinateur-citoyen/
CATEGORIES:Exposition,Vie de campus
ATTACH;FMTTYPE=image/jpeg:https://www.unicaen.fr/wp-content/uploads/2023/05/cabu-1000-400.jpg
END:VEVENT
BEGIN:VEVENT
DTSTART;TZID=Europe/Paris:20230626T080000
DTEND;TZID=Europe/Paris:20230701T170000
DTSTAMP:20260425T211523
CREATED:20221214T081532Z
LAST-MODIFIED:20240904T071509Z
UID:40888-1687766400-1688230800@www.unicaen.fr
SUMMARY:31es rencontres arithmétiques de Caen
DESCRIPTION:Les rencontres arithmétiques de Caen ont acquis une réputation internationale depuis plusieurs années. \nLes Rencontres 2023 auront lieu sur l’île de Tatihou (Manche) sur le thème Théorie d’Arakelov et Géométrie Diophantienne. \nObjectifs principaux : \n\nréunir des experts internationaux pour favoriser de nouvelles avancées sur les applications de la géométrie d’Arakelov en géométrie diophantienne\npermettre à des jeunes chercheurs et chercheuses de découvrir les riches interactions entre ces deux domaines\, via deux mini-cours autour de la théorie d’Arakelov\n\nProgramme \nPublic visé : spécialistes\, chercheurs et étudiants \nResponsables scientifiques : François Ballaÿ et Martin Weimann \nContact : Martin Weimann | martin.weimann@unicaen.fr
URL:https://www.unicaen.fr/evenement/31es-rencontres-arithmetiques-de-caen/
CATEGORIES:Congrès - Colloque,Sciences et technologies
END:VEVENT
BEGIN:VEVENT
DTSTART;VALUE=DATE:20230704
DTEND;VALUE=DATE:20230707
DTSTAMP:20260425T211523
CREATED:20230106T084802Z
LAST-MODIFIED:20240719T141834Z
UID:41372-1688428800-1688687999@www.unicaen.fr
SUMMARY:Société Française d'électrostatique
DESCRIPTION:Organisée par le LUSAC · EA 4253 \nNombreux sont ceux qui pensent que l’électrostatique est une science mystérieuse qui fait hérisser les cheveux sur la tête des gens ! Certes\, mais un photocopieur ou une imprimante à jet d’encre\, fonctionnent aussi sur le même principe. Finalement cette science est présente dans des applications de tous les jours et bien souvent… on l’ignore ! \nL’électrostatique étudie les interactions entre les charges électriques d’un objet en considérant qu’elles sont quasiment immobiles aux yeux de l’observateur. Ces phénomènes sont visibles de l’humanité depuis la nuit des temps : la foudre en est le plus bel exemple. Mais dès l’antiquité\, les Grecs avaient remarqué qu’un morceau d’ambre préalablement frotté contre un tissu attirait des matériaux légers qui venaient se coller dessus. Ce phénomène est aujourd’hui parfaitement décrit par l’électrostatique. Le mot grec désignant l’ambre\, ήλεκτρον\, (« électron ») a servi de racine pour nommer la particule élémentaire constituant les atomes. Il est à l’origine de nombreuses disciplines scientifiques donc on peut penser que l’électrostatique est la mère de toutes les sciences liées à l’électricité. L’électrostatique se trouve à toutes les échelles et dans de nombreux domaines\, qu’ils soient naturels ou industriels. \nLe Laboratoire Universitaire des Sciences Appliquées de Cherbourg mène des sujets de recherche liés à l’électrostatique en étroite collaboration avec des industriels (ACOME\, EXXELIA\, …). Citons par exemple le stockage de l’énergie électrique et le transport de l’énergie électrique : \n\nLe condensateur est un composant essentiel de l’électricité. Sa fonction est de stocker l’énergie électrique sur ses électrodes. Ses performances dépendent essentiellement des propriétés électrostatiques des matériaux le constituant\nLe « super condensateur » voit sa capacité de stockage décuplée grâce à la double couche électrostatique présente sur ses armatures\nLa gaine isolante d’un câble électrique répond aux exigences d’un cahier des charges sévère.\n\nCe sont des critères électrostatiques qui permettent de déterminer ces paramètres. Mais on retrouve de l’électrostatique dans d’autres secteurs liés à l’environnement tels que la dépollution des fumées\, la purification de l’air ou le tri sélectif pour recyclage des matières plastiques\,… \nEn effet\, un filtre électrostatique est un système qui élimine activement les poussières et les fumées contenues dans un gaz. Les particules à éliminer sont chargées électriquement puis dirigées vers une électrode au moyen d’un champ électrique pour y être collectées. C’est un système très efficace qui ne colmate pas. De même\, les granulés de plastique issus des broyats de déchèteries sont séparés en fonction de leurs différentes formulations grâce à un procédé de tri électrostatique. \nL’électrostatique intervient aussi dans la prévention des risques industriels. Lorsque l’on frotte deux matériaux entre eux\, des charges électriques s’accumulent à la surface des objets et peuvent atteindre un niveau tel qu’elles provoquent une décharge électrique (une étincelle). Si cela se produit dans une atmosphère explosive\, elle peut être à l’origine d’une inflammation ou même d’une explosion. Ce phénomène peut avoir lieu dans différentes circonstances : passage d’un liquide dans une canalisation\, transfert de produit en vrac ou en poudre\, impacts de particules sur la paroi d’un séparateur\, déplacement d’une personne sur le sol\,… \nPlus un corps est isolant\, plus il accumule des charges. Beaucoup d’industries sont concernées même celles dont on ne se douterait pas : la manipulation d’une puce électronique sans précaution peut la détruire à cause des décharges électrostatiques provoquées en son cœur ! Enfin\, l’électrostatique est présente dans des phénomènes naturels météorologiques qui terrifient encore aujourd’hui l’humanité: un nuage d’orage accumule des charges électriques à différentes altitudes qui se libèrent brutalement en formant la foudre. \nC’est toute la raison d’être de la Société Française d’Electrostatique\, société savante créée il y a 25 ans. Elle regroupe des enseignants\, des chercheurs et des industriels concernés par l’électrostatique et organise tous les deux ans une conférence francophone dans une ville universitaire où cette discipline fait l’objet de travaux de recherche. Ainsi Poitiers\, Montpellier\, Toulouse\, Grenoble\, Paris et Cherbourg ont régulièrement accueilli une édition de cette conférence. \nResponsable scientifique : Jean-Michel Reboul \nPublic visé : spécialistes\, chercheurs et étudiants \nContact : Jean-Michel Reboul | 02 33 01 42 15 | jean-michel.reboul@unicaen.fr
URL:https://www.unicaen.fr/evenement/societe-francaise-delectrostatique/
LOCATION:Cherbourg-en-Cotentin · Campus universitaire · Bâtiment Licence\, Campus universitaire de Cherbourg\, Chemin des Roquettes\, Cherbourg-en-Cotentin\, 50130\, France
CATEGORIES:Conférence,Recherche
END:VEVENT
BEGIN:VEVENT
DTSTART;TZID=Europe/Paris:20230704T190000
DTEND;TZID=Europe/Paris:20230704T200000
DTSTAMP:20260425T211523
CREATED:20230630T085720Z
LAST-MODIFIED:20240719T083335Z
UID:49463-1688497200-1688500800@www.unicaen.fr
SUMMARY:Prépa Talents Normands : les administrations recrutent !
DESCRIPTION:Avez-vous pensé aux concours de la fonction publique ? Aujourd’hui\, ce sont pas moins de 60 000 postes qui sont à pourvoir dans les administrations françaises. \nLa Faculté de Droit\, Administration économique et sociale & Administration publique de l’université de Caen Normandie ouvrira à nouveau en septembre prochain une classe préparatoire « Talents du service public » plus particulièrement dédiée à la préparation de certains concours de catégorie A (Attaché d’administration de l’État (IRA) et Inspecteur des Finances publiques) et de plusieurs concours de catégorie B (contrôleur des douanes\, contrôleur des finances publiques\, contrôleur de la DGCCRF\, secrétaire administratif). \nCette classe préparatoire\, dénommée Prépa Talents Normands\, est adossée à la 3ème année de la Licence Administration publique et portée par l’Institut des Métiers du Droit et de l’Administration (IMDA). \nDelphine\, ancienne étudiante\, témoigne de son expérience : « Cette formation m’a permis de préciser mon projet professionnel\, surtout en échangeant avec les différents intervenants\, et de gagner en connaissances : droit administratif\, finances publiques et fonctionnement de l’État. » Lire la suite. \nVenez poser vos questions et vous renseigner lors de la visioconférence organisée lemardi 4 juillet 2023 à 19h – Lien de connexion \nLes atouts de la Prépa Talents Normands\n\nUne équipe pédagogique formée d’universitaires et d’agents publics tant pour les enseignements académiques que pour les enseignements professionnalisants\nUne préparation diplômante\nUne préparation renforcée avec des conférences d’actualité (s’ajoutant aux enseignements de culture générale déjà dispensés) et des épreuves d’entrainement supplémentaires aux épreuves d’admissibilité et d’admission des concours visés par la Prépa Talents Normands\nUn tutorat renforcé par un professionnel référent\nUn suivi individuel par un enseignant référent\nUn soutien financier pendant la formation avec une bourse de 4000 euros\nUn dispositif « Réussite à retardement » (accompagnement poursuivi en année n+1 pour les préparationnaires ne réussissant pas les concours la première année).\n\nSaisissez cette chance et candidatez pour rejoindre la Prépa Talents Normands ! \nCandidature\nLe dossier de candidature à la Prépa Talents Normands est disponible sur la plateforme eCandidat.Le dossier de candidature à la Prépa Talents Normands devra être déposé (et intégralement renseigné) sur la plateforme eCandidat au plus tard le vendredi 7 juillet 2023.Les sélections se feront sous conditions de diplôme et de ressources\, sur la base d’un dossier et d’un entretien. \nVenez poser vos questions et vous renseigner lors de la visioconférence organisée le mardi 4 juillet à 19h : lien de connexion.
URL:https://www.unicaen.fr/evenement/prepa-talents-normands-les-administrations-recrutent-2/
LOCATION:Caen · Campus 1 · Bâtiment B · Espace Orientation Insertion (EOI)\, Bâtiment B\, Esplanade de la Paix\, Caen\, 14000\, France
CATEGORIES:Conférence,Formation,Orientation
ORGANIZER;CN="UFR droit%2C administration %C3%A9conomique et sociale et administration publique":MAILTO:droit.secretariat@unicaen.fr
END:VEVENT
BEGIN:VEVENT
DTSTART;TZID=Europe/Paris:20230705T000000
DTEND;TZID=Europe/Paris:20230708T235959
DTSTAMP:20260425T211524
CREATED:20230531T100158Z
LAST-MODIFIED:20250307T090610Z
UID:48059-1688515200-1688860799@www.unicaen.fr
SUMMARY:Visites des campus 1 et 2
DESCRIPTION:Vous êtes futur étudiant à l’université de Caen Normandie\, venez découvrir votre nouveau lieu d’études. \n\n\n\nDu mercredi 5 au samedi 8 juillet 2023\, l’université organise des visites guidées de ses campus caennais 1 et 2 ! \n\n\n\nAccompagné par des étudiants\, vous pourrez découvrir les différents espaces afin de mieux vous repérer : formations\, services à l’étudiant\, bibliothèques universitaires\, Maison de l’étudiant\, infrastructures sportives\, restaurant universitaire… La région Normandie sera également présente pour vous renseigner sur le dispositif Atouts Normandie.  \n\n\n\nModalités pratiques\n\n\n\n\ngroupe de 20 personnes maximum\n\n\n\n45 minutes de visite\n\n\n\ninscription obligatoire\n\n\n\nlieux de rendez-vous : campus 1 | campus 2\n\n\n\n\nAccédez aux différents formulaires d’inscription\n\n\n\nDu mercredi au vendredi\, départ toutes les heures de 10h à 17h | samedi : départ toutes les 30 minutes de 10h à 17h. \n\n\n\n\nCaen – campus 1\n\n\n\nCaen – campus 2
URL:https://www.unicaen.fr/evenement/visites-des-campus-1-et-2/
LOCATION:Caen\, Caen\, 14000\, France
CATEGORIES:Vie de campus
ATTACH;FMTTYPE=image/png:https://www.unicaen.fr/wp-content/uploads/2023/05/Sans-titre-1.png
END:VEVENT
BEGIN:VEVENT
DTSTART;TZID=Europe/Paris:20230705T133000
DTEND;TZID=Europe/Paris:20230705T170000
DTSTAMP:20260425T211524
CREATED:20221209T153137Z
LAST-MODIFIED:20221209T153137Z
UID:40790-1688563800-1688576400@www.unicaen.fr
SUMMARY:Permanences d’accès au droit
DESCRIPTION:Le Conseil départemental de l’accès au droit du Calvados (CDAD 14) tient\, chaque mois\, deux permanences à la bibliothèque universitaire Pierre Sineux\, sur le campus 1 de l’université. Ces permanences sont l’occasion de rencontrer des professionnels assistés d’étudiants stagiaires en Droit\, pour obtenir informations et conseils. \nGratuites\, ces permanences sont ouvertes aux étudiants et personnels UNICAEN\, mais également à toute personne extérieure à l’université. \nEn pratique\nEn salle 0 les mercredis de 13h30 à 17h\naccessibles avec ou sans rendez-vous\n \n\nContact ·  CDAD\nPour demander un rendez-vous ou exposer sa question / son problème juridique\n02 50 10 13 07 · contact@cdad14.fr\nen indiquant son numéro de téléphone et ses disponibilités pour pouvoir être recontacté \nouvert du lundi au vendredi de 9h à 12h et de 13h30 à 16h30
URL:https://www.unicaen.fr/evenement/permanences-dacces-au-droit-17/
LOCATION:Caen · Campus 1 · BU Pierre-Sineux\, Bibliothèque Universitaire Pierre-Sineux\, Esplanade de la Paix\, Caen\, 14000\, France
CATEGORIES:Vie de campus
ATTACH;FMTTYPE=image/jpeg:https://www.unicaen.fr/wp-content/uploads/2022/10/Permanences-droit-1000-400.jpg
END:VEVENT
BEGIN:VEVENT
DTSTART;TZID=Europe/Paris:20230706T000000
DTEND;TZID=Europe/Paris:20230709T235959
DTSTAMP:20260425T211524
CREATED:20230515T152013Z
LAST-MODIFIED:20230515T152159Z
UID:47519-1688601600-1688947199@www.unicaen.fr
SUMMARY:Currents in the Periodical Press — Congrès 2023 de la Research Society for Victorian Periodicals
DESCRIPTION:La Research Society for Victorian Periodicals (RSVP) est une association internationale spécialisée dans la presse anglophone du long dix-neuvième siècle. Située à la croisée de plusieurs champs d’investigation scientifique\, elle rassemble des spécialistes issus de disciplines telles que la littérature\, l’histoire\, les études culturelles ou encore les études médiatiques.  \n\n\n\nDepuis sa création à la fin des années 1960\, la RSVP organise un congrès annuel qui regroupe une centaine de chercheurs du monde entier et s’étale sur quatre jours : une journée d’accueil des participants\, deux jours consacrés aux ateliers et conférences plénières et une journée de découverte de la région d’accueil. Sur proposition de Françoise Baillet (UR2610 ERIBIA)\, l’université de Caen Normandie a été retenue comme site du congrès 2023\, sur le thème « Currents in the Periodical Press ». C’est là une première\, non seulement au niveau régional mais également au plan national puisque la France n’a encore jamais accueilli cette manifestation qui regroupera cette année plus de cent participants issus de 18 pays et de 4 continents.  \n\n\n\nSubstantiel\, le programme scientifique s’articule autour de six sessions de cinq ateliers simultanés\, chacun de ces ateliers regroupant trois à quatre communicants. Temps forts de la manifestation\, les conférences plénières Wolff et Colby donneront à tous l’opportunité d’entendre des chercheurs chevronnés à la renommée internationale : les professeures Alison Chapman (University of Victoria) et Jenny Batchelor (University of Kent)\, qui présenteront leurs travaux les plus récents.
URL:https://www.unicaen.fr/evenement/currents-in-the-periodical-press-congres-2023-de-la-research-society-for-victorian-periodicals/
LOCATION:Caen · Campus 1\, Université de Caen Normandie\, Espanade de la Paix\, Caen\, 14000\, France
CATEGORIES:Congrès - Colloque,Sciences humaines et sociales
ATTACH;FMTTYPE=image/jpeg:https://www.unicaen.fr/wp-content/uploads/2023/05/congres_Research-society-Victorian-periodicals.jpg
END:VEVENT
BEGIN:VEVENT
DTSTART;TZID=Europe/Paris:20230710T140000
DTEND;TZID=Europe/Paris:20230710T153000
DTSTAMP:20260425T211524
CREATED:20230630T144619Z
LAST-MODIFIED:20230630T144620Z
UID:49487-1688997600-1689003000@www.unicaen.fr
SUMMARY:La synthèse inclusive de l’évolution\, l’hérédité au-delà du gène égoïste
DESCRIPTION:Conférence de Etienne Danchin\, spécialiste de l’évolution du comportement et de l’hérédité non génétique  \n\n\n\nL’hérédité est une des pierres angulaires de la notion d’évolution du vivant. Sans elle point d’évolution et donc point de vie possible. Aujourd’hui\, la vision de l’évolution qui est classiquement enseignée dans toutes les universités et écoles du monde est appelée la Synthèse Moderne de l’Évolution. Celle-ci repose sur l’idée centrale que l’hérédité résulte essentiellement\, pour ne pas dire exclusivement\, de la transmission de l’information encodée dans la séquence de l’ADN (une vision appelée la séquencique). Dans cet exposé sera présenté une série d’exemples bien documentés pour lesquelles il est aujourd’hui avéré que l’hérédité n’est pas uniquement de nature séquencique\, loin de là. L’auteur tentera de faire ressortir ce que l’existence de tel processus d’hérédité non génétique\, et particulièrement d’hérédité épigénétique et culturelle\, peut potentiellement changer dans notre conception de l’évolution. Il nous expliquera ensuite en quoi il nous faut aujourd’hui faire évoluer notre conception de l’évolution vers une vision plus intégrative et plus complexe\, vision que l’auteur se propose d’appeler la Synthèse Inclusive de l’Évolution. L’existence de l’hérédité non génétique est particulièrement importante pour la médecine humaine\, car elle peut conduire à drastiquement changer toutes les recherches dans ce domaine. \n\n\n\nEtienne Danchin est ancien élève de l’école normale supérieure de la rue d’Ulm\, agrégé de biologie\, directeur de recherche émérite au CNRS. Il est spécialiste de l’évolution du comportement et de l’hérédité non génétique et a dirigé le laboratoire “Évolution & Diversité Biologique” (EDB) à Toulouse ainsi que le projet LabEx TULIP qui propose de mettre concrètement en oeuvre la Synthèse inclusive de l’évolution en Occitanie.
URL:https://www.unicaen.fr/evenement/la-synthese-inclusive-de-levolution-lheredite-au-dela-du-gene-egoiste/
LOCATION:Caen · Campus 5 · PFRS (Pôle des formations et de recherche en santé)\, UFR Santé\, 2 Rue des Rochambelles\, Caen\, 14032\, France
CATEGORIES:Conférence,Recherche
ORGANIZER;CN="Neuropsychologie et imagerie de la m%C3%A9moire humaine (NIMH%2C UMRS 1077)":MAILTO:valerie.lefranc@unicaen.fr
END:VEVENT
END:VCALENDAR