BEGIN:VCALENDAR
VERSION:2.0
PRODID:-//Université de Caen Normandie - ECPv6.15.18//NONSGML v1.0//EN
CALSCALE:GREGORIAN
METHOD:PUBLISH
X-WR-CALNAME:Université de Caen Normandie
X-ORIGINAL-URL:https://www.unicaen.fr
X-WR-CALDESC:Évènements pour Université de Caen Normandie
REFRESH-INTERVAL;VALUE=DURATION:PT1H
X-Robots-Tag:noindex
X-PUBLISHED-TTL:PT1H
BEGIN:VTIMEZONE
TZID:Europe/Paris
BEGIN:DAYLIGHT
TZOFFSETFROM:+0100
TZOFFSETTO:+0200
TZNAME:CEST
DTSTART:20210328T010000
END:DAYLIGHT
BEGIN:STANDARD
TZOFFSETFROM:+0200
TZOFFSETTO:+0100
TZNAME:CET
DTSTART:20211031T010000
END:STANDARD
BEGIN:DAYLIGHT
TZOFFSETFROM:+0100
TZOFFSETTO:+0200
TZNAME:CEST
DTSTART:20220327T010000
END:DAYLIGHT
BEGIN:STANDARD
TZOFFSETFROM:+0200
TZOFFSETTO:+0100
TZNAME:CET
DTSTART:20221030T010000
END:STANDARD
BEGIN:DAYLIGHT
TZOFFSETFROM:+0100
TZOFFSETTO:+0200
TZNAME:CEST
DTSTART:20230326T010000
END:DAYLIGHT
BEGIN:STANDARD
TZOFFSETFROM:+0200
TZOFFSETTO:+0100
TZNAME:CET
DTSTART:20231029T010000
END:STANDARD
END:VTIMEZONE
BEGIN:VEVENT
DTSTART;VALUE=DATE:20220829
DTEND;VALUE=DATE:20221014
DTSTAMP:20260422T212340
CREATED:20220530T061745Z
LAST-MODIFIED:20220914T074009Z
UID:30768-1661731200-1665705599@www.unicaen.fr
SUMMARY:Le cabas normand
DESCRIPTION:La BU Olympe-de-Gouges vous propose de découvrir l’univers de Patrice Olivier\, photographe passionné. Pour cette exposition Patrice Olivier est parti à la rencontre de producteurs en circuits courts du département de l’Orne. Pour vous faire partager leurs quotidiens\, il a vécu ces rencontres de l’intérieur au rythme de leurs activités. Il a fait le choix de la photo en noir et blanc pour une interprétation de la réalité plus personnelle et plus engagée. Cette approche lui a permis de privilégier l’humain\, son savoir-faire et la précision de ses gestes. \nContact\n bibliotheque@unicaen.fr | ludivine.jehan@unicaen.fr
URL:https://www.unicaen.fr/evenement/le-cabas-normand-2/
LOCATION:Alençon · BU Olympe-de-Gouges\, Bibliothèque universitaire Olympe-de-Gouges\, Montfoulon\, Damigny\, 61250\, France
CATEGORIES:Exposition
ATTACH;FMTTYPE=image/jpeg:https://www.unicaen.fr/wp-content/uploads/2022/05/Photo-de-Patrice-Olivier.jpg
END:VEVENT
BEGIN:VEVENT
DTSTART;VALUE=DATE:20220913
DTEND;VALUE=DATE:20221108
DTSTAMP:20260422T212340
CREATED:20220824T123208Z
LAST-MODIFIED:20221021T135858Z
UID:34229-1663027200-1667865599@www.unicaen.fr
SUMMARY:La fée électricité\, un nouvel éclairage sur les collections de physique
DESCRIPTION:Exposition\nDu 13 septembre au 7 novembre 2022 \nConnaissez-vous La Fée électricité ? Cette fresque monumentale réalisée par Raoul Dufy en 1937 est conservée au Musée d’art moderne de la Ville de Paris\, mais vous pouvez aussi la découvrir à la bibliothèque Rosalind Franklin qui en possède un tirage lithographique exceptionnel. Véritable condensé d’histoire des sciences\, cette œuvre rend hommage aux savants et ingénieurs qui ont contribué à la construction des connaissances scientifiques et à leurs applications. \nEn partenariat avec Résitech\, venez (re)découvrir cette histoire au prisme des collections d’instruments issues de l’INSPE : galvanomètres\, bouteilles de Leyde et machine électrostatique n’auront plus de secrets pour vous ! \nContact\nbu.rosalind-franklin@unicaen.fr | culture@unicaen.fr
URL:https://www.unicaen.fr/evenement/la-fee-electricite-un-nouvel-eclairage-sur-les-collections-de-physique/
LOCATION:Caen · Campus 2 · BU Rosalind-Franklin\, BU Rosalind-Franklin\, Campus 2\, Côte de Nacre\, Boulevard Maréchal Juin\, Caen\, 14032\, France
CATEGORIES:Exposition,Fête de la science
END:VEVENT
BEGIN:VEVENT
DTSTART;VALUE=DATE:20220919
DTEND;VALUE=DATE:20221020
DTSTAMP:20260422T212340
CREATED:20220913T072148Z
LAST-MODIFIED:20240719T090506Z
UID:35014-1663545600-1666223999@www.unicaen.fr
SUMMARY:2984 Big Brother still watching you
DESCRIPTION:2984  » Big Brother Still Watching You  » Adaptation photographique du roman de George Orwell 1984. \nProjet pédagogique mené avec les étudiants de deuxième année en Arts du Spectacle (2LART1-2LART2) sous la direction de Vincent Deslandes\, le but étant d’aborder les thématiques de réalisation d’un long métrage\, repérage des lieux\, installation des décors\, gestion des accessoires et d’approcher au près des conditions réelles du tournage et de la mise en scène. La quasi totalité des prises de vue ont été réalisées sur le site du campus 1 de l’université de Caen\, le principe étant de recontextualiser le lieu dans l’univers de George Orwell. \n2984 CINEXPO est le résultat graphique de ce travail. \nVernissage de l’exposition lundi 19 septembre à 18h\, hall du bâtiment G\, Caen campus 1 \nLe vernissage sera suivi d’un Ciné-Concert réalisé par « The eye of time » projet électro-acoustique du multi-instrumentiste Marc Euvrie à 19h\, dans la salle de spectacle de la Maison de l’étudiant\, Caen campus 1. \n 
URL:https://www.unicaen.fr/evenement/2984-big-brother-still-watching-you/
LOCATION:Caen · Campus 1 · Bâtiment G\, Centre de formation aux carrières des bibliothèques de Caen\, Caen\, 14000\, France
CATEGORIES:Exposition,Musique - Concert,Projection - Cinéma
ATTACH;FMTTYPE=image/jpeg:https://www.unicaen.fr/wp-content/uploads/2022/09/Affiche-2984.jpg
END:VEVENT
BEGIN:VEVENT
DTSTART;VALUE=DATE:20220929
DTEND;VALUE=DATE:20221003
DTSTAMP:20260422T212340
CREATED:20220113T144506Z
LAST-MODIFIED:20230119T144505Z
UID:24525-1664409600-1664755199@www.unicaen.fr
SUMMARY:Mycologiades internationales de Bellême 2022
DESCRIPTION:Les 70es Mycologiades internationales de Bellême · MIB 2022 sont ouvertes au grand public\, aux chercheuses et chercheurs en mycologie\, aux mycologues\, aux pharmaciens\, aux médecins\, aux étudiants en permettant leur rencontre autour du thème des champignons et d’échanger les compétences et les savoirs sur le terrain ou en salle (microscopie) du point de vue de la systématique\, de la mycotoxicologie\, de l’histoire de la mycologie ou de l’ethnomycologie. \nDes sorties guidées en forêt\, des conférences\, une exposition des espèces récoltées\, des ateliers (confusions\, champignons toxiques\, odeurs\, lichens\, …) sont proposés à toutes et à tous. Venez à Bellême (Orne) découvrir tout ce que vous avez toujours voulu savoir sur le monde extraordinaire des champignons sans jamais oser le demander. \nEn 2022 des mycologues de haut niveau et de renommée internationale vous présenteront des conférences illustrées sur les champignons hypogés (Pascal Chautrand\, spécialiste des champignons souterrains); sur la symbiose (Marc-André Sélosse\, Professeur au MNHN) ou encore sur les travaux du Professeur Roger Heim qui fut mycologue et naturaliste (M. Vincent Verroust\, doctorant à l’EHESS). \nLes Mycologiades internationales de Bellême vous permettront d’explorer les belles futaies de chêne du Perche\, de pénétrer dans des sous-bois d’une richesse exceptionnelle en champignons et surtout de participer à ce qui fait la renommée des Mycologiades depuis 70 ans : l’esprit de Bellême\, où chacun participe à la connaissance et à l’avancement de la science mycologique ! \nChaque participant trouvera dans les différents groupes des animateurs scientifiques et pédagogiques qui pourront leur apporter la connaissance en fonction de leur niveau. La riche biodiversité fongique de la forêt de Bellême et des bois des environs permet de faire figurer entre 400 et 600 espèces déterminées par des spécialistes chaque année\, en fonction du climat. \nContact :\nCOMIB\nHôtel de Ville de Bellême\nPlace d ela République\n61130 BELLÊME \nou Dr. RIOULT Jean-Philippe\nFaculté des sciences pharmaceutiques\nUFR Santé\nUniversité de Caen Normandie\n14032 CAEN Cedex
URL:https://www.unicaen.fr/evenement/mycologiades-internationales-de-belleme-2022/
CATEGORIES:Biologie intégrative, imagerie, santé, environnement,Congrès - Colloque,Recherche
END:VEVENT
BEGIN:VEVENT
DTSTART;VALUE=DATE:20221003
DTEND;VALUE=DATE:20221029
DTSTAMP:20260422T212340
CREATED:20220913T145214Z
LAST-MODIFIED:20220922T092907Z
UID:35126-1664755200-1667001599@www.unicaen.fr
SUMMARY:Sciences en bulles
DESCRIPTION:Découvrez la science en bande dessinée ! 10 doctorants et doctorantes se sont prêtés au jeu de la vulgarisation dessinée pour cette troisième version de Sciences en Bulles : une aventure originale de vulgarisation scientifique. Ils ont réalisé un travail de mise en récit et en image de leur thèse avec les illustrateurs Peb & Fox. \nDes thèses de biomécanique\, sociologie\, virologie\, géologie\, physique\, chimie\, environnement… y sont mises en images avec un ton délibérément décalé. \nEntrée libre (selon les horaires d’ouverture de la Bibliothèque universitaire) \nContact\nbibliotheque@unicaen.fr \nangele.anicot@unicaen.fr \n02 33 01 46 50
URL:https://www.unicaen.fr/evenement/sciences-en-bulles/
LOCATION:Cherbourg-en-Cotentin · BU Blanche-Maupas\, Bibliothèque Universitaire Blanche Maupas\, Rue Max Pol Fouchet\, Cherbourg-en-Cotentin\, 50130\, France
CATEGORIES:Fête de la science
ATTACH;FMTTYPE=image/jpeg:https://www.unicaen.fr/wp-content/uploads/2022/09/EUREKA.jpg
END:VEVENT
BEGIN:VEVENT
DTSTART;TZID=Europe/Paris:20221003T180000
DTEND;TZID=Europe/Paris:20221003T200000
DTSTAMP:20260422T212340
CREATED:20220928T053959Z
LAST-MODIFIED:20220928T053959Z
UID:35876-1664820000-1664827200@www.unicaen.fr
SUMMARY:Atelier de création théâtrale de la MDE
DESCRIPTION:Atelier hebdomadaire pour les étudiants\, animé par des professionnels du théâtre\, pour découvrir les bases de la pratique théâtrale et aboutir à la création d’un spectacle. L’atelier commence le 3 octobre\, et aura lieu tous les lundis (25 séances) jusqu’en mai 2023. \nLes 2 premières séances d’essai sont offertes. \nTarif : 100€ l’année (réduction possible avec Atouts Normandie) \nInfos et INSCRIPTION OBLIGATOIRE : mde@crous-normandie.fr
URL:https://www.unicaen.fr/evenement/atelier-de-creation-theatrale-de-la-mde/
LOCATION:Caen · Campus 1 · Studio Jo Tréhard\, Centre de recherche en sciences de l'éducation\, Esplanade de la Paix\, Caen\, 14000\, France
CATEGORIES:Théâtre,Vie de campus
ATTACH;FMTTYPE=image/jpeg:https://www.unicaen.fr/wp-content/uploads/2022/09/Atelier-de-creation-theatrale.jpg
END:VEVENT
BEGIN:VEVENT
DTSTART;TZID=Europe/Paris:20221003T183000
DTEND;TZID=Europe/Paris:20221003T210000
DTSTAMP:20260422T212340
CREATED:20220921T114046Z
LAST-MODIFIED:20220921T130856Z
UID:35463-1664821800-1664830800@www.unicaen.fr
SUMMARY:66 jours
DESCRIPTION:Texte écrit\, interprété et mis en scène par Théo Askolovitch. \nUn spectacle proposé par l’université de Caen Normandie et la Comédie de Caen Théo Askolovitch\, révélé en 2017 dans Djihad\, ose seul sur scène parler d’un sujet délicat et très personnel. Il nous transporte à l’hôpital où il a longtemps séjourné pour y être soigné et guéri d’un cancer. De ce sujet délicat mais traité de manière très drôle\, optimiste et tendre\, dans une langue à la fois poétique et très moderne\, il nous emporte dans son monde où l’amour du théâtre et sa passion du foot est un vrai moment de joie ! \nDans le cadre du partenariat avec la Comédie de Caen\, ce spectacle s’inscrit dans le programme des week-ends théâtre de la Comédie de Caen et offre la possibilité aux étudiants qui le souhaitent de devenir acteurs le temps d’un week-end avec les artistes associés de la Comédie de Caen. \nRenseignements : culture@unicaen.fr | camille.vandaele@comediecaen.fr \nRéservation \nLa Presse en parle
URL:https://www.unicaen.fr/evenement/66-jours/
LOCATION:Caen · Campus 1 · Maison de l’étudiant (MDE)\, Maison de l'étudiant Université de Caen\, Rue Colonel Usher\, Caen\, 14000\, France
CATEGORIES:Théâtre,Vie de campus
ATTACH;FMTTYPE=image/jpeg:https://www.unicaen.fr/wp-content/uploads/2022/09/66-jours.jpg
END:VEVENT
BEGIN:VEVENT
DTSTART;TZID=Europe/Paris:20221004T180000
DTEND;TZID=Europe/Paris:20221004T200000
DTSTAMP:20260422T212340
CREATED:20220914T132658Z
LAST-MODIFIED:20240719T141932Z
UID:35177-1664906400-1664913600@www.unicaen.fr
SUMMARY:Nuit du droit
DESCRIPTION:La Nuit du Droit est\, chaque année\, célébrée le 4 octobre\, sous l’égide du Conseil constitutionnel. Les élèves du Collège d’Excellence de la Faculté de droit (CEFD) se mobilisent à cette occasion pour faire découvrir le droit à la société civile\, au travers de multiples animations. \nCette année\, le thème de la Nuit du Droit est « l’Europe invisible ». Objectif : montrer les effets et conséquences de la législation européenne dans la vie quotidienne de chacun. \nCet évènement bénéficie d’un financement de la Contribution vie étudiante et de campus (CVEC). \nProgramme\n17h30 · Inauguration de l’exposition Mémoire & Avenir de l’Union Européenne\, préparée par les étudiants de Licence 3 du Collège d’Excellence\, sous la direction de Louisa Raddatz\, artiste plasticienne. \n18h-20h · Conférence sur le thème de l’Europe invisible.\nConférence ludique et interactive pour découvrir l’Union Européenne\, avec la participation des étudiants de Licence 3 du Collège d’Excellence\, de Maria Castillo\, maître de conférences en droit public et Eric Lobstein\, responsable administratif du Carré International\, suivie d’une lecture théâtrale de la déclaration Schuman du 9 mai 1950\, texte fondateur de la construction européenne. \nBien d’autres animations à découvrir dans le programme de la soirée !
URL:https://www.unicaen.fr/evenement/nuit-du-droit/
LOCATION:Caen · Campus 1 · Bâtiment D · Amphi Jean Demolombe\, Centre de recherche en sciences de l'éducation\, Esplanade de la Paix\, Caen\, 14000\, France
CATEGORIES:Conférence,Recherche,Vie de campus
ATTACH;FMTTYPE=image/jpeg:https://www.unicaen.fr/wp-content/uploads/2022/09/Nuit_du_droit_1000x400-e1663161787930.jpg
END:VEVENT
BEGIN:VEVENT
DTSTART;TZID=Europe/Paris:20221004T180000
DTEND;TZID=Europe/Paris:20221004T210000
DTSTAMP:20260422T212340
CREATED:20220909T123846Z
LAST-MODIFIED:20220930T162521Z
UID:34975-1664906400-1664917200@www.unicaen.fr
SUMMARY:Soirée de l'entrepreneuriat étudiant
DESCRIPTION:Un événement organisé par PEPITE Normandie et accueilli par l’université de Caen. \nL’événement sera ouvert par Lamri Adoui\, président de l’université de Caen Normandie. Cet événement est organisé dans le cadre de la semaine internationale de l’entrepreneuriat étudiant. Il comportera une conférence\, une table ronde et la remise du Prix PEPITE 2022. \nContact : pepite-normandie@normandie-univ.fr
URL:https://www.unicaen.fr/evenement/soiree-de-lentrepreneuriat-etudiant/
LOCATION:Caen · Campus 1 · Bâtiment P · Aula Magna\, Aula Magna\, Esplanade de la Paix\, Caen\, 14000\, France
CATEGORIES:Conférence,Vie de campus
ATTACH;FMTTYPE=image/jpeg:https://www.unicaen.fr/wp-content/uploads/2022/09/Soiree-entrepreneuriat-etudiant.jpg
END:VEVENT
BEGIN:VEVENT
DTSTART;TZID=Europe/Paris:20221004T200000
DTEND;TZID=Europe/Paris:20221004T223000
DTSTAMP:20260422T212340
CREATED:20220927T124354Z
LAST-MODIFIED:20220929T134726Z
UID:35812-1664913600-1664922600@www.unicaen.fr
SUMMARY:Théâtre débat sur les procès d’animaux
DESCRIPTION:À l’occasion de la Nuit du Droit\, le Tribunal judiciaire de Caen organise\, en partenariat avec l’université de Caen Normandie et le Barreau de Caen un Théâtre débat sur les procès d’animaux \nProgramme\nReprésentation théâtrale du procès de la Truie de Falaise\, jouée par Me Philippe ARBOUCH\, avocat honoraire au barreau d’Arras. \nÉchanges et débats sur les procès d’animaux\, avec l’intervention de Mme Sophie POIREY\, maître de conférences en histoire du droit à l’université de Caen Normandie et Me Brigitte Jusseaume\, avocat au Barreau de Caen. \nPratique\n\nÉvénement ouvert à toutes & tous\nInscription obligatoire par mail à l’adresse suivante : nuitdudroit2022@gmail.com\nAmphithéâtre de la Maison de la recherche en sciences humaines
URL:https://www.unicaen.fr/evenement/theatre-debat-sur-les-proces-danimaux/
LOCATION:Caen · Campus 1 · Maison de la recherche en sciences humaines (MRSH)\, Campus 1\, Maison de la recherche en sciences humaines (MRSH)\, 1 Esplanade de la Paix\, Caen\, 14000\, France
CATEGORIES:Théâtre,Vie de campus
ATTACH;FMTTYPE=image/jpeg:https://www.unicaen.fr/wp-content/uploads/2022/09/Nuit_du_droit_1000x400-e1663161787930.jpg
END:VEVENT
BEGIN:VEVENT
DTSTART;TZID=Europe/Paris:20221004T203000
DTEND;TZID=Europe/Paris:20221004T223000
DTSTAMP:20260422T212340
CREATED:20220928T135715Z
LAST-MODIFIED:20220930T152004Z
UID:35948-1664915400-1664922600@www.unicaen.fr
SUMMARY:Droit dans les yeux
DESCRIPTION:De Marie-Francine Le Jalu | Documentaire | 1h16 min \nLes visages tout juste sortis de l’enfance\, concentrés\, incrédules\, émus. Ils s’appellent Ilhame\, Vincent\, Yara\, Rouguy ou Antoine. Ils sont étudiants en droit à l’université Paris 8 Saint-Denis et bénévoles à la « Clinique Juridique ». Là\, ils conseillent des justiciables des environs qui souvent leur rappellent leurs parents\, leurs amis. Les professionnels leur parlent de distance et de neutralité. Mais dans la réalité\, que faire de sa subjectivité ? De son expérience et de ses convictions ? Avec quelle idée de la justice ? \nProjection suivie d’une discussion avec Xavier Aurey\nDocteur en droit\, Xavier Aurey a créé en 2009 la première clinique juridique sur les droits fondamentaux en France\, à l’université de Caen Normandie. Il travaille depuis au développement de l’enseignement clinique du droit. Fondateur et actuel président du Réseau des Cliniques Juridiques Francophones\, il a mis en place et participé à différentes formations de formateurs et a été consultant sur ces questions pour l’OSCE-Kosovo\, l’association PILnet\, le Ministère de l’Europe et des Affaires étrangère ou encore ENABEL\, l’Agence belge de développement. Il a publié en 2021 en collaboration avec Me Benjamin Pitcho le premier manuel sur la création et la gestion d’une clinique juridique. \n\nTarif réduit : 4€50\nTarif étudiant UNICAEN : 2 € · si vous êtes muni de votre Léocarte ou de votre certificat de scolarité le soir de la projection\, un tarif à 2€ vous sera proposé sur place (les réservations en ligne ne sont pas accessibles pour ce tarif) \nTarif plein : 5€50 \nRéservation \nUn événement organisé dans le cadre de la Nuit du Droit
URL:https://www.unicaen.fr/evenement/droit-dans-les-yeux/
LOCATION:Caen · Campus 1 · Bâtiment P · Amphi Pierre Daure\, Amphithéâtre Pierre Daure\, Esplanade de la Paix\, Caen\, 14000\, France
CATEGORIES:Projection - Cinéma
ATTACH;FMTTYPE=image/jpeg:https://www.unicaen.fr/wp-content/uploads/2022/09/droitdanslesyeux.jpg
END:VEVENT
BEGIN:VEVENT
DTSTART;VALUE=DATE:20221005
DTEND;VALUE=DATE:20221010
DTSTAMP:20260422T212340
CREATED:20220520T124630Z
LAST-MODIFIED:20230119T144554Z
UID:30425-1664928000-1665359999@www.unicaen.fr
SUMMARY:Conquérir\, soumettre\, gouverner : théories et pratiques de la « pacification » dans les mondes normands
DESCRIPTION:Ce colloque propose d’orienter une réflexion portant sur la transition entre l’état de guerre inhérent à une conquête territoriale\, et l’état de paix censé inaugurer l’émergence d’une nouvelle construction politique. Cet « entre-deux » pose un ensemble de questions (sur l’exercice de la violence et les différentes logiques à l’œuvre\, militaires\, socio-politiques\, économiques\, territoriales\, juridiques) que cette rencontre voudrait contribuer à résoudre dans une approche comparatiste entre des situations très différentes dans le monde viking\, les îles Britanniques et en Méditerranée. Ces questionnements amèneront à s’interroger sur la pertinence de parler de stratégies de « pacification » et de discuter l’usage — dans un contexte médiéval — de la notion de pacification par un croisement historiographique avec d’autres périodes\, en prenant soin de s’extraire de tout anachronisme\, ou en assumant cet anachronisme méthodologique. Ce colloque est ouvert aux chercheurs\, aux étudiants et à toute personne intéressée par l’histoire des mondes normands. \nColloque organisé par : \n\nPierre Bauduin (Université de Caen Normandie\, CRAHAM UMR 6273)\nAnnick Peters-Custot (Université de Nantes\, CRHIA EA 1163)\nSimon Lebouteiller (Université de Paris-Sorbonne\, CRAHAM)\n\nCette manifestation s’intègre dans le programme Pax Normanna (2022-2026\, resp. P. Bauduin\, A. Peters-Custot) inscrit comme projet partenaire de l’École française de Rome. \nCet évènement aura lieu au centre culturel international de Cerisy\, ainsi que dans la ville de Caen.
URL:https://www.unicaen.fr/evenement/conquerir-soumettre-gouverner-theories-et-pratiques-de-la-pacification-dans-les-mondes-normands-monde-viking-normandie-royaume-dangleterre-italie-meridionale-et-sicile/
LOCATION:Cerisy-la-salle et Caen\, Caen\, France
CATEGORIES:Congrès - Colloque,Sciences humaines et sociales
ATTACH;FMTTYPE=image/jpeg:https://www.unicaen.fr/wp-content/uploads/2021/10/flyermondesnormands-cerisy2022-1.jpg
END:VEVENT
END:VCALENDAR