BEGIN:VCALENDAR
VERSION:2.0
PRODID:-//Université de Caen Normandie - ECPv6.15.18//NONSGML v1.0//EN
CALSCALE:GREGORIAN
METHOD:PUBLISH
X-WR-CALNAME:Université de Caen Normandie
X-ORIGINAL-URL:https://www.unicaen.fr
X-WR-CALDESC:Évènements pour Université de Caen Normandie
REFRESH-INTERVAL;VALUE=DURATION:PT1H
X-Robots-Tag:noindex
X-PUBLISHED-TTL:PT1H
BEGIN:VTIMEZONE
TZID:Europe/Paris
BEGIN:DAYLIGHT
TZOFFSETFROM:+0100
TZOFFSETTO:+0200
TZNAME:CEST
DTSTART:20200329T010000
END:DAYLIGHT
BEGIN:STANDARD
TZOFFSETFROM:+0200
TZOFFSETTO:+0100
TZNAME:CET
DTSTART:20201025T010000
END:STANDARD
BEGIN:DAYLIGHT
TZOFFSETFROM:+0100
TZOFFSETTO:+0200
TZNAME:CEST
DTSTART:20210328T010000
END:DAYLIGHT
BEGIN:STANDARD
TZOFFSETFROM:+0200
TZOFFSETTO:+0100
TZNAME:CET
DTSTART:20211031T010000
END:STANDARD
BEGIN:DAYLIGHT
TZOFFSETFROM:+0100
TZOFFSETTO:+0200
TZNAME:CEST
DTSTART:20220327T010000
END:DAYLIGHT
BEGIN:STANDARD
TZOFFSETFROM:+0200
TZOFFSETTO:+0100
TZNAME:CET
DTSTART:20221030T010000
END:STANDARD
END:VTIMEZONE
BEGIN:VEVENT
DTSTART;VALUE=DATE:20210416
DTEND;VALUE=DATE:20210531
DTSTAMP:20260424T140301
CREATED:20210527T094903Z
LAST-MODIFIED:20210527T094903Z
UID:17066-1618531200-1622419199@www.unicaen.fr
SUMMARY:Exposition | Cabu dessinateur-citoyen
DESCRIPTION:Cette exposition qui rend hommage au célèbre caricaturiste\, est l’occasion à travers ses dessins de se pencher sur l’histoire de la caricature et de la liberté de la presse en France. \nRéalisée par Le Musée du Vivant-AgroParisTech\, en partenariat avec Canopé\, La Ligue de l’Enseignement et le Clémi\, cette exposition nous propose de découvrir une facette méconnue de Cabu. En effet Jean Cabut a fait don au Musée du Vivant-AgroParisTech\, premier musée international sur l’écologie et le développement durable\, de plus de 600 dessins originaux sur l’agriculture\, la nature et l’écologie. \nInformations\nBU Blanche-Maupas – Campus de Cherbourg-en-Cotentin\nAux horaires d’ouverture de la bibliothèque \nContact\nculture@unicaen.fr\nbibliotheque@unicaen.fr
URL:https://www.unicaen.fr/evenement/exposition-cabu-dessinateur-citoyen/
LOCATION:Cherbourg-en-Cotentin\, Cherbourg-en-Cotentin\, 50130\, France
CATEGORIES:Exposition,Vie de campus
ATTACH;FMTTYPE=image/jpeg:https://www.unicaen.fr/wp-content/uploads/2020/10/200x200-cabu.jpg
END:VEVENT
BEGIN:VEVENT
DTSTART;TZID=Europe/Paris:20210505T080000
DTEND;TZID=Europe/Paris:20210505T170000
DTSTAMP:20260424T140301
CREATED:20210225T152150Z
LAST-MODIFIED:20210227T135855Z
UID:10645-1620201600-1620234000@www.unicaen.fr
SUMMARY:Permanences d'accès au droit
DESCRIPTION:Depuis la rentrée 2019\, le Conseil départemental de l’accès au droit du Calvados · CDAD 14 tient\, chaque mois\, deux permanences à la bibliothèque universitaire Pierre Sineux. \n\nDroit du travail\, droit de la famille\, droit de la consommation\, droit de la sécurité sociale… Ces permanences sont l’occasion de rencontrer des professionnels pour obtenir assistance\, informations et conseils. Objectif : proposer un service de proximité favorisant l’accès au droit. \nGratuites\, ces permanences sont ouvertes aux étudiants et personnels UNICAEN\, mais également à toute personne extérieure à l’université. Elles sont assurées par des professionnels. \n\n\nReprise des permanences d’accès au droit de 13h30 à 17h en salle 0\, à partir de janvier 2021.\nAccès à la salle sur rendez-vous via Affluences\, le service « BU à réserver« \, ou par téléphone pour les usagers extérieurs à l’université de Caen 02 31 56 56 94. \nProchaines dates :\n19 mai\n2\, 16 et 30 juin \nContact\n02 50 10 13 07\ndu lundi au vendredi de 9h à 12h et de 13h30 à 16h30. \nPour demander un rendez-vous ou exposer sa question / son problème juridique :  contact@cdad14.fr\nen indiquant son numéro de téléphone et ses disponibilités pour pouvoir être recontacté.
URL:https://www.unicaen.fr/evenement/permanences-dacces-au-droit-5-mai/
CATEGORIES:Université
END:VEVENT
BEGIN:VEVENT
DTSTART;TZID=Europe/Paris:20210506T100000
DTEND;TZID=Europe/Paris:20210506T120000
DTSTAMP:20260424T140301
CREATED:20210401T093059Z
LAST-MODIFIED:20231208T074321Z
UID:14018-1620295200-1620302400@www.unicaen.fr
SUMMARY:Atelier Candidature "Trouver mon Master"
DESCRIPTION:Modalités\n\nEn présentiel ou en distanciel\nDurée : 2h\nPublic : Licence 3ème année\n\nObjectifs\n\nClarifier son projet\nBien utiliser le portail national « Trouver mon Master » pour cibler les formations\nRepérer ses principaux atouts et préparer CV-Lettre\n\nInscription\nOuverture des inscriptions à partir du 18 février 2021. \nProchaine date\nMardi 11 mai 2021 – 10h-12h
URL:https://www.unicaen.fr/evenement/atelier-candidature-trouver-mon-master-5/
LOCATION:Caen · Campus 1 · Bâtiment B · Espace Orientation Insertion (EOI)\, Bâtiment B\, Esplanade de la Paix\, Caen\, 14000\, France
CATEGORIES:Orientation
ORGANIZER;CN="Espace orientation insertion (EOI)":MAILTO:orientationinsertion@unicaen.fr
END:VEVENT
BEGIN:VEVENT
DTSTART;TZID=Europe/Paris:20210506T130000
DTEND;TZID=Europe/Paris:20210506T143000
DTSTAMP:20260424T140301
CREATED:20210226T101453Z
LAST-MODIFIED:20231208T074333Z
UID:10975-1620306000-1620311400@www.unicaen.fr
SUMMARY:Atelier Rédaction CV & lettre
DESCRIPTION:Modalités\n\nle 1er jeudi de chaque mois\nEn distanciel\nDurée : 1h30\nPublic : candidats à un stage\, à une alternance ou à un emploi.\n\nObjectifs\n\nIntégrer le point de vue du recruteur\nIdentifier les critères clés d’un CV et d’une lettre de motivation efficace\nÉchanger pour améliorer ses CV & lettres\n\nInscription\nInscription obligatoire en ligne\nNombre de places limité \nProchaines dates\nJeudi 3 juin 2021 – 16h-17h30\nJeudi 1 juillet 2021 – 9h-10h30
URL:https://www.unicaen.fr/evenement/atelier-redaction-cv-lettre-6-mai/
LOCATION:Caen · Campus 1 · Bâtiment B · Espace Orientation Insertion (EOI)\, Bâtiment B\, Esplanade de la Paix\, Caen\, 14000\, France
CATEGORIES:Orientation
ATTACH;FMTTYPE=image/jpeg:https://www.unicaen.fr/wp-content/uploads/2021/02/INSERTION-Atelier-CV-lettre.jpg
ORGANIZER;CN="Espace orientation insertion (EOI)":MAILTO:orientationinsertion@unicaen.fr
END:VEVENT
BEGIN:VEVENT
DTSTART;TZID=Europe/Paris:20210511T100000
DTEND;TZID=Europe/Paris:20210511T120000
DTSTAMP:20260424T140301
CREATED:20210401T093125Z
LAST-MODIFIED:20231208T074321Z
UID:14020-1620727200-1620734400@www.unicaen.fr
SUMMARY:Atelier Candidature "Trouver mon Master"
DESCRIPTION:Modalités\n\nEn présentiel ou en distanciel\nDurée : 2h\nPublic : Licence 3ème année\n\nObjectifs\n\nClarifier son projet\nBien utiliser le portail national « Trouver mon Master » pour cibler les formations\nRepérer ses principaux atouts et préparer CV-Lettre\n\nInscription\nOuverture des inscriptions à partir du 18 février 2021.
URL:https://www.unicaen.fr/evenement/atelier-candidature-trouver-mon-master-6/
LOCATION:Caen · Campus 1 · Bâtiment B · Espace Orientation Insertion (EOI)\, Bâtiment B\, Esplanade de la Paix\, Caen\, 14000\, France
CATEGORIES:Orientation
ORGANIZER;CN="Espace orientation insertion (EOI)":MAILTO:orientationinsertion@unicaen.fr
END:VEVENT
BEGIN:VEVENT
DTSTART;TZID=Europe/Paris:20210511T160000
DTEND;TZID=Europe/Paris:20210511T200000
DTSTAMP:20260424T140301
CREATED:20210430T120703Z
LAST-MODIFIED:20221124T163543Z
UID:15342-1620748800-1620763200@www.unicaen.fr
SUMMARY:Rencontres de la formation professionnelle
DESCRIPTION:Salariés\, demandeurs d’emploi\, dirigeants : vous souhaitez évoluer professionnellement ? Prendre un nouveau tournant dans votre vie professionnelle à l’aide d’un diplôme d’État ? Profitez de cette soirée pour rencontrer nos conseillers en formation professionnelle. Ils pourront vous orienter dans la formation la plus adaptée et vous guider dans le financement (CPF\, Plan de développement des compétences…). \nL’IAE Caen vous propose une soirée\, 100% en ligne\, dédiée à la formation professionnelle le 11 mai de 16h à 20h.\nLes Rencontres de la formation professionnelle sont organisées à l’attention des salariés\, demandeurs d’emploi ou dirigeants qui recherchent une formation pour évoluer professionnellement et prendre un nouveau tournant dans leur carrière. \nLors de cet évènement virtuel\, vous pourrez : \n\naccéder à la visite virtuelle de l’école\nconsulter et télécharger les brochures de formation\néchanger par message ou en visio avec nos conseillers en formation continue\nêtre orienté sur les possibilités de financement (CPF\, Plan de développement des compétences…)\nconsulter nos webinaires\n\nLien d’inscription
URL:https://www.unicaen.fr/evenement/rencontres-de-la-formation-professionnelle/
LOCATION:Caen · Campus 1 · Bâtiment B · Espace Orientation Insertion (EOI)\, Bâtiment B\, Esplanade de la Paix\, Caen\, 14000\, France
CATEGORIES:Formation continue
ATTACH;FMTTYPE=image/jpeg:https://www.unicaen.fr/wp-content/uploads/2020/10/rencontresformationprofessionnelle.jpg
END:VEVENT
BEGIN:VEVENT
DTSTART;VALUE=DATE:20210515
DTEND;VALUE=DATE:20210516
DTSTAMP:20260424T140301
CREATED:20210225T140756Z
LAST-MODIFIED:20210301T085421Z
UID:10530-1621036800-1621123199@www.unicaen.fr
SUMMARY:Demande de bourse & de logement : c'est maintenant !
DESCRIPTION:La demande de bourse et/ou logement est formulée par l’intermédiaire du Dossier Social Étudiant · DSE. Une procédure en ligne et unique via le portail https://www.messervices.etudiant.gouv.fr/envole/ \nPour la rentrée 2021\, la demande de dossier social étudiant · DSE · est ouverte jusqu’au 15 mai 2021. \nhttps://youtu.be/4dXPtmefZiY
URL:https://www.unicaen.fr/evenement/demande-de-bourse-de-logement-cest-maintenant/
LOCATION:Caen · Campus 1 · Bâtiment B · Espace Orientation Insertion (EOI)\, Bâtiment B\, Esplanade de la Paix\, Caen\, 14000\, France
CATEGORIES:Vie de campus
ATTACH;FMTTYPE=image/jpeg:https://www.unicaen.fr/wp-content/uploads/2021/02/VIE-ETUDIANTE-Bourse.jpg
END:VEVENT
BEGIN:VEVENT
DTSTART;TZID=Europe/Paris:20210519T080000
DTEND;TZID=Europe/Paris:20210519T170000
DTSTAMP:20260424T140301
CREATED:20210225T152248Z
LAST-MODIFIED:20210227T135914Z
UID:10646-1621411200-1621443600@www.unicaen.fr
SUMMARY:Permanences d'accès au droit
DESCRIPTION:Depuis la rentrée 2019\, le Conseil départemental de l’accès au droit du Calvados · CDAD 14 tient\, chaque mois\, deux permanences à la bibliothèque universitaire Pierre Sineux. \n\nDroit du travail\, droit de la famille\, droit de la consommation\, droit de la sécurité sociale… Ces permanences sont l’occasion de rencontrer des professionnels pour obtenir assistance\, informations et conseils. Objectif : proposer un service de proximité favorisant l’accès au droit. \nGratuites\, ces permanences sont ouvertes aux étudiants et personnels UNICAEN\, mais également à toute personne extérieure à l’université. Elles sont assurées par des professionnels. \n\n\nReprise des permanences d’accès au droit de 13h30 à 17h en salle 0\, à partir de janvier 2021.\nAccès à la salle sur rendez-vous via Affluences\, le service « BU à réserver« \, ou par téléphone pour les usagers extérieurs à l’université de Caen 02 31 56 56 94. \nProchaines dates :\n2\, 16 et 30 juin \nContact\n02 50 10 13 07\ndu lundi au vendredi de 9h à 12h et de 13h30 à 16h30. \nPour demander un rendez-vous ou exposer sa question / son problème juridique :  contact@cdad14.fr\nen indiquant son numéro de téléphone et ses disponibilités pour pouvoir être recontacté.
URL:https://www.unicaen.fr/evenement/permanences-dacces-au-droit-19-mai/
CATEGORIES:Université
END:VEVENT
BEGIN:VEVENT
DTSTART;VALUE=DATE:20210520
DTEND;VALUE=DATE:20210522
DTSTAMP:20260424T140301
CREATED:20210412T090524Z
LAST-MODIFIED:20210902T073648Z
UID:14309-1621468800-1621641599@www.unicaen.fr
SUMMARY:De l'information à l'infodémie en temps de crise sanitaire mondiale
DESCRIPTION:Colloque international \nLa crise sanitaire de dimension planétaire entraînée par le coronavirus génère une masse considérable d’informations qui comprennent régulièrement des fake news\, en français des « infox ». Ce virus\, inconnu il y a un an\, est responsable de près de 50 millions de cas confirmés et plus d’un million de décès. Il a imposé le confinement de trois milliards de personnes et « menace l’humanité toute entière » selon l’Organisation Mondiale de la Santé (OMS\, 2020). Ce colloque veut mettre en évidence et analyser les moyens de circulation et de partage de fausses informations en contexte de crise sanitaire mondiale (Europe\, Asie\, Afrique\, Amérique…). \nCe colloque est organisé par le Centre de recherche sur les risques et les vulnérabilités et l’Equipe de recherche sur les littératures\, les imaginaires et les sociétés\, en association avec la Chaire UNESCO « Pratiques journalistiques et médiatique » de l’université de Strasbourg\, Le Dôme et le Club de la presse et de la communication de Normandie. Il est soutenu par la Maison de la recherche en sciences humaines de l’université de Caen Normandie et la Ville de Caen.
URL:https://www.unicaen.fr/evenement/de-linformation-a-linfodemie-en-temps-de-crise-sanitaire-mondiale/
LOCATION:Caen · Le Dôme\, Le Dôme\, 3 Esplanade Stéphane Hessel\, Caen\, 14000\, France
CATEGORIES:Recherche,Sciences humaines et sociales
ATTACH;FMTTYPE=image/jpeg:https://www.unicaen.fr/wp-content/uploads/2021/04/bandeau_2.jpg
END:VEVENT
BEGIN:VEVENT
DTSTART;TZID=Europe/Paris:20210521T100000
DTEND;TZID=Europe/Paris:20210521T120000
DTSTAMP:20260424T140301
CREATED:20210521T132830Z
LAST-MODIFIED:20210528T062601Z
UID:16823-1621591200-1621598400@www.unicaen.fr
SUMMARY:Réunion d'information DAEU
DESCRIPTION:Le Diplôme d’Accès aux Etudes Universitaires (DAEU) est un diplôme national reconnu au même titre que le Baccalauréat. C’est un diplôme de niveau 4\, inscrit au RNCP (RNCP28217) et éligible au CPF.\nL’obtention du DAEU atteste d’un bon niveau de culture générale et permet de : \n\npoursuivre un cursus universitaire\,\nacquérir un diplôme permettant d’accéder au concours administratif de la fonction publique\,\navoir un diplôme attestant d’une culture générale\,\navoir accès aux écoles de formation professionnelle telles que l’AFPA\, le CNAM\, les écoles de soins infirmiers\, les instituts de carrières sociales…\n\nCette réunion d’information vous permettra : \n\nde prendre connaissance des conditions d’inscription et d’accès du DAEU\,\nd’être informé sur les modalités de la formation\, du financement et de l’investissement personnel\,\nde poser vos questions.\n\nSi vous êtes intéressé\, merci de vous inscrire par le biais de ce lien \nAttention\, les réunions sont limitées à 15 personnes. En cas de nombre insuffisant de participants\, la réunion pourra être reportée. \nLa durée de chaque réunion est de 2h environ.\nLes réunions ont lieu en visioconférence\, un lien vous sera envoyé par mail la veille de la réunion. \nPlus d’informations sur notre page internet dédiée au DAEU
URL:https://www.unicaen.fr/evenement/copie-de-reunion-dinformation-daeu/
LOCATION:Caen · Campus 1 · Bâtiment B · Espace Orientation Insertion (EOI)\, Bâtiment B\, Esplanade de la Paix\, Caen\, 14000\, France
CATEGORIES:Formation continue
ATTACH;FMTTYPE=image/jpeg:https://www.unicaen.fr/wp-content/uploads/2020/10/SUFCA_Vignettes_DAEU_site-web.jpg
ORGANIZER;CN="Service universitaire de la formation continue et de l%E2%80%99apprentissage (SUFCA)":MAILTO:sufca.sco@unicaen.fr
END:VEVENT
BEGIN:VEVENT
DTSTART;VALUE=DATE:20210524
DTEND;VALUE=DATE:20210612
DTSTAMP:20260424T140301
CREATED:20210527T142326Z
LAST-MODIFIED:20210712T073712Z
UID:17111-1621814400-1623455999@www.unicaen.fr
SUMMARY:HALATHON national · dépôt dans l'Archive ouverte HAL
DESCRIPTION:La cellule d’appui HAL Normandie Université s’associe au HALATHON lancé à l’échelle nationale. Objectif : augmenter le nombre de dépôts avec le texte intégral dans l’Archive ouverte HAL. \nLa moyenne quotidienne de dépôts avec fichier joints dans HAL est d’environ 330 : l’objectif global sera d’atteindre rapidement les 7 000 dépôts puis de les dépasser le plus largement possible ! La portée de cette opération sera mesurée\, grâce à la collaboration du Centre pour la communication scientifique directe\, par l’alimentation en direct d’un baromètre des dépôts. \nCet événement s’inscrit dans le cadre des journées CasuHAL 2021 organisées par les institutions d’enseignement et de recherche du site de Montpellier. \nPour en savoir plus\nRendez-vous sur l’Archive ouverte HAL Normandie Université \nContact\nhal@normandie-univ.fr
URL:https://www.unicaen.fr/evenement/halathon-national-%c2%b7-depot-dans-larchive-ouverte-hal/
LOCATION:Caen · Campus 1 · Bâtiment B · Espace Orientation Insertion (EOI)\, Bâtiment B\, Esplanade de la Paix\, Caen\, 14000\, France
CATEGORIES:Recherche
ATTACH;FMTTYPE=image/jpeg:https://www.unicaen.fr/wp-content/uploads/2021/05/casuhalathon_bandeau-mail.jpg
END:VEVENT
BEGIN:VEVENT
DTSTART;TZID=Europe/Paris:20210525T140000
DTEND;TZID=Europe/Paris:20210525T160000
DTSTAMP:20260424T140301
CREATED:20210324T094739Z
LAST-MODIFIED:20231208T074327Z
UID:13571-1621951200-1621958400@www.unicaen.fr
SUMMARY:Atelier Recherche d'entreprises
DESCRIPTION:Stage & alternance\nModalités\n\nEn distanciel jusqu’à nouvel ordre\nDurée : 2h\nPublic : tous les étudiants\n\nObjectifs\n\nRepérer différentes techniques de recherche d’entreprise\nIdentifier et utiliser des annuaires d’entreprises\nContacter une entreprise et se présenter\n\nInscription\n\nInscription obligatoire en ligne\nNombre de places limité\n\nDates\n\nVendredi 4 juin 2021 – 10h-12h\nVendredi 18 juin 2021 – 14h-16h\nVendredi 2 juillet 2021 – 10h-12h
URL:https://www.unicaen.fr/evenement/atelier-recherche-dentreprises/
LOCATION:Caen · Campus 1 · Bâtiment B · Espace Orientation Insertion (EOI)\, Bâtiment B\, Esplanade de la Paix\, Caen\, 14000\, France
CATEGORIES:Orientation
ATTACH;FMTTYPE=image/jpeg:https://www.unicaen.fr/wp-content/uploads/2020/10/Stage_Alternance.jpg
ORGANIZER;CN="Espace orientation insertion (EOI)":MAILTO:orientationinsertion@unicaen.fr
END:VEVENT
END:VCALENDAR