BEGIN:VCALENDAR
VERSION:2.0
PRODID:-//Université de Caen Normandie - ECPv6.15.18//NONSGML v1.0//EN
CALSCALE:GREGORIAN
METHOD:PUBLISH
X-ORIGINAL-URL:https://www.unicaen.fr
X-WR-CALDESC:Évènements pour Université de Caen Normandie
REFRESH-INTERVAL;VALUE=DURATION:PT1H
X-Robots-Tag:noindex
X-PUBLISHED-TTL:PT1H
BEGIN:VTIMEZONE
TZID:Europe/Paris
BEGIN:DAYLIGHT
TZOFFSETFROM:+0100
TZOFFSETTO:+0200
TZNAME:CEST
DTSTART:20250330T010000
END:DAYLIGHT
BEGIN:STANDARD
TZOFFSETFROM:+0200
TZOFFSETTO:+0100
TZNAME:CET
DTSTART:20251026T010000
END:STANDARD
BEGIN:DAYLIGHT
TZOFFSETFROM:+0100
TZOFFSETTO:+0200
TZNAME:CEST
DTSTART:20260329T010000
END:DAYLIGHT
BEGIN:STANDARD
TZOFFSETFROM:+0200
TZOFFSETTO:+0100
TZNAME:CET
DTSTART:20261025T010000
END:STANDARD
BEGIN:DAYLIGHT
TZOFFSETFROM:+0100
TZOFFSETTO:+0200
TZNAME:CEST
DTSTART:20270328T010000
END:DAYLIGHT
BEGIN:STANDARD
TZOFFSETFROM:+0200
TZOFFSETTO:+0100
TZNAME:CET
DTSTART:20271031T010000
END:STANDARD
END:VTIMEZONE
BEGIN:VEVENT
DTSTART;TZID=Europe/Paris:20260508T100000
DTEND;TZID=Europe/Paris:20260510T183000
DTSTAMP:20260420T152121
CREATED:20260409T103629Z
LAST-MODIFIED:20260409T133107Z
UID:96601-1778234400-1778437800@www.unicaen.fr
SUMMARY:Week-end bien être & Nutrition à Hauteville sur Mer ( 50)
DESCRIPTION:Le SUAPS et le SSE proposent un week-end bien être et nutrition dans la Manche. \n\n\n\n\n\nNichée entre dunes et vastes plages de sable fin\, Hauteville-sur-Mer est la station balnéaire idéale pour mêler détente\, nature et activités physiques au cœur de la côte normande le temps d’un week-end.  \n\n\n\nCourt séjour combinant randonnées pédestres & aquatiques\, pilates et mobilité souple sur la condition physique et les habitudes alimentaires. Dans quelle mesure l’activité physique assurée à une bonne nutrition\, influence-t-elle la santé et le bien-être des étudiants ? \n\n\n\n\n\nProgramme du week-end Jour 1 – vendredi 8 mai  · Départ 8H30 de CAEN devant le SUAPS \n\n\n\n\nArrivée à Hauteville\, installation au Gîte de la Croix du Sud\n\n\n\n11H Rando + pique nique ( à prévoir)  » Au bout du monde. havre de la Vanlée » par les dunes d’Annoville. retour par la plage\n\n\n\n15H Pilates en extérieur\n\n\n\n17H Atelier culinaire pour un apéritif dinatoire\n\n\n\n20H Soirée déguisée Brunch’ rock dinatoire année 70\n\n\n\n\nJour 2 – samedi 9 mai : \n\n\n\n\n8H30 Petit déjeuner en buffet ( réflexion autour des produits\, des quantités\, association\, besoins\, équilibre\, plaisir de manger…) + réveil musculaire sur la plage\n\n\n\n11H : atelier culinaire ( salade à composer) pour un repas sur site. Atelier éducatif autour des sauces et matières grasses.\n\n\n\n14H30 Pilates « doux » en salle plate + longe côte\n\n\n\n16H30 Collation / jeux sur la plage par équipes constituées sur place ( corn hall\, Molky\, Volley ball)\n\n\n\n18H30 Atelier culinaire autour du BBQ\n\n\n\n21H30 Coucher de soleil sur la digue\n\n\n\n21H45 Détente des fascias en salle plate \n\n\n\n\nJour 3 – dimanche 10 mai : \n\n\n\n\n8H30 Petit déjeuner + préparation du pique nique\n\n\n\n10H30 départ pour une rando Havre de la Sienne par les terres et chemins côtiers. retour par la plage\n\n\n\n15H Longe côte\n\n\n\n16H Rangement et collation en extérieur\n\n\n\n17H Départ vers le SUAPS\n\n\n\n18H30 Retour au SUAPS Campus 1
URL:https://www.unicaen.fr/evenement/week-end-bien-etre-nutrition-a-hauteville-sur-mer-50/
CATEGORIES:Sport,Vie de campus
ATTACH;FMTTYPE=image/jpeg:https://www.unicaen.fr/wp-content/uploads/2026/04/benutrition_web.jpg
ORGANIZER;CN="Service universitaire des activit%C3%A9s physiques et sportives (SUAPS)":MAILTO:suaps.evenement@unicaen.fr
END:VEVENT
BEGIN:VEVENT
DTSTART;TZID=Europe/Paris:20260512T200000
DTEND;TZID=Europe/Paris:20260512T200000
DTSTAMP:20260420T152121
CREATED:20260413T092644Z
LAST-MODIFIED:20260413T095322Z
UID:96669-1778616000-1778616000@www.unicaen.fr
SUMMARY:Brume Saline
DESCRIPTION:Les étudiants et étudiantes de l’atelier théâtre de la MDE ont travaillé toute l’année\, encadrés par la Compagnie Frappe-Tête Théâtre\, pour vous présenter ce spectacle ! \n\n\n\n« Et si le mythe d’Œdipe n’était pas seulement une vieille tragédie… mais un miroir brutal de notre époque ? \n\n\n\nDans Brume Saline\, 26 étudiants et étudiantes réinventent l’histoire d’Œdipe dans une mise en scène moderne\, décalée et percutante. Entre humour grinçant\, questionnements existentiels et éclats de violence\, ils explorent une humanité en crise\, perdue entre destin et liberté. \n\n\n\nIci\, les dieux se taisent… ou parlent à travers nous.Ici\, les héros doutent\, chutent\, et refusent les rôles qu’on leur impose.Ici\, la tragédie antique rencontre notre monde\, ses peurs\, ses dérives\, ses contradictions. \n\n\n\nPortée par une énergie collective et une écriture audacieuse\, cette création mêle théâtre\, réflexion et engagement pour nous plonger dans une expérience intense\, drôle parfois dérangeante\, mais profondément vivante. \n\n\n\nUn spectacle à voir pour ressentir\, questionner… et peut-être même rouvrir les yeux » \n\n\n\nUn spectacle Frappe-Tête Théâtre/La VoyouteMise en scène : Elodie FoubertÉcriture : Guillaume Hermange \n\n\n\nUne seconde représentation aura lieu le mercredi 13 mai à 20h à la Maison de l’Étudiant.
URL:https://www.unicaen.fr/evenement/brume-saline/
LOCATION:Caen · Campus 1 · Maison de l’étudiant (MDE)\, Maison de l'étudiant Université de Caen\, Rue Colonel Usher\, Caen\, 14000\, France
CATEGORIES:Théâtre,Vie de campus
ATTACH;FMTTYPE=image/jpeg:https://www.unicaen.fr/wp-content/uploads/2026/04/brume_saline.jpg
END:VEVENT
BEGIN:VEVENT
DTSTART;TZID=Europe/Paris:20260513T133000
DTEND;TZID=Europe/Paris:20260513T170000
DTSTAMP:20260420T152121
CREATED:20260105T122917Z
LAST-MODIFIED:20260109T143356Z
UID:92813-1778679000-1778691600@www.unicaen.fr
SUMMARY:Permanences d'accès au droit
DESCRIPTION:Gratuites\, ces permanences sont ouvertes aux étudiants et personnels UNICAEN\, mais également à toute personne extérieure à l’université. Elles sont assurées par des professionnels du droit. \n\n\n\nPour demander un rendez-vous et exposer sa question ou son problème juridique : \n\n\n\n\ncontacter le 02 50 10 13 07 du lundi au vendredi de 8h45 à 12h et de 13h30 à 16h30 ;\n\n\n\nécrire à contact@cdad14.fr et indiquer son numéro de téléphone et ses disponibilités pour pouvoir être recontacté-e.\n\n\n\n\n\n\n \n\n\n\n\nLes permanences du Conseil départemental de l’accès au droit du Calvados (CDAD 14) ont lieu deux fois par mois à la bibliothèque Pierre-Sineux (salle 0)\, le mercredi de 13h30 à 17h. \n\n\n\n\nAccessible avec ou sans rendez-vous. \n\n\n\nRetrouver toutes les dates des prochaines permanences d’accès au droit sur cette page
URL:https://www.unicaen.fr/evenement/permanences-dacces-au-droit-63/
LOCATION:Caen · Campus 1 · BU Pierre-Sineux\, Bibliothèque Universitaire Pierre-Sineux\, Esplanade de la Paix\, Caen\, 14000\, France
CATEGORIES:Accès au droit
ATTACH;FMTTYPE=image/jpeg:https://www.unicaen.fr/wp-content/uploads/2022/10/Permanences-droit-1000-400.jpg
END:VEVENT
BEGIN:VEVENT
DTSTART;TZID=Europe/Paris:20260513T200000
DTEND;TZID=Europe/Paris:20260513T200000
DTSTAMP:20260420T152121
CREATED:20260413T092809Z
LAST-MODIFIED:20260413T094854Z
UID:96676-1778702400-1778702400@www.unicaen.fr
SUMMARY:Brume Saline
DESCRIPTION:Les étudiants et étudiantes de l’atelier théâtre de la MDE ont travaillé toute l’année\, encadrés par la Compagnie Frappe-Tête Théâtre\, pour vous présenter ce spectacle ! \n\n\n\n« Et si le mythe d’Œdipe n’était pas seulement une vieille tragédie… mais un miroir brutal de notre époque ? \n\n\n\nDans Brume Saline\, 26 étudiants et étudiantes réinventent l’histoire d’Œdipe dans une mise en scène moderne\, décalée et percutante. Entre humour grinçant\, questionnements existentiels et éclats de violence\, ils explorent une humanité en crise\, perdue entre destin et liberté. \n\n\n\nIci\, les dieux se taisent… ou parlent à travers nous.Ici\, les héros doutent\, chutent\, et refusent les rôles qu’on leur impose.Ici\, la tragédie antique rencontre notre monde\, ses peurs\, ses dérives\, ses contradictions. \n\n\n\nPortée par une énergie collective et une écriture audacieuse\, cette création mêle théâtre\, réflexion et engagement pour nous plonger dans une expérience intense\, drôle parfois dérangeante\, mais profondément vivante. \n\n\n\nUn spectacle à voir pour ressentir\, questionner… et peut-être même rouvrir les yeux » \n\n\n\nUn spectacle Frappe-Tête Théâtre/La VoyouteMise en scène : Elodie FoubertÉcriture : Guillaume Hermange
URL:https://www.unicaen.fr/evenement/brume-saline-2/
LOCATION:Caen · Campus 1 · Maison de l’étudiant (MDE)\, Maison de l'étudiant Université de Caen\, Rue Colonel Usher\, Caen\, 14000\, France
CATEGORIES:Théâtre,Vie de campus
ATTACH;FMTTYPE=image/jpeg:https://www.unicaen.fr/wp-content/uploads/2026/04/brume_saline.jpg
END:VEVENT
BEGIN:VEVENT
DTSTART;TZID=Europe/Paris:20260527T133000
DTEND;TZID=Europe/Paris:20260527T170000
DTSTAMP:20260420T152121
CREATED:20260105T123018Z
LAST-MODIFIED:20260109T143633Z
UID:92816-1779888600-1779901200@www.unicaen.fr
SUMMARY:Permanences d'accès au droit
DESCRIPTION:Gratuites\, ces permanences sont ouvertes aux étudiants et personnels UNICAEN\, mais également à toute personne extérieure à l’université. Elles sont assurées par des professionnels du droit. \n\n\n\nPour demander un rendez-vous et exposer sa question ou son problème juridique : \n\n\n\n\ncontacter le 02 50 10 13 07 du lundi au vendredi de 8h45 à 12h et de 13h30 à 16h30 ;\n\n\n\nécrire à contact@cdad14.fr et indiquer son numéro de téléphone et ses disponibilités pour pouvoir être recontacté-e.\n\n\n\n\n\n\n \n\n\n\n\nLes permanences du Conseil départemental de l’accès au droit du Calvados (CDAD 14) ont lieu deux fois par mois à la bibliothèque Pierre-Sineux (salle 0)\, le mercredi de 13h30 à 17h. \n\n\n\n\nAccessible avec ou sans rendez-vous. \n\n\n\nRetrouver toutes les dates des prochaines permanences d’accès au droit sur cette page
URL:https://www.unicaen.fr/evenement/permanences-dacces-au-droit-64/
LOCATION:Caen · Campus 1 · BU Pierre-Sineux\, Bibliothèque Universitaire Pierre-Sineux\, Esplanade de la Paix\, Caen\, 14000\, France
CATEGORIES:Accès au droit
ATTACH;FMTTYPE=image/jpeg:https://www.unicaen.fr/wp-content/uploads/2022/10/Permanences-droit-1000-400.jpg
END:VEVENT
BEGIN:VEVENT
DTSTART;TZID=Europe/Paris:20260603T083000
DTEND;TZID=Europe/Paris:20260605T180000
DTSTAMP:20260420T152121
CREATED:20260417T085453Z
LAST-MODIFIED:20260417T085534Z
UID:96765-1780475400-1780682400@www.unicaen.fr
SUMMARY:Entre mémoire et avenir\, tisser la transmission
DESCRIPTION:À l’occasion des deuxièmes Journées normandes de la psychologie à l’école\, l’Association française des psychologues de l’éducation propose un espace de réflexion et d’échanges autour des processus de transmission.  \n\n\n\nDans un contexte de profondes mutations des secteurs de la santé mentale\, de l’éducation et du travail social\, ce colloque livre une approche pluridisciplinaire\, croisant psychologie\, psychanalyse\, sociologie\, littérature et cinéma\, autour d’un enjeu majeur de la transmission : est-il possible pour l’école de prendre compte tous les enfants dans leur diversité ? \n\n\n\nAu programme :\n\n\n\n\n\nMercredi 3 juin+\n\n\n\n\n\n13h : Accueil des participants\n\n\n\n13h30 : Allocutions d’ouverture\n\n\n\n14h-15h30 : Transmission et classes sociales\, la construction des inégalités dans la petite enfance. Géraldine Bois\, docteure en sociologie\, maîtresse de conférence en sociologie\, université de Lorraine ; Gaëlle Henri Panabière\, docteure en sociologie\, maîtresse de conférence en sciences de l’éducation\, université Paris Cité.\n\n\n\n15h30-16h : Pause\n\n\n\n16h-17h15 : Liberté\, égalité\, adelphité : déjouer la transmission du genre à l’école. Élise Devieilhe\, docteure en sociologie\, association Épicène.\n\n\n\n17h30-18h30 : Libérer l’enfant du silence\, des mensonges et des violences de sa famille. Astrid Hirschelmann\, professeure des universités en psychologie clinique et pathologique\, université de Caen Normandie.\n\n\n\n\n\n\n\n\n\nJeudi 4 juin+\n\n\n\n\n\n8h30 : Accueil\n\n\n\n9h15 – 10h45 : La peur de transmettre : hériter\, transformer\, se réinventer. Isabelle Duret\, professeure de psychologie clinique et de psychopathologie à l’université Libre de Bruxelles\, psychothérapeute de couple et de famille\, formatrice en psychothérapie systémique à l’ULB et à Forestière ASBL.\n\n\n\n10h45-11h15 : Pause\n\n\n\n11h15-12h30 : Peut-on hériter d’un ancêtre dont on ignore tout ? Nathalie Zajde\, maître de conférence\, HDR en psychologie à l’université de Paris VIII Saint Denis\, membre du laboratoire CHArt EA 4004\, spécialiste d’ethnopsychiatrie.\n\n\n\n12h30-14h30 : Dédicaces et déjeuner\n\n\n\n14h30-15h30 : Conférences simultanées\n\nTransmission autour de l' »expérience émotionnelle en situation d’apprentissage » dans un groupe de travail d’enseignements volontaires. Sylvie Belzeaux\, psychologue\, psychothérapeute d’enfants et d’adolescents\, membres ARPPEA\, centre d’études Martha Harris.\n\n\n\nTransmission intergénérationnelle du traumatisme : entre environnement et biologie. Bérengère Guillery\, neuropsychologue et directrice d’études à l’École pratique des hautes études\, unité 1077 Neuropsychologie et imagerie de la mémoire humaine (NIMH) · Inserm EPHE université de Caen Normandie. \n\n\n\nTraumatismes et héritages invisibles : la littérature comme lieu de réparation et de transmission ? Karine Reysset\, écrivaine ; Hamed Berkane\, modérateur et enseignant d’expression communication à l’IUT Grand ouest Normandie.\n\n\n\nLes grands parents et la transmission. La littérature de jeunesse comme miroir\, vecteur et agent des fonctions grand-parentales. Benoît Schneider\, professeur émérite de psychologie de l’éducation\, université de Lorraine.\n\n\n\nApproche ethnopsychiatrique de la transmission. Jean-Luc Swertvaegher\, psychologue clinicien\, centre Georges Devereux\, Paris.\n\n\n\n\n\n15h30-16h : Pause\n\n\n\n16h-18h30 : Projection du film La fleur du mal\, de Claude Chabrol\, présentation et analyse par Benjamin Cocquenet\, intervenant artistique et pédagogique\, historien du cinéma de l’association Live Creative.\n\n\n\n18h30 : Cocktail\n\n\n\n\n\n\n\n\n\nVendredi 5 juin+\n\n\n\n\n\n8h30 : Accueil\n\n\n\n9h-10h30 : Des mouvements djihadistes au masculinisme adolescent\, clinique de la radicalité en héritage. Alexandre Ledrait\, professeur des universités e psychopathologie clinique à l’université de Caen Normandie.\n\n\n\n10h30-11h : Pause\n\n\n\n11h-12h30 : La fabrique de la famille. Serge Hefez\, psychiatre\, psychanalyste\, thérapeute de couple et de famille.\n\n\n\n12h30-14h30 : Dédicaces et déjeuner\n\n\n\n14h30-16h : Transmission transgénérationnelle du traumatisme et scolarité. Hélène Romaro\, docteure en psychopathologie-HDR\, docteure en droit privé et sciences criminelles\, psychothérapeute.\n\n\n\n16h-16h30 Pause\n\n\n\n16h30-17h45 : Thérapie transgénérationnelle avec les enfants. Bruno Clavier\, psychanalyste\, psychologue clinicien.\n\n\n\n17h45 : Clôture du colloque.
URL:https://www.unicaen.fr/evenement/entre-memoire-et-avenir-tisser-la-transmission/
LOCATION:Caen · Campus 1 · Bâtiment P · Amphi Pierre Daure\, Amphithéâtre Pierre Daure\, Esplanade de la Paix\, Caen\, 14000\, France
CATEGORIES:Congrès - Colloque,Recherche
ATTACH;FMTTYPE=image/jpeg:https://www.unicaen.fr/wp-content/uploads/2026/04/2026-06_colloque-AFPEN.jpg
END:VEVENT
BEGIN:VEVENT
DTSTART;TZID=Europe/Paris:20260603T133000
DTEND;TZID=Europe/Paris:20260603T170000
DTSTAMP:20260420T152121
CREATED:20260105T123122Z
LAST-MODIFIED:20260109T143908Z
UID:92818-1780493400-1780506000@www.unicaen.fr
SUMMARY:Permanences d'accès au droit
DESCRIPTION:Gratuites\, ces permanences sont ouvertes aux étudiants et personnels UNICAEN\, mais également à toute personne extérieure à l’université. Elles sont assurées par des professionnels du droit. \n\n\n\nPour demander un rendez-vous et exposer sa question ou son problème juridique : \n\n\n\n\ncontacter le 02 50 10 13 07 du lundi au vendredi de 8h45 à 12h et de 13h30 à 16h30 ;\n\n\n\nécrire à contact@cdad14.fr et indiquer son numéro de téléphone et ses disponibilités pour pouvoir être recontacté-e.\n\n\n\n\n\n\n \n\n\n\n\nLes permanences du Conseil départemental de l’accès au droit du Calvados (CDAD 14) ont lieu deux fois par mois à la bibliothèque Pierre-Sineux (salle 0)\, le mercredi de 13h30 à 17h. \n\n\n\n\nAccessible avec ou sans rendez-vous. \n\n\n\nRetrouver toutes les dates des prochaines permanences d’accès au droit sur cette page
URL:https://www.unicaen.fr/evenement/permanences-dacces-au-droit-65/
LOCATION:Caen · Campus 1 · BU Pierre-Sineux\, Bibliothèque Universitaire Pierre-Sineux\, Esplanade de la Paix\, Caen\, 14000\, France
CATEGORIES:Accès au droit
ATTACH;FMTTYPE=image/jpeg:https://www.unicaen.fr/wp-content/uploads/2022/10/Permanences-droit-1000-400.jpg
END:VEVENT
BEGIN:VEVENT
DTSTART;TZID=Europe/Paris:20260617T133000
DTEND;TZID=Europe/Paris:20260617T170000
DTSTAMP:20260420T152121
CREATED:20260105T123201Z
LAST-MODIFIED:20260109T144147Z
UID:92820-1781703000-1781715600@www.unicaen.fr
SUMMARY:Permanences d'accès au droit
DESCRIPTION:Gratuites\, ces permanences sont ouvertes aux étudiants et personnels UNICAEN\, mais également à toute personne extérieure à l’université. Elles sont assurées par des professionnels du droit. \n\n\n\nPour demander un rendez-vous et exposer sa question ou son problème juridique : \n\n\n\n\ncontacter le 02 50 10 13 07 du lundi au vendredi de 8h45 à 12h et de 13h30 à 16h30 ;\n\n\n\nécrire à contact@cdad14.fr et indiquer son numéro de téléphone et ses disponibilités pour pouvoir être recontacté-e.\n\n\n\n\n\n\n \n\n\n\n\nLes permanences du Conseil départemental de l’accès au droit du Calvados (CDAD 14) ont lieu deux fois par mois à la bibliothèque Pierre-Sineux (salle 0)\, le mercredi de 13h30 à 17h. \n\n\n\n\nAccessible avec ou sans rendez-vous. \n\n\n\nRetrouver toutes les dates des prochaines permanences d’accès au droit sur cette page
URL:https://www.unicaen.fr/evenement/permanences-dacces-au-droit-66/
LOCATION:Caen · Campus 1 · BU Pierre-Sineux\, Bibliothèque Universitaire Pierre-Sineux\, Esplanade de la Paix\, Caen\, 14000\, France
CATEGORIES:Accès au droit
ATTACH;FMTTYPE=image/jpeg:https://www.unicaen.fr/wp-content/uploads/2022/10/Permanences-droit-1000-400.jpg
END:VEVENT
BEGIN:VEVENT
DTSTART;TZID=Europe/Paris:20260619T092000
DTEND;TZID=Europe/Paris:20260619T170000
DTSTAMP:20260420T152121
CREATED:20251205T130411Z
LAST-MODIFIED:20260319T074247Z
UID:95654-1781860800-1781888400@www.unicaen.fr
SUMMARY:L'indemnisation des préjudices dans la sphère professionnelle
DESCRIPTION:Par Amandine Cayol\, professeure des universités et Mathias Couturier\, maître de conférences\, codirecteurs du Master Droit des assurances à l’université de Caen Normandie \n\n\n\nRésumé\n\n\n\nLe master 2 Droit des Assurances\, parcours assurances de personnes et dommage corporel de l’université de Caen Normandie a le plaisir de présenter son colloque annuel intitulé « L’indemnisation des préjudices dans la sphère professionnelle ». \n\n\n\nLa sphère professionnelle soulève de nombreuses interrogations quant à la reconnaissance et à l’indemnisation des préjudices subis par les salariés\, les travailleurs indépendants ou encore les employeurs. Les accidents du travail\, les atteintes à la santé mentale ou encore les pertes de revenus constituent autant de thématiques qui continuent d’alimenter la réflexion doctrinale. \n\n\n\nCe colloque a pour ambition d’éclairer ces enjeux à travers une approche pluridisciplinaire\, alliant perspectives universitaires et pratiques. Enseignants-chercheurs\, magistrats\, avocats\, et professionnels de santé croiseront leurs regards afin d’analyser les évolutions et limites du système actuel d’indemnisation. \n\n\n\nProgramme\n\n\n\nProgramme ()Télécharger ()\n\n\n\nInscription\n\n\n\n\nPRIX\n\n\n\n\nFormation continue : 140 € / personne ou 500 € / groupe (cf. bulletin)\n\n\n\nAvocat du Barreau de Caen : 60 €\, 70 € ou 100 € / personne (cf. bulletin)\n\n\n\nAuditeur libre : gratuit (sans délivrance d’attestation de présence)\n\n\n\n\n\n\n\nInscription possible jusqu’au vendredi 12 juin 2026 (12h) \n\n\n\n\n\n\nFormation continue : Bulletin à compléter et à renvoyer sur droit.recherche@unicaen.fr \n\n\n\nAvocat du Barreau de Caen : Bulletin spécifique à compléter et à renvoyer sur droit.recherche@unicaen.fr ainsi qu’au secrétaire de l’Ordre de Avocats \n\n\n\nAuditeur libre : Gratuité\, sans délivrance d’attestation de présence \n\n\n\n\n\n\n\nÉvènement accessible à distance \n\n\n\n\nPour les professionnels (formation continue et avocat) : Contactez le bureau de la recherche après votre inscription pour réceptionner le lien de connexion\n\n\n\nPour les auditeurs libres : Le lien de connexion sera envoyé quelques jours avant l’évènement par mail
URL:https://www.unicaen.fr/evenement/lindemnisation-des-prejudices-dans-la-sphere-professionnelle/
CATEGORIES:Congrès - Colloque
ATTACH;FMTTYPE=image/jpeg:https://www.unicaen.fr/wp-content/uploads/2026/03/2026-06-19_Bandeau-colloque.jpg
END:VEVENT
END:VCALENDAR