BEGIN:VCALENDAR
VERSION:2.0
PRODID:-//Université de Caen Normandie - ECPv6.15.18//NONSGML v1.0//EN
CALSCALE:GREGORIAN
METHOD:PUBLISH
X-ORIGINAL-URL:https://www.unicaen.fr
X-WR-CALDESC:Évènements pour Université de Caen Normandie
REFRESH-INTERVAL;VALUE=DURATION:PT1H
X-Robots-Tag:noindex
X-PUBLISHED-TTL:PT1H
BEGIN:VTIMEZONE
TZID:Europe/Paris
BEGIN:DAYLIGHT
TZOFFSETFROM:+0100
TZOFFSETTO:+0200
TZNAME:CEST
DTSTART:20250330T010000
END:DAYLIGHT
BEGIN:STANDARD
TZOFFSETFROM:+0200
TZOFFSETTO:+0100
TZNAME:CET
DTSTART:20251026T010000
END:STANDARD
BEGIN:DAYLIGHT
TZOFFSETFROM:+0100
TZOFFSETTO:+0200
TZNAME:CEST
DTSTART:20260329T010000
END:DAYLIGHT
BEGIN:STANDARD
TZOFFSETFROM:+0200
TZOFFSETTO:+0100
TZNAME:CET
DTSTART:20261025T010000
END:STANDARD
BEGIN:DAYLIGHT
TZOFFSETFROM:+0100
TZOFFSETTO:+0200
TZNAME:CEST
DTSTART:20270328T010000
END:DAYLIGHT
BEGIN:STANDARD
TZOFFSETFROM:+0200
TZOFFSETTO:+0100
TZNAME:CET
DTSTART:20271031T010000
END:STANDARD
END:VTIMEZONE
BEGIN:VEVENT
DTSTART;TZID=Europe/Paris:20260320T080000
DTEND;TZID=Europe/Paris:20260505T170000
DTSTAMP:20260420T100355
CREATED:20260312T142329Z
LAST-MODIFIED:20260312T142332Z
UID:95314-1773993600-1778000400@www.unicaen.fr
SUMMARY:Histoire de l'université et de l'enseignement supérieur à Caen
DESCRIPTION:Dans le cadre du Millénaire de Caen\, les Amis de l’université de Caen Normandie ont réalisé une exposition revenant sur l’histoire de l’université et de l’enseignement supérieur à Caen de 1432 à 2025. Conçue comme une exposition itinérante\, cette exposition se trouve à l’Abbaye aux dames. \n\n\n\nEn 1432\, durant la guerre de Cent Ans\, les anglais qui occupent la Normandie fondent à Caen un « studium generale » doté\, d’abord\, des facultés de droit civil et de droit canon. En 1437\, la création de la faculté de théologie\, de celle des arts et de celle médecine complète ce qui est\, aujourd’hui\, l’une des plus anciennes universités françaises. Pendant plus de 500 ans\, l’université reste située dans son lieu d’implantation médiéval\, rue de la Chaîne\, actuelle rue Pasteur. \n\n\n\nSa longue histoire est tributaire de celle de la France et au delà de celle du monde. La destruction des bâtiments en juillet 1944 contraint l’ université à quitter son emplacement historique et impose la construction de nouveaux bâtiments : un campus dit à « l’anglo-saxonne » voit le jour au nord du château. \n\n\n\nSamedi 21 mars à 15 h dans l’auditorium de l’Abbaye aux dames : conférence inaugurale par Dominique Toulorge\, professeure agrégée honoraire de l’université de Caen Normandie et membre de l’association des amis de l’université de Caen Normandie.
URL:https://www.unicaen.fr/evenement/histoire-de-luniversite-et-de-lenseignement-superieur-a-caen/
LOCATION:Caen · Abbaye-aux-Dames\, Abbaye aux Dames de Caen\, Place Reine Mathilde\, Caen\, 14000\, France
CATEGORIES:Conférence,Exposition,Vie de campus
ATTACH;FMTTYPE=image/jpeg:https://www.unicaen.fr/wp-content/uploads/2022/08/Galerie_Vitree©DircomUnicaen-web-e1661848961897.jpg
ORGANIZER;CN="Association des amis de l'universit%C3%A9 de Caen Normandie":MAILTO:amis.universite@unicaen.fr
END:VEVENT
BEGIN:VEVENT
DTSTART;TZID=Europe/Paris:20260408T000000
DTEND;TZID=Europe/Paris:20260522T235959
DTSTAMP:20260420T100355
CREATED:20260415T101718Z
LAST-MODIFIED:20260415T101720Z
UID:96705-1775606400-1779494399@www.unicaen.fr
SUMMARY:Exposition de sérigraphies
DESCRIPTION:Venez découvrir l’exposition de fin de workshop réalisée par les deux groupes d’étudiants et étudiantes ayant participés à l’atelier de sérigraphie proposé par le SUAC à l’ésam Caen. Vous pourrez y retrouver les créations réalisées au cours des 8 séances d’atelier qui se sont déroulées d’octobre à décembre et de janvier à mars en compagnie de l’artiste Asoa ! \n\n\n\nDurant ce workshop les étudiants et étudiantes ont pu découvrir la technique de la sérigraphie en apprenant à créer un visuel\, préparer un typon et un cadre de sérigraphie pour imprimer sur différents supports : textiles variés\, stickers\, papier… Ils ont également réalisé un fanzine collectif sur le thème de la balade des fin de journées d’été qui a été imprimé en deux couleurs en 60 exemplaires. \n\n\n\nL’exposition est visible à la Maison de l’Étudiant de Caen jusqu’au 22 mai\, du lundi au jeudi de 10h à 16h et le vendredi de 10h à 15h.
URL:https://www.unicaen.fr/evenement/exposition-de-serigraphies/
LOCATION:Caen · Campus 1 · Maison de l’étudiant (MDE)\, Maison de l'étudiant Université de Caen\, Rue Colonel Usher\, Caen\, 14000\, France
CATEGORIES:Exposition,Vie de campus
ATTACH;FMTTYPE=image/jpeg:https://www.unicaen.fr/wp-content/uploads/2026/04/exposition_serigraphies_2026.jpg
END:VEVENT
BEGIN:VEVENT
DTSTART;TZID=Europe/Paris:20260421T200000
DTEND;TZID=Europe/Paris:20260421T200000
DTSTAMP:20260420T100355
CREATED:20260409T100358Z
LAST-MODIFIED:20260409T100401Z
UID:96603-1776801600-1776801600@www.unicaen.fr
SUMMARY:Les Rayons et les Ombres
DESCRIPTION:Le Cinéma Lux vous propose la projection du film Les Rayons et les Ombres de Xavier Giannoli à l’amphi Daure.  \n\n\n\nDe Xavier Giannoli | Avec Jean Dujardin\, Nastya Golubeva\, August Diehl | Drame\, Historique | 3h19min | VF \n\n\n\nSynopsis\n\n\n\nPendant la Deuxième Guerre mondiale\, l’histoire vraie de Jean et Corinne Luchaire\, un père et sa fille pris dans l’engrenage de la collaboration. \n\n\n\nTarifs\n\n\n\n\nTarif étudiant UNICAEN : 2 € grâce à la Contribution de vie étudiante et de campus\n\n\n\nTarif ultra réduit (Jeunes (- de 26 ans)\, Carte d’invalidité\, Demandeurs d’emploi\, Intermittents du spectacle\, Bénéficiaires du RSA\, Personnel de l’université de CAEN) : 4\,50 €\n\n\n\nTarif réduit (Étudiants (+ de 26 ans)\, Etudiants UIA\, Carte CEZAM\, Carte Trip Normand\, Carte de famille nombreuse\, Abonnement chez nos partenaires (Théâtre de Caen\, Comédie de Caen\, Le Sablier\, Panta Théâtre\, Carte SM4C\, Cité Théâtre) : 5€50\n\n\n\nTarif plein : 7€50
URL:https://www.unicaen.fr/evenement/les-rayons-et-les-ombres/
LOCATION:Caen · Campus 1 · Bâtiment P · Amphi Pierre Daure\, Amphithéâtre Pierre Daure\, Esplanade de la Paix\, Caen\, 14000\, France
CATEGORIES:Projection - Cinéma,Vie de campus
ATTACH;FMTTYPE=image/jpeg:https://www.unicaen.fr/wp-content/uploads/2026/04/les_rayons_et_les_ombres.jpg
END:VEVENT
BEGIN:VEVENT
DTSTART;TZID=Europe/Paris:20260424T200000
DTEND;TZID=Europe/Paris:20260424T200000
DTSTAMP:20260420T100355
CREATED:20260320T151719Z
LAST-MODIFIED:20260320T151721Z
UID:95880-1777060800-1777060800@www.unicaen.fr
SUMMARY:La Belle Hélène
DESCRIPTION:Le Chœur universitaire\, associé à quelques élèves des classes de chant du Conservatoire de Caen vous donne rendez-vous à l’amphi Daure pour découvrir ou redécouvrir La Belle Hélène de Jacques Offenbach. Ce concert offrira une occasion privilégiée de découvrir ou redécouvrir cette œuvre dans une forme vivante et accessible. La mise en scène\, confiée à Anne Warthmann\, met en valeur le jeu\, la voix et la dimension théâtrale de l’opérette\, au service d’un spectacle où la légèreté n’exclut ni l’exigence musicale ni la finesse artistique. \n\n\n\nCréée en 1864\, La Belle Hélène est l’une des opérettes les plus célèbres de Jacques Offenbach. À travers une Antiquité de fantaisie\, le compositeur revisite avec humour le mythe d’Hélène de Troie et de Pâris\, transformant la légende héroïque en une satire pétillante des passions humaines et des conventions sociales. \n\n\n\nAlliant mélodies brillantes\, rythmes enlevés et situations comiques\, cette œuvre emblématique de l’opéra-bouffe français séduit par son esprit\, son énergie et son sens du théâtre. Offenbach y déploie une musique aussi raffinée que joyeuse\, portée par des airs et ensembles devenus incontournables. \n\n\n\nL’événement est gratuit pour les étudiants et étudiantes UNICAEN ainsi que pour le personnel de l’université.
URL:https://www.unicaen.fr/evenement/la-belle-helene/
LOCATION:Caen · Campus 1 · Bâtiment P · Amphi Pierre Daure\, Amphithéâtre Pierre Daure\, Esplanade de la Paix\, Caen\, 14000\, France
CATEGORIES:Musique - Concert,Vie de campus
ATTACH;FMTTYPE=image/jpeg:https://www.unicaen.fr/wp-content/uploads/2026/03/la_belle_helene_cour.jpg
ORGANIZER;CN="Ch%C5%93ur et orchestre universitaire r%C3%A9gional (COUR)":MAILTO:cour@unicaen.fr
END:VEVENT
BEGIN:VEVENT
DTSTART;TZID=Europe/Paris:20260427T080000
DTEND;TZID=Europe/Paris:20260604T210000
DTSTAMP:20260420T100355
CREATED:20260409T060000Z
LAST-MODIFIED:20260403T170521Z
UID:62525-1777276800-1780606800@www.unicaen.fr
SUMMARY:Le printemps du SUAPS
DESCRIPTION:Au printemps\, le SUAPS c’est du lundi au jeudi ! *  \n\n\n\n\n\nLe SUAPS Alençon · Caen · Cherbourg vous propose de conserver une activité sportive après les congés de printemps !  \n\n\n\nActivités aquatiques\, d’expression\, de forme\, de pleine nature\, raquettes et tir\, sports collectifs\, sports de combat et arts martiaux… Il y en a pour tous les goûts ! \n\n\n\n\nProgramme \n\n\n\nS’inscrire\n\n\n\n\n\n\nLes inscriptions se feront à la semaine\, chaque semaine à partir du jeudi précédent à 12h30 \n\n\n\n\n\nCes activités vous seront proposées sous réserve que l’effectif minimal par cours soit atteint. \n\n\n\n\nRenseignements : suaps.evenement@unicaen.fr \n\n\n\n\n\n\nOuvert à toute la communauté étudiante et aux membres du personnel UNICAEN adhérents du SUAPS.
URL:https://www.unicaen.fr/evenement/maquette-de-printemps/
CATEGORIES:Sport,Vie de campus
ATTACH;FMTTYPE=image/jpeg:https://www.unicaen.fr/wp-content/uploads/2024/04/SUAPS_printemps_du_suaps_web.jpg
END:VEVENT
BEGIN:VEVENT
DTSTART;TZID=Europe/Paris:20260428T000000
DTEND;TZID=Europe/Paris:20260429T235959
DTSTAMP:20260420T100355
CREATED:20260415T071858Z
LAST-MODIFIED:20260417T125033Z
UID:96788-1777334400-1777507199@www.unicaen.fr
SUMMARY:Présentation des Ateliers de pratique théâtrale des promotions Licence Arts du spectacle
DESCRIPTION:Évènement organisé par le département des Arts du spectacle et la Comédie de Caen\, les 28 et 29 avril 2026\, au Théâtre des Cordes. \n\n\n\nLes études théâtrales à l’université de Caen Normandie\n\n\n\nL’équipe « Théâtre » des Arts du spectacle organise\, sous la supervision de Virginie Vaillant\, enseignante-chercheure associée au LASLAR\, cet événement pour mettre en valeur les ateliers de pratique théâtrale de la licence Arts du spectacle. Les étudiantes et étudiants des promotions L1 et L3 présenteront ainsi leurs travaux au Théâtre des Cordes sous la forme d’un petit festival le mardi 28 et vendredi 29 avril. \n\n\n\nProgramme\n\n\n\nMardi 28 avril 2026\n\n\n\nPrésentation de l’atelier « Du projet à la réalisation »\, promotion L3 Théâtre \n\n\n\n10h30-13hPetit guide illustré pour illustre Grand guide\, Édouard Elvis Bvouma8 femmes\, Robert ThomasVariations amoureuses\, Carole ThibautLes illusions comiques\, Olivier Py \n\n\n\n14h30-16hCyrano matériaux\, d’après Edmond RostandCendrillon Partie 1\, Joël PommeratCendrillon Partie 2\, Joël Pommerat Vendredi 13\, Jean-Pierre MartinezEnseignement de Virginie Vaillant \n\n\n\nExposition des maquettes de l’atelier « Création théâtrale – Scénographie »\, promotion L2 Arts du spectacleEnseignement de Patrick Demière\, scénographe  \n\n\n\nMercredi 29 avril 2026\n\n\n\nPrésentation des Ateliers de dramaturgie\, promotion L1 Arts du spectacle \n\n\n\n10h-14h | Autour de Angels in America\, de Tony Kushner (présentation de scènes\, exposition des maquettes et des travaux dramaturgiques)Enseignement de Virginie Lacroix\, Maëly Lequertier\, Valentine Peschard et Floriane Toussaint
URL:https://www.unicaen.fr/evenement/presentation-des-ateliers-de-pratique-theatrale-des-promotions-licence-arts-du-spectacle/
LOCATION:Caen · Théâtre des Cordes · Comédie de Caen\, Théâtre des Cordes - Comédie de Caen\, 32 Rue des Cordes\, Caen\, 14000\, France
CATEGORIES:Formation,Théâtre
ATTACH;FMTTYPE=image/jpeg:https://www.unicaen.fr/wp-content/uploads/2026/04/Actu-festival-arts-spectacle.jpg
END:VEVENT
BEGIN:VEVENT
DTSTART;TZID=Europe/Paris:20260428T200000
DTEND;TZID=Europe/Paris:20260428T200000
DTSTAMP:20260420T100355
CREATED:20260409T101215Z
LAST-MODIFIED:20260409T101217Z
UID:96608-1777406400-1777406400@www.unicaen.fr
SUMMARY:Plus fort que moi
DESCRIPTION:Le Cinéma Lux vous propose la projection du film Plus fort que moi de Kirk Jones à l’amphi Daure. \n\n\n\nDe Kirk Jones | Avec Robert Aramayo\, Shirley Henderson\, Maxine Peake | Biopic\, Drame | 2h 01min | VOST \n\n\n\nSynopsis\n\n\n\nDans les années 1980\, John Davidson grandit avec le syndrome de Gilles de la Tourette\, une pathologie encore largement méconnue. Entre incompréhension\, stigmatisation et détermination\, son parcours d’abord semé d’embûches se transforme en combat pour être reconnu tel qu’il est\, au-delà des préjugés. \n\n\n\nTarifs\n\n\n\n\nTarif étudiant UNICAEN : 2 € grâce à la Contribution de vie étudiante et de campus\n\n\n\nTarif ultra réduit (Jeunes (- de 26 ans)\, Carte d’invalidité\, Demandeurs d’emploi\, Intermittents du spectacle\, Bénéficiaires du RSA\, Personnel de l’université de CAEN) : 4\,50 €\n\n\n\nTarif réduit (Étudiants (+ de 26 ans)\, Etudiants UIA\, Carte CEZAM\, Carte Trip Normand\, Carte de famille nombreuse\, Abonnement chez nos partenaires (Théâtre de Caen\, Comédie de Caen\, Le Sablier\, Panta Théâtre\, Carte SM4C\, Cité Théâtre) : 5€50\n\n\n\nTarif plein : 7€50
URL:https://www.unicaen.fr/evenement/plus-fort-que-moi/
LOCATION:Caen · Campus 1 · Bâtiment P · Amphi Pierre Daure\, Amphithéâtre Pierre Daure\, Esplanade de la Paix\, Caen\, 14000\, France
CATEGORIES:Projection - Cinéma,Vie de campus
ATTACH;FMTTYPE=image/jpeg:https://www.unicaen.fr/wp-content/uploads/2026/04/plus_fort_que_moi.jpg
END:VEVENT
BEGIN:VEVENT
DTSTART;TZID=Europe/Paris:20260429T200000
DTEND;TZID=Europe/Paris:20260429T200000
DTSTAMP:20260420T100355
CREATED:20260407T144956Z
LAST-MODIFIED:20260407T144958Z
UID:96577-1777492800-1777492800@www.unicaen.fr
SUMMARY:Tremplin Phénix Normandie 2026 - Finale
DESCRIPTION:TPN\, c’est le tremplin « musiques actuelles » ouvert aux groupes dont au moins un membre est étudiant. \n\n\n\nNous y sommes\, voici venue la finale !Les 3 groupes finalistes sont : Hatchet Face (psyché – new wave)\, Leeprod (rap) et Studio 4 (rock).  \n\n\n\nVote pour le meilleur groupe de la fac ! 
URL:https://www.unicaen.fr/evenement/tremplin-phenix-normandie-2026-finale/
LOCATION:Caen · Campus 1 · Maison de l’étudiant (MDE)\, Maison de l'étudiant Université de Caen\, Rue Colonel Usher\, Caen\, 14000\, France
CATEGORIES:Musique - Concert,Vie de campus
ATTACH;FMTTYPE=image/jpeg:https://www.unicaen.fr/wp-content/uploads/2026/04/TPN_2026_Finale.jpg
END:VEVENT
BEGIN:VEVENT
DTSTART;TZID=Europe/Paris:20260430T200000
DTEND;TZID=Europe/Paris:20260503T210000
DTSTAMP:20260420T100355
CREATED:20260303T082256Z
LAST-MODIFIED:20260320T092634Z
UID:94709-1777579200-1777842000@www.unicaen.fr
SUMMARY:Stage de randonnée à Belle île en mer
DESCRIPTION:Le SUAPS propose un stage de randonnée de 4 jours ( du 30 avril au 3 mai ) sur Belle-Île-en-Mer. \n\n\n\nUne participation aux randonnées préparatoires au stage est nécessaire · Une réunion d’information préalable à l’inscription se tiendra le jeudi 12 mars à 20H Salle EX BU1 (Bâtiment G) \n\n\n\nNichée au large de la Bretagne\, Belle-Île est un véritable havre de paix\, avec ses paysages à couper le souffle\, ses côtes escarpées\, ses plages sauvages et son patrimoine riche. Ce stage est une opportunité unique pour se ressourcer tout en découvrant l’un des plus beaux sites naturels de France. Le sentier côtier GR 340 a été élu GR® préféré des Français en 2022. \n\n\n\n\n\nAfin de pouvoir participer à ce stage \, il vous faut participer à des randonnées de préparation :elles permettront à chacun de se préparer physiquement et techniquement à l’aventure : \n\n\n\n\nRandonnée à Thury Harcourt (Suisse Normande) le 28 mars: Une sortie en Suisse Normande\, connue pour ses vallées et ses collines\, qui permettra d’appréhender différents types de terrains.\n\n\n\nRandonnée à Barneville-Carteret (Cotentin) le samedi 4 avril : Une journée de randonnée le long des côtes sauvages de la Manche\, avec des paysages variés et une immersion dans la nature normande.\n\n\n\n\n\n\nCes deux sorties seront l’occasion de se préparer en groupe\, de s’initier aux bonnes pratiques de la randonnée\, et de créer déjà des liens entre les participants. \n\n\n\nProgramme du stage de mai à Belle île en mer Jour 1 – 30 avril  : \n\n\n\n\nArrivée à Belle-Île-en-Mer\, installation et présentation du programme.\n\n\n\nPremière randonnée autour de la Pointe des Poulains\, un lieu emblématique de l’île.\n\n\n\n\nJour 2 – 1er mai : \n\n\n\n\nRandonnée le long des côtes sauvages à la découverte des falaises et des plages.\n\n\n\nPause déjeuner sur une plage ou dans un site naturel préservé.\n\n\n\n\nJour 3 – 2 mai : \n\n\n\n\nExploration de l’intérieur de l’île\, avec une randonnée à travers les petits villages et les paysages plus boisés.\n\n\n\n\nJour 4 – 3 mai : \n\n\n\n\nDernière randonnée matinale autour de la Baie des Trépassés\, avec des panoramas à couper le souffle.\n\n\n\nDébriefing et retour en fin d’après-midi vers l’université.
URL:https://www.unicaen.fr/evenement/stage-de-randonnee-a-belle-ile-en-mer-2/
CATEGORIES:Sport,Vie de campus
ATTACH;FMTTYPE=image/jpeg:https://www.unicaen.fr/wp-content/uploads/2025/03/SUAPS_rando_-web.jpeg
ORGANIZER;CN="Service universitaire des activit%C3%A9s physiques et sportives (SUAPS)":MAILTO:suaps.evenement@unicaen.fr
END:VEVENT
BEGIN:VEVENT
DTSTART;TZID=Europe/Paris:20260505T200000
DTEND;TZID=Europe/Paris:20260505T200000
DTSTAMP:20260420T100355
CREATED:20260416T124407Z
LAST-MODIFIED:20260416T124409Z
UID:96746-1778011200-1778011200@www.unicaen.fr
SUMMARY:Big band jazz
DESCRIPTION:Dernier rendez-vous du cycle à l’initiative du Service universitaire de l’action culturelle et du Conservatoire & Orchestre de Caen : les ateliers jazz et musiques improvisées des classes de Thierry Lhiver joueront sur la scène de la salle de spectacle de la Maison de l’Étudiant pour vous proposer un nouveau moment musical : le big band jazz ! Vous retrouverez des thèmes connus de tous et toutes. Venez nombreux partager ce moment musical et convivial exceptionnel ! \n\n\n\nAu programme : Hommage à Carla Bley\, notamment à sa vision de l’Amérique à travers son album Looking for America (2002)\, ainsi que son hommage aux femmes.
URL:https://www.unicaen.fr/evenement/big-band-jazz/
LOCATION:Caen · Campus 1 · Maison de l’étudiant (MDE)\, Maison de l'étudiant Université de Caen\, Rue Colonel Usher\, Caen\, 14000\, France
CATEGORIES:Musique - Concert,Vie de campus
ATTACH;FMTTYPE=image/jpeg:https://www.unicaen.fr/wp-content/uploads/2026/04/big_band_jazz_2026.jpg
END:VEVENT
BEGIN:VEVENT
DTSTART;TZID=Europe/Paris:20260508T100000
DTEND;TZID=Europe/Paris:20260510T183000
DTSTAMP:20260420T100355
CREATED:20260409T103629Z
LAST-MODIFIED:20260409T133107Z
UID:96601-1778234400-1778437800@www.unicaen.fr
SUMMARY:Week-end bien être & Nutrition à Hauteville sur Mer ( 50)
DESCRIPTION:Le SUAPS et le SSE proposent un week-end bien être et nutrition dans la Manche. \n\n\n\n\n\nNichée entre dunes et vastes plages de sable fin\, Hauteville-sur-Mer est la station balnéaire idéale pour mêler détente\, nature et activités physiques au cœur de la côte normande le temps d’un week-end.  \n\n\n\nCourt séjour combinant randonnées pédestres & aquatiques\, pilates et mobilité souple sur la condition physique et les habitudes alimentaires. Dans quelle mesure l’activité physique assurée à une bonne nutrition\, influence-t-elle la santé et le bien-être des étudiants ? \n\n\n\n\n\nProgramme du week-end Jour 1 – vendredi 8 mai  · Départ 8H30 de CAEN devant le SUAPS \n\n\n\n\nArrivée à Hauteville\, installation au Gîte de la Croix du Sud\n\n\n\n11H Rando + pique nique ( à prévoir)  » Au bout du monde. havre de la Vanlée » par les dunes d’Annoville. retour par la plage\n\n\n\n15H Pilates en extérieur\n\n\n\n17H Atelier culinaire pour un apéritif dinatoire\n\n\n\n20H Soirée déguisée Brunch’ rock dinatoire année 70\n\n\n\n\nJour 2 – samedi 9 mai : \n\n\n\n\n8H30 Petit déjeuner en buffet ( réflexion autour des produits\, des quantités\, association\, besoins\, équilibre\, plaisir de manger…) + réveil musculaire sur la plage\n\n\n\n11H : atelier culinaire ( salade à composer) pour un repas sur site. Atelier éducatif autour des sauces et matières grasses.\n\n\n\n14H30 Pilates « doux » en salle plate + longe côte\n\n\n\n16H30 Collation / jeux sur la plage par équipes constituées sur place ( corn hall\, Molky\, Volley ball)\n\n\n\n18H30 Atelier culinaire autour du BBQ\n\n\n\n21H30 Coucher de soleil sur la digue\n\n\n\n21H45 Détente des fascias en salle plate \n\n\n\n\nJour 3 – dimanche 10 mai : \n\n\n\n\n8H30 Petit déjeuner + préparation du pique nique\n\n\n\n10H30 départ pour une rando Havre de la Sienne par les terres et chemins côtiers. retour par la plage\n\n\n\n15H Longe côte\n\n\n\n16H Rangement et collation en extérieur\n\n\n\n17H Départ vers le SUAPS\n\n\n\n18H30 Retour au SUAPS Campus 1
URL:https://www.unicaen.fr/evenement/week-end-bien-etre-nutrition-a-hauteville-sur-mer-50/
CATEGORIES:Sport,Vie de campus
ATTACH;FMTTYPE=image/jpeg:https://www.unicaen.fr/wp-content/uploads/2026/04/benutrition_web.jpg
ORGANIZER;CN="Service universitaire des activit%C3%A9s physiques et sportives (SUAPS)":MAILTO:suaps.evenement@unicaen.fr
END:VEVENT
BEGIN:VEVENT
DTSTART;TZID=Europe/Paris:20260512T200000
DTEND;TZID=Europe/Paris:20260512T200000
DTSTAMP:20260420T100355
CREATED:20260413T092644Z
LAST-MODIFIED:20260413T095322Z
UID:96669-1778616000-1778616000@www.unicaen.fr
SUMMARY:Brume Saline
DESCRIPTION:Les étudiants et étudiantes de l’atelier théâtre de la MDE ont travaillé toute l’année\, encadrés par la Compagnie Frappe-Tête Théâtre\, pour vous présenter ce spectacle ! \n\n\n\n« Et si le mythe d’Œdipe n’était pas seulement une vieille tragédie… mais un miroir brutal de notre époque ? \n\n\n\nDans Brume Saline\, 26 étudiants et étudiantes réinventent l’histoire d’Œdipe dans une mise en scène moderne\, décalée et percutante. Entre humour grinçant\, questionnements existentiels et éclats de violence\, ils explorent une humanité en crise\, perdue entre destin et liberté. \n\n\n\nIci\, les dieux se taisent… ou parlent à travers nous.Ici\, les héros doutent\, chutent\, et refusent les rôles qu’on leur impose.Ici\, la tragédie antique rencontre notre monde\, ses peurs\, ses dérives\, ses contradictions. \n\n\n\nPortée par une énergie collective et une écriture audacieuse\, cette création mêle théâtre\, réflexion et engagement pour nous plonger dans une expérience intense\, drôle parfois dérangeante\, mais profondément vivante. \n\n\n\nUn spectacle à voir pour ressentir\, questionner… et peut-être même rouvrir les yeux » \n\n\n\nUn spectacle Frappe-Tête Théâtre/La VoyouteMise en scène : Elodie FoubertÉcriture : Guillaume Hermange \n\n\n\nUne seconde représentation aura lieu le mercredi 13 mai à 20h à la Maison de l’Étudiant.
URL:https://www.unicaen.fr/evenement/brume-saline/
LOCATION:Caen · Campus 1 · Maison de l’étudiant (MDE)\, Maison de l'étudiant Université de Caen\, Rue Colonel Usher\, Caen\, 14000\, France
CATEGORIES:Théâtre,Vie de campus
ATTACH;FMTTYPE=image/jpeg:https://www.unicaen.fr/wp-content/uploads/2026/04/brume_saline.jpg
END:VEVENT
END:VCALENDAR