BEGIN:VCALENDAR
VERSION:2.0
PRODID:-//Université de Caen Normandie - ECPv6.15.18//NONSGML v1.0//EN
CALSCALE:GREGORIAN
METHOD:PUBLISH
X-WR-CALNAME:Université de Caen Normandie
X-ORIGINAL-URL:https://www.unicaen.fr
X-WR-CALDESC:Évènements pour Université de Caen Normandie
REFRESH-INTERVAL;VALUE=DURATION:PT1H
X-Robots-Tag:noindex
X-PUBLISHED-TTL:PT1H
BEGIN:VTIMEZONE
TZID:Europe/Paris
BEGIN:DAYLIGHT
TZOFFSETFROM:+0100
TZOFFSETTO:+0200
TZNAME:CEST
DTSTART:20240331T010000
END:DAYLIGHT
BEGIN:STANDARD
TZOFFSETFROM:+0200
TZOFFSETTO:+0100
TZNAME:CET
DTSTART:20241027T010000
END:STANDARD
BEGIN:DAYLIGHT
TZOFFSETFROM:+0100
TZOFFSETTO:+0200
TZNAME:CEST
DTSTART:20250330T010000
END:DAYLIGHT
BEGIN:STANDARD
TZOFFSETFROM:+0200
TZOFFSETTO:+0100
TZNAME:CET
DTSTART:20251026T010000
END:STANDARD
BEGIN:DAYLIGHT
TZOFFSETFROM:+0100
TZOFFSETTO:+0200
TZNAME:CEST
DTSTART:20260329T010000
END:DAYLIGHT
BEGIN:STANDARD
TZOFFSETFROM:+0200
TZOFFSETTO:+0100
TZNAME:CET
DTSTART:20261025T010000
END:STANDARD
END:VTIMEZONE
BEGIN:VEVENT
DTSTART;TZID=Europe/Paris:20251209T170000
DTEND;TZID=Europe/Paris:20251209T183000
DTSTAMP:20260421T214003
CREATED:20250930T135837Z
LAST-MODIFIED:20251209T131334Z
UID:89752-1765299600-1765305000@www.unicaen.fr
SUMMARY:Atelier "Favoriser son insertion professionnelle grâce à LinkedIn"
DESCRIPTION:Au programme\n\nModalités\n\nDurée de l’atelier : 1h30\nPublic : tous les étudiants\n\nObjectifs\n1. Explorer les usages de LinkedIn \n2. Compléter et améliorer son profil \n3. Valoriser ses compétences  \n4. Développer son réseau professionnel  \n5. Optimiser sa recherche d’emploi\, de stage ou d’alternance  \nInscription\nInscription obligatoire en ligne sur le Career Center UNICAEN \nNombre de places limité \nLieu\nCaen  campus 1 – bâtiment B – B1 118 \n 
URL:https://www.unicaen.fr/evenement/atelier-favoriser-son-insertion-professionnelle-grace-a-linkedin-11/
CATEGORIES:Orientation
END:VEVENT
BEGIN:VEVENT
DTSTART;TZID=Europe/Paris:20251209T173000
DTEND;TZID=Europe/Paris:20251209T193000
DTSTAMP:20260421T214003
CREATED:20251031T120307Z
LAST-MODIFIED:20251204T083428Z
UID:90986-1765301400-1765308600@www.unicaen.fr
SUMMARY:Devenir manager au sein des forces armées et de gendarmerie
DESCRIPTION:Vous souhaitez évoluer dans un environnement cadré et travailler en équipe pour servir votre pays ? Les forces armées et la gendarmerie ont un besoin constant de professionnels qualifiés pour diriger et encadrer leurs équipes. Si vous détenez au minimum un Bac+2\, vous avez la possibilité de devenir officier et assumer la responsabilité de superviser des équipes au quotidien\, que ce soit en France ou à l’étranger. \n\n\n\nPour cette deuxième conférence du cycle des Rencontres normandes autour des métiers de la défense\, vous en apprendrez plus sur les possibilités d’évolution et de management au sein des forces armées. \n\n\n\nLa conférence sera animée par Éric Allix-Desfautaux\, référent défense et sécurité (RDS) de l’université de Caen Normandie. Des intervenants et intervenantes du CIRFA\, de la gendarmerie\, de la Délégation militaire départementale du Calvados et autres seront présents. \n\n\n\nAccès libre et gratuit\, ouvert à tous les étudiants et étudiantes de l’université de Caen Normandie\, réservistes opérationnels\, réservistes honoraires et réservistes citoyens.
URL:https://www.unicaen.fr/evenement/devenir-manager-au-sein-des-forces-armees-et-de-gendarmerie/
LOCATION:Caen · Campus 4 · IAE · Amphi 2\, IAE Caen\, 3 Rue Claude Bloch\, Caen\, 14075\, France
CATEGORIES:Formation
ATTACH;FMTTYPE=image/png:https://www.unicaen.fr/wp-content/uploads/2025/10/Bandeau-conference-forces-armees.png.png
END:VEVENT
BEGIN:VEVENT
DTSTART;TZID=Europe/Paris:20251212T090000
DTEND;TZID=Europe/Paris:20251213T170000
DTSTAMP:20260421T214003
CREATED:20250930T072635Z
LAST-MODIFIED:20260119T142941Z
UID:89628-1765530000-1765645200@www.unicaen.fr
SUMMARY:Salon de l'étudiant de Caen 2025
DESCRIPTION:Le Salon de l’étudiant se déroulera les vendredi 12 et samedi 13 décembre 2025\, à Caen\, Parc des expositions. L’université de Caen Normandie est partenaire de cet événement et vous accueille sur son espace de plus de 370 m². Enseignants\, étudiants\, associations étudiantes et services à l’étudiant seront présents pour vous informer sur les formations\, les programmes\, les débouchés\, les poursuites d’études et la vie étudiante. Venez nous rencontrer\, seul ou en famille\, au cours de ces 2 journées ! \n\n\n\nL’espace de l’université\n\n\n\n\nDes stands par formation :\n\nUFR Droit\, AES et administration publique\n\n\n\nUFR HSS : histoire\, humanités\, lettres modernes\, métiers du livre et de l’édition\, philosophie\, sciences de l’éducation\, sciences du langage\, sociologie\n\n\n\nUFR LVE : langues étrangères appliquées et langues\, littératures et civilisations étrangères et régionales\n\n\n\nUFR Psychologie\n\n\n\nUFR Santé : médecine\, maïeutique (sage-femme)\, odontologie\, orthoptie\, orthophonie\, pharmacie\, tutorat santé\n\n\n\nUFR des Sciences : biologie – sciences – terre\, mathématiques – informatique\, physique – chimie – ingénierie\n\n\n\nUFR SEGGAT : sciences économiques et gestion\, géographie et aménagement \n\n\n\nUFR STAPS : activité physique adaptée et santé\, éducation motricité\, entraînement sportif\, ergonomie du sport et performance\, management du sport\n\n\n\nESIX Normandie – Ecole supérieure d’ingénieurs : agroalimentaire\, génie énergétique\, génie industriel\, génie nucléaire\, mécatronique et systèmes embarqués\n\n\n\nIAE Caen\, école universitaire de management : management\, social – santé – solidaire\, banque – finance – assurance\, comptabilité – contrôle\n\n\n\nInspé Normandie – Caen : professeur des écoles\, professeur de collège/lycée\, conseiller principal d’éducation\, pratiques et ingénierie de la formation\n\n\n\nIUT Grand Ouest Normandie : administration\, gestion\, commerce\, chimie\, biologie\, procédés industriels\, communication\, médiation\, social\, électricité\, automatique\, informatique\, énergie et sécurité\, sciences industrielles\, matériaux\, contrôle\n\n\n\n\n\nStand « Accueil – Informations générales » : vous souhaitez avoir des renseignements sur les études à l’université\, la vie étudiante (culture\, sport\, associations…)\, les bibliothèques… des étudiants de l’université vous accueillent et vous guident.\n\n\n\nStand Orientation insertion : venez rencontrer et échanger sur votre projet d’étude avec les conseillers chargé d’orientation. Les professionnels présents sur ce stand pourront vous orienter vers la ou les formations adaptées à votre profil.\n\n\n\nStand Alternance – Apprentissage : près de 70 formations de l’université sont ouvertes en alternance (contrat d’apprentissage et/ou contrat de professionnalisation). Venez découvrir les différents domaines de formation dans lequel nous proposons ce mode d’apprentissage.\n\n\n\nStand international « Partir à l’étranger » : suivre un stage ou une partie de vos études à l’étranger\, c’est possible avec l’université ! 300 établissements étrangers dans 50 pays différents à travers le monde sont partenaires de notre établissement. A vous de préparer votre mobilité !\n\n\n\n\nProgramme des conférences UNICAEN\n\n\n\nDes conférences orientées métiers\, animées par des enseignants chercheurs de l’université\, sont programmées les vendredi et samedi dans la salle de conférence n°1. \n\n\n\nVendredi 12 décembre :\n\n\n\n\n10h30 : Se former aux métiers de l’intelligence artificielle\, du Web et du numérique à l’université\n\n\n\n11h30 : Les métiers du Droit\n\n\n\n13h30 : Les métiers de la psychologie\, de l’accompagnement et de l’intervention sociale\n\n\n\n14h30 : Environnement\, transition énergétique et développement durable : filières d’études à l’université et débouchés\n\n\n\n\nSamedi 13 décembre :\n\n\n\n\n10h : La réforme des métiers de l’enseignement et de l’éducation\n\n\n\n11h : Suivre des études d’ingénieur.e à l’université\, pas à pas dès la classe préparatoire intégrée\n\n\n\n14h30 : Les métiers de la santé\, de la recherche médicale et du paramédical\n\n\n\n\nPréparez votre visite\n\n\n\n\nCatalogue des formations UNICAEN\n\n\n\nSite de l’Etudiant
URL:https://www.unicaen.fr/evenement/salon-de-letudiant-de-caen-2025/
LOCATION:Caen · Parc des expositions\, Parc des Expositions de Caen\, 17 Rue Joseph Philippon\, Caen\, 14000\, France
CATEGORIES:Formation,Orientation
ATTACH;FMTTYPE=image/jpeg:https://www.unicaen.fr/wp-content/uploads/2025/09/salont_etudiant_25_wordpress.jpg
END:VEVENT
END:VCALENDAR