BEGIN:VCALENDAR
VERSION:2.0
PRODID:-//Université de Caen Normandie - ECPv6.15.18//NONSGML v1.0//EN
CALSCALE:GREGORIAN
METHOD:PUBLISH
X-WR-CALNAME:Université de Caen Normandie
X-ORIGINAL-URL:https://www.unicaen.fr
X-WR-CALDESC:Évènements pour Université de Caen Normandie
REFRESH-INTERVAL;VALUE=DURATION:PT1H
X-Robots-Tag:noindex
X-PUBLISHED-TTL:PT1H
BEGIN:VTIMEZONE
TZID:Europe/Paris
BEGIN:DAYLIGHT
TZOFFSETFROM:+0100
TZOFFSETTO:+0200
TZNAME:CEST
DTSTART:20250330T010000
END:DAYLIGHT
BEGIN:STANDARD
TZOFFSETFROM:+0200
TZOFFSETTO:+0100
TZNAME:CET
DTSTART:20251026T010000
END:STANDARD
BEGIN:DAYLIGHT
TZOFFSETFROM:+0100
TZOFFSETTO:+0200
TZNAME:CEST
DTSTART:20260329T010000
END:DAYLIGHT
BEGIN:STANDARD
TZOFFSETFROM:+0200
TZOFFSETTO:+0100
TZNAME:CET
DTSTART:20261025T010000
END:STANDARD
BEGIN:DAYLIGHT
TZOFFSETFROM:+0100
TZOFFSETTO:+0200
TZNAME:CEST
DTSTART:20270328T010000
END:DAYLIGHT
BEGIN:STANDARD
TZOFFSETFROM:+0200
TZOFFSETTO:+0100
TZNAME:CET
DTSTART:20271031T010000
END:STANDARD
END:VTIMEZONE
BEGIN:VEVENT
DTSTART;TZID=Europe/Paris:20260408T000000
DTEND;TZID=Europe/Paris:20260522T235959
DTSTAMP:20260422T184418
CREATED:20260415T101718Z
LAST-MODIFIED:20260415T101720Z
UID:96705-1775606400-1779494399@www.unicaen.fr
SUMMARY:Exposition de sérigraphies
DESCRIPTION:Venez découvrir l’exposition de fin de workshop réalisée par les deux groupes d’étudiants et étudiantes ayant participés à l’atelier de sérigraphie proposé par le SUAC à l’ésam Caen. Vous pourrez y retrouver les créations réalisées au cours des 8 séances d’atelier qui se sont déroulées d’octobre à décembre et de janvier à mars en compagnie de l’artiste Asoa ! \n\n\n\nDurant ce workshop les étudiants et étudiantes ont pu découvrir la technique de la sérigraphie en apprenant à créer un visuel\, préparer un typon et un cadre de sérigraphie pour imprimer sur différents supports : textiles variés\, stickers\, papier… Ils ont également réalisé un fanzine collectif sur le thème de la balade des fin de journées d’été qui a été imprimé en deux couleurs en 60 exemplaires. \n\n\n\nL’exposition est visible à la Maison de l’Étudiant de Caen jusqu’au 22 mai\, du lundi au jeudi de 10h à 16h et le vendredi de 10h à 15h.
URL:https://www.unicaen.fr/evenement/exposition-de-serigraphies/
LOCATION:Caen · Campus 1 · Maison de l’étudiant (MDE)\, Maison de l'étudiant Université de Caen\, Rue Colonel Usher\, Caen\, 14000\, France
CATEGORIES:Exposition,Vie de campus
ATTACH;FMTTYPE=image/jpeg:https://www.unicaen.fr/wp-content/uploads/2026/04/exposition_serigraphies_2026.jpg
END:VEVENT
BEGIN:VEVENT
DTSTART;TZID=Europe/Paris:20260427T080000
DTEND;TZID=Europe/Paris:20260604T210000
DTSTAMP:20260422T184418
CREATED:20260409T060000Z
LAST-MODIFIED:20260403T170521Z
UID:62525-1777276800-1780606800@www.unicaen.fr
SUMMARY:Le printemps du SUAPS
DESCRIPTION:Au printemps\, le SUAPS c’est du lundi au jeudi ! *  \n\n\n\n\n\nLe SUAPS Alençon · Caen · Cherbourg vous propose de conserver une activité sportive après les congés de printemps !  \n\n\n\nActivités aquatiques\, d’expression\, de forme\, de pleine nature\, raquettes et tir\, sports collectifs\, sports de combat et arts martiaux… Il y en a pour tous les goûts ! \n\n\n\n\nProgramme \n\n\n\nS’inscrire\n\n\n\n\n\n\nLes inscriptions se feront à la semaine\, chaque semaine à partir du jeudi précédent à 12h30 \n\n\n\n\n\nCes activités vous seront proposées sous réserve que l’effectif minimal par cours soit atteint. \n\n\n\n\nRenseignements : suaps.evenement@unicaen.fr \n\n\n\n\n\n\nOuvert à toute la communauté étudiante et aux membres du personnel UNICAEN adhérents du SUAPS.
URL:https://www.unicaen.fr/evenement/maquette-de-printemps/
CATEGORIES:Sport,Vie de campus
ATTACH;FMTTYPE=image/jpeg:https://www.unicaen.fr/wp-content/uploads/2024/04/SUAPS_printemps_du_suaps_web.jpg
END:VEVENT
BEGIN:VEVENT
DTSTART;TZID=Europe/Paris:20260512T200000
DTEND;TZID=Europe/Paris:20260512T200000
DTSTAMP:20260422T184418
CREATED:20260413T092644Z
LAST-MODIFIED:20260413T095322Z
UID:96669-1778616000-1778616000@www.unicaen.fr
SUMMARY:Brume Saline
DESCRIPTION:Les étudiants et étudiantes de l’atelier théâtre de la MDE ont travaillé toute l’année\, encadrés par la Compagnie Frappe-Tête Théâtre\, pour vous présenter ce spectacle ! \n\n\n\n« Et si le mythe d’Œdipe n’était pas seulement une vieille tragédie… mais un miroir brutal de notre époque ? \n\n\n\nDans Brume Saline\, 26 étudiants et étudiantes réinventent l’histoire d’Œdipe dans une mise en scène moderne\, décalée et percutante. Entre humour grinçant\, questionnements existentiels et éclats de violence\, ils explorent une humanité en crise\, perdue entre destin et liberté. \n\n\n\nIci\, les dieux se taisent… ou parlent à travers nous.Ici\, les héros doutent\, chutent\, et refusent les rôles qu’on leur impose.Ici\, la tragédie antique rencontre notre monde\, ses peurs\, ses dérives\, ses contradictions. \n\n\n\nPortée par une énergie collective et une écriture audacieuse\, cette création mêle théâtre\, réflexion et engagement pour nous plonger dans une expérience intense\, drôle parfois dérangeante\, mais profondément vivante. \n\n\n\nUn spectacle à voir pour ressentir\, questionner… et peut-être même rouvrir les yeux » \n\n\n\nUn spectacle Frappe-Tête Théâtre/La VoyouteMise en scène : Elodie FoubertÉcriture : Guillaume Hermange \n\n\n\nUne seconde représentation aura lieu le mercredi 13 mai à 20h à la Maison de l’Étudiant.
URL:https://www.unicaen.fr/evenement/brume-saline/
LOCATION:Caen · Campus 1 · Maison de l’étudiant (MDE)\, Maison de l'étudiant Université de Caen\, Rue Colonel Usher\, Caen\, 14000\, France
CATEGORIES:Théâtre,Vie de campus
ATTACH;FMTTYPE=image/jpeg:https://www.unicaen.fr/wp-content/uploads/2026/04/brume_saline.jpg
END:VEVENT
END:VCALENDAR