BEGIN:VCALENDAR
VERSION:2.0
PRODID:-//Université de Caen Normandie - ECPv6.15.18//NONSGML v1.0//EN
CALSCALE:GREGORIAN
METHOD:PUBLISH
X-WR-CALNAME:Université de Caen Normandie
X-ORIGINAL-URL:https://www.unicaen.fr
X-WR-CALDESC:Évènements pour Université de Caen Normandie
REFRESH-INTERVAL;VALUE=DURATION:PT1H
X-Robots-Tag:noindex
X-PUBLISHED-TTL:PT1H
BEGIN:VTIMEZONE
TZID:Europe/Paris
BEGIN:DAYLIGHT
TZOFFSETFROM:+0100
TZOFFSETTO:+0200
TZNAME:CEST
DTSTART:20250330T010000
END:DAYLIGHT
BEGIN:STANDARD
TZOFFSETFROM:+0200
TZOFFSETTO:+0100
TZNAME:CET
DTSTART:20251026T010000
END:STANDARD
BEGIN:DAYLIGHT
TZOFFSETFROM:+0100
TZOFFSETTO:+0200
TZNAME:CEST
DTSTART:20260329T010000
END:DAYLIGHT
BEGIN:STANDARD
TZOFFSETFROM:+0200
TZOFFSETTO:+0100
TZNAME:CET
DTSTART:20261025T010000
END:STANDARD
BEGIN:DAYLIGHT
TZOFFSETFROM:+0100
TZOFFSETTO:+0200
TZNAME:CEST
DTSTART:20270328T010000
END:DAYLIGHT
BEGIN:STANDARD
TZOFFSETFROM:+0200
TZOFFSETTO:+0100
TZNAME:CET
DTSTART:20271031T010000
END:STANDARD
END:VTIMEZONE
BEGIN:VEVENT
DTSTART;TZID=Europe/Paris:20260320T080000
DTEND;TZID=Europe/Paris:20260505T170000
DTSTAMP:20260420T182433
CREATED:20260312T142329Z
LAST-MODIFIED:20260312T142332Z
UID:95314-1773993600-1778000400@www.unicaen.fr
SUMMARY:Histoire de l'université et de l'enseignement supérieur à Caen
DESCRIPTION:Dans le cadre du Millénaire de Caen\, les Amis de l’université de Caen Normandie ont réalisé une exposition revenant sur l’histoire de l’université et de l’enseignement supérieur à Caen de 1432 à 2025. Conçue comme une exposition itinérante\, cette exposition se trouve à l’Abbaye aux dames. \n\n\n\nEn 1432\, durant la guerre de Cent Ans\, les anglais qui occupent la Normandie fondent à Caen un « studium generale » doté\, d’abord\, des facultés de droit civil et de droit canon. En 1437\, la création de la faculté de théologie\, de celle des arts et de celle médecine complète ce qui est\, aujourd’hui\, l’une des plus anciennes universités françaises. Pendant plus de 500 ans\, l’université reste située dans son lieu d’implantation médiéval\, rue de la Chaîne\, actuelle rue Pasteur. \n\n\n\nSa longue histoire est tributaire de celle de la France et au delà de celle du monde. La destruction des bâtiments en juillet 1944 contraint l’ université à quitter son emplacement historique et impose la construction de nouveaux bâtiments : un campus dit à « l’anglo-saxonne » voit le jour au nord du château. \n\n\n\nSamedi 21 mars à 15 h dans l’auditorium de l’Abbaye aux dames : conférence inaugurale par Dominique Toulorge\, professeure agrégée honoraire de l’université de Caen Normandie et membre de l’association des amis de l’université de Caen Normandie.
URL:https://www.unicaen.fr/evenement/histoire-de-luniversite-et-de-lenseignement-superieur-a-caen/
LOCATION:Caen · Abbaye-aux-Dames\, Abbaye aux Dames de Caen\, Place Reine Mathilde\, Caen\, 14000\, France
CATEGORIES:Conférence,Exposition,Vie de campus
ATTACH;FMTTYPE=image/jpeg:https://www.unicaen.fr/wp-content/uploads/2022/08/Galerie_Vitree©DircomUnicaen-web-e1661848961897.jpg
ORGANIZER;CN="Association des amis de l'universit%C3%A9 de Caen Normandie":MAILTO:amis.universite@unicaen.fr
END:VEVENT
BEGIN:VEVENT
DTSTART;TZID=Europe/Paris:20260323T090000
DTEND;TZID=Europe/Paris:20260403T230000
DTSTAMP:20260420T182433
CREATED:20260226T165440Z
LAST-MODIFIED:20260330T142843Z
UID:94592-1774256400-1775257200@www.unicaen.fr
SUMMARY:Que portais-tu ce jour là ?
DESCRIPTION:Une exposition choc pour déconstruire un mythe de la culture du viol. \n\n\n\nCette question\, trop de victimes de viol et de violences sexuelles se la sont entendues poser : elle reprend l’idée répandue et erronée que ces personnes seraient partiellement responsables de ce qui leur est arrivé en raison de la tenue portée « ce jour-là ». \n\n\n\nCréée avec le soutien de différentes organisations dont Amnesty International\, cette exposition itinérante convoque des témoignages réels et forts et une scénographie simple. Ainsi\, elle a pour objectif d’apporter une réponse concrète à l’un des mythes les plus répandus de la culture du viol : l’idée selon laquelle les vêtements et la manière de s’habiller peuvent « inviter » au viol. C’est une idée dévastatrice\, aussi bien pour les personnes ayant subi un viol que pour notre société\, contre laquelle cette exposition nous invite à lutter.
URL:https://www.unicaen.fr/evenement/que-portais-tu-ce-jour-la/
LOCATION:Caen · Campus 2 · BU Rosalind-Franklin\, BU Rosalind-Franklin\, Campus 2\, Côte de Nacre\, Boulevard Maréchal Juin\, Caen\, 14032\, France
CATEGORIES:Exposition,Vie de campus
ATTACH;FMTTYPE=image/jpeg:https://www.unicaen.fr/wp-content/uploads/2026/02/2026-03_que-portais-tu-ce-jour-la.jpg
END:VEVENT
BEGIN:VEVENT
DTSTART;TZID=Europe/Paris:20260324T000000
DTEND;TZID=Europe/Paris:20260324T235959
DTSTAMP:20260420T182433
CREATED:20260112T090847Z
LAST-MODIFIED:20260326T140648Z
UID:93001-1774310400-1774396799@www.unicaen.fr
SUMMARY:Ocean family
DESCRIPTION:Ocean Family : une installation pour repenser notre lien à l’océan \n\n\n\nNotre relation à l’océan oscille entre fascination et destruction\, comme une histoire d’amour aussi profonde que conflictuelle. L’installation artistique « Ocean Family » met en scène cette ambivalence en proposant une expérience immersive conçue comme un jeu dont vous êtes le héros. \n\n\n\nLe public y découvre 16 personnages\, chacun menacé par des risques environnementaux\, auxquels il peut s’identifier. L’œuvre combine un jeu de cartes distribuables au visiteur et une série de 16 vidéos\, enrichies de capteurs environnementaux imaginés et réalisés par les étudiants de la Licence EEEA (Électronique\, Énergie Électrique\, Automatique). \n\n\n\nCe projet s’inscrit dans le programme Innover sans numérique\, piloté par le CEMU\, qui explore de nouvelles façons de sensibiliser aux enjeux écologiques. \n\n\n\nOcean family\, Hélène Gugenheim\, 2025. Installation réalisée avec le soutien de la Drac Normandie\, de l’institut DeMoS et de l’Université de Caen Normandie.  \n\n\n\nCe projet a bénéficié d’une aide de l’État gérée par l’Agence Nationale de la Recherche au titre du programme « Investissements d’avenir » portant la référence ANR-18-NCUN-021.
URL:https://www.unicaen.fr/evenement/ocean-family/
LOCATION:Caen · Campus 2 · BU Rosalind-Franklin\, BU Rosalind-Franklin\, Campus 2\, Côte de Nacre\, Boulevard Maréchal Juin\, Caen\, 14032\, France
CATEGORIES:Exposition
ATTACH;FMTTYPE=image/jpeg:https://www.unicaen.fr/wp-content/uploads/2026/01/DSC_8309-BD-cropped.jpg
END:VEVENT
BEGIN:VEVENT
DTSTART;TZID=Europe/Paris:20260324T110000
DTEND;TZID=Europe/Paris:20260324T150000
DTSTAMP:20260420T182433
CREATED:20260220T111715Z
LAST-MODIFIED:20260303T105032Z
UID:94429-1774350000-1774364400@www.unicaen.fr
SUMMARY:Before carnaval : prends soin de toi !
DESCRIPTION:Avec le « before du carnaval »\, l’université s’engage de nouveau pour prévenir les risques en milieu festif.  \n\n\n\nObjectif : sensibiliser l’ensemble de la communauté étudiante aux différents risques qu’elle pourrait rencontrer lors du carnaval (alcoolémie\, drogues\, violences sexistes et sexuelles\, déshydratation…). \n\n\n\n\nAu programme\n\n\n\n\nÉchange avec les professionnels du service de santé étudiante\n\n\n\nStands de la mission égalité de l’université\, et des partenaires et associations : Sid’accueil\, Addictions France\, CAARUD…\n\n\n\nDistribution de kits de prévention gratuits\n\n\n\nDépistages TROD par le SSE et Sid’Accueil\n\n\n\n\n\n\n\n\n\n\n\nProchaines dates\n\n\nPas d'événement à venir
URL:https://www.unicaen.fr/evenement/before-carnaval-prends-soin-de-toi-5/
LOCATION:Caen · Campus 1 · Bâtiment P · Aula Magna\, Aula Magna\, Esplanade de la Paix\, Caen\, 14000\, France
CATEGORIES:Santé,Vie de campus
ATTACH;FMTTYPE=image/jpeg:https://www.unicaen.fr/wp-content/uploads/2023/03/ACTU-WP-carnaval-2023.jpg
END:VEVENT
BEGIN:VEVENT
DTSTART;TZID=Europe/Paris:20260324T123000
DTEND;TZID=Europe/Paris:20260324T163000
DTSTAMP:20260420T182433
CREATED:20250304T161541Z
LAST-MODIFIED:20260313T140320Z
UID:75115-1774355400-1774369800@www.unicaen.fr
SUMMARY:Forum Ose ! sur le campus d'Alençon
DESCRIPTION:Le Forum OSE ! s’installe pour la deuxième fois à Alençon.  \n\n\n\nCet événement  entièrement dédié aux étudiants de l‘IUT Grand Ouest Normandie\, particulièrement du Pôle d’Alençon\, a un objectif clair : accompagner les apprenants dans leur recherche de stages\, d’emplois et d’alternance en leur offrant un accès privilégié à des recruteurs et des professionnels. \n\n\n\nCe que vous y trouverez\n\n\n\n\nEspace conseils : optimisez votre candidature avec du coaching CV\, une relecture de votre profil LinkedIn et des conseils sur l’utilisation de la plateforme Career Center.\n\n\n\nEspace entreprises : échangez avec des recruteurs\, découvrez des offres adaptées à votre profil et développez votre réseau professionnel.\n\n\n\nMini-conférences : bénéficiez de conseils d’experts sur la recherche d’emploi\, les attentes des entreprises et les stratégies pour réussir votre insertion professionnelle.
URL:https://www.unicaen.fr/evenement/forum-ose-sur-le-campus-dalencon/
LOCATION:Alençon · BU Olympe-de-Gouges\, Bibliothèque universitaire Olympe-de-Gouges\, Montfoulon\, Damigny\, 61250\, France
CATEGORIES:Formation,Orientation
ATTACH;FMTTYPE=image/jpeg:https://www.unicaen.fr/wp-content/uploads/2026/03/OSE-Alencon_Actu-Web-WP.jpg
END:VEVENT
BEGIN:VEVENT
DTSTART;TZID=Europe/Paris:20260324T181500
DTEND;TZID=Europe/Paris:20260324T210000
DTSTAMP:20260420T182433
CREATED:20260313T091632Z
LAST-MODIFIED:20260313T091635Z
UID:75334-1774376100-1774386000@www.unicaen.fr
SUMMARY:Rugby Cup UNICAEN : Le Rugby à 5\, un rugby pour toutes et tous !
DESCRIPTION:Le SUAPS propose une nouvelle édition de la Rugby Cup le mardi mardi 24 mars prochain sur l’Université Caen stadium. \n\n\n\nLe rugby à 5 c’est quoi ? \n\n\n\n\nCette nouvelle discipline\, facile d’accès\, qui se joue avec un minimum de 5 joueurs par équipe permet de découvrir le rugby sans contact\, mixte ! \n\n\n\nCette pratique s’accompagne d’une dimension festive et conviviale\, et permet d’ouvrir la pratique du rugby à un large public\, qu’il soit sportif ou non. \n\n\n\nLes règles sont très simples et permettent d’engager une équipe de service/ composante facilement. \n\n\n\nSoirée entièrement gratuite\, sur inscription (obligatoire)\, ouverte à tous les étudiants et personnels \n\n\n\nLes règles du jeu (FFR) \n\n\n\nRemportez la  Rugby Cup’ UNICAEN\n\n\n\n\n\nInscrivez vous vite ! équipe constituée de 10 joueurs maximum avec possibilité de s’inscrire individuellement aussi ! \n\n\n\nOuvert aux étudiants et personnels UNICAEN. \n\n\n\nRenseignements : suaps.evenement@unicaen.fr
URL:https://www.unicaen.fr/evenement/rugby-cup-unicaen-le-rugby-a-5-un-rugby-pour-toutes-et-tous/
LOCATION:Caen · Campus 1 · Stadium\, Esplanade de la Paix\, Caen\, 14000\, France
CATEGORIES:Sport,Vie de campus
ATTACH;FMTTYPE=image/jpeg:https://www.unicaen.fr/wp-content/uploads/2024/03/SUAPS_Rugbycup.jpg
ORGANIZER;CN="Service universitaire des activit%C3%A9s physiques et sportives (SUAPS)":MAILTO:suaps.evenement@unicaen.fr
END:VEVENT
BEGIN:VEVENT
DTSTART;TZID=Europe/Paris:20260324T190000
DTEND;TZID=Europe/Paris:20260324T210000
DTSTAMP:20260420T182433
CREATED:20250915T065657Z
LAST-MODIFIED:20260203T083504Z
UID:89098-1774378800-1774386000@www.unicaen.fr
SUMMARY:Soirée d’observation astronomique
DESCRIPTION:L’université de Caen Normandie et l’association normande d’astronomie (ASNORA) vous invitent à une soirée exceptionnelle d’observation du ciel. Venez explorer les astres grâce à l’expertise des membres d’ASNORA\, passionnés et spécialistes de l’astronomie. \n\n\n\nAu programme de cette soirée \n\n\n\n\nUne exploration du ciel : observez Jupiter\, Saturne\, Mars\, et même l’endroit où Neil Armstrong a posé le pied sur la Lune !\n\n\n\nDu matériel à disposition : ASNORA fournira des télescopes pour l’observation. Vous pouvez également apporter votre propre matériel\, comme un télescope ou un appareil photo numérique\, pour vivre une expérience encore plus personnalisée.\n\n\n\nDes animations pour toutes et tous : profitez des conseils et des explications des membres d’ASNORA\, qui vous guideront dans l’utilisation des instruments et partageront leurs connaissances sur les astres.\n\n\n\n\nUne soirée idéale\, en accès libre et gratuit\, pour découvrir les merveilles de l’espace en toute convivialité ! Ne manquez pas cette opportunité unique d’explorer l’espace directement depuis votre campus ! \n\n\n\n\n\nSi la météo est défavorable cette séance serait reportée au mercredi ou jeudi suivant. \n\n\n\n\n\n\n\nAssociation normande d’astronomie (ASNORA) · asnora@laposte.net -http://astrosurf.com/ASNORA/ | BVE · 02 31 56 50 94
URL:https://www.unicaen.fr/evenement/soiree-dobservation-astronomique-7/
LOCATION:Caen · Campus 2 · BU Rosalind-Franklin\, BU Rosalind-Franklin\, Campus 2\, Côte de Nacre\, Boulevard Maréchal Juin\, Caen\, 14032\, France
CATEGORIES:Vie de campus
ATTACH;FMTTYPE=image/jpeg:https://www.unicaen.fr/wp-content/uploads/2025/03/ASNORA-observation-astronomique_©.jpg
END:VEVENT
BEGIN:VEVENT
DTSTART;TZID=Europe/Paris:20260324T190000
DTEND;TZID=Europe/Paris:20260324T220000
DTSTAMP:20260420T182434
CREATED:20260316T092316Z
LAST-MODIFIED:20260316T093620Z
UID:95366-1774378800-1774389600@www.unicaen.fr
SUMMARY:"Le Monde ou Rien" et "Les biais\, ou comment ils ont massacré les dieux"
DESCRIPTION:La 30e édition du festival de théâtre étudiant Les Fous de la Rampe\, organisé par le Crous Normandie et l’université de Caen Normandie\, aura lieu du 23 mars au 10 avril 2026. 7 créations théâtrales\, 12 représentations et 9 masterclasses ! Venez découvrir les créations étudiantes et les talents de demain. \n\n\n\nAu programme le mardi 24 mars\n\n\n\n\n\n19h : « Le Monde ou Rien » – Compagnie Acheter sans négocier\n\n\n\nVous feriez quoi\, vous prendriez quoi vous ? Un lexo ? Une petite pause ? Une balade à vélo ? Deux minutes pour une dernière clope avant le spectacle ? Oui c’est vrai\, tout le monde va rentrer avant et vous arriverez le dernier\, mais ne vous inquiétez pas on vous attendra. Le temps c’est de l’argent certes\, mais parfois est-ce que ça vaudrait pas le coup d’en gâcher un peu\, de s’asseoir dans une salle pour regarder un spectacle qui sert à rien ? Prendre le temps de pas faire un truc utile. Nous on sera là en tout cas\, de l’autre côté\, sur la scène. Prêtes à vous parler de notre quotidien\, de nos stratégies de survie face au capitalisme\, d’alliances\, d’échecs\, de temps. En vous appuyant sur vos connaissances\, vous montrerez comment des trajectoires individuelles peuvent mener aux mêmes indignations. Mobilisez les notions suivantes : « travail »\, « lutte »\, « Bernard Arnault »\, « shit »\, « Birkin »\, « échec »\, « One Piece ». \n\n\n\n\n\n21h : « Les biais\, ou comment ils ont massacré les dieux » – Compagnie Syncytium\n\n\n\nIngrédients: \n\n\n\n\nVirginie BAGNEUX\, enseignante-chercheuse en psychologie\, spécialiste de l’esprit critique et des biais cognitifs\n\n\n\n7 comédiens\n\n\n\n1 chorégraphe\n\n\n\n1 costumière\n\n\n\nUn peu de folie\n\n\n\n\nÉtapes :1- Mettez une bonne dose de connaissances pour prévenir les biais cognitifs et vulgarisez bien pour qu’elles soient accessibles à tous2- Rajoutez un peu de piquant dramatique avec de l’amour et peut être même…. des morts3- Incorporez le tout dans un univers aux apparences de temple gréco-romain avec des créatures imaginaires4- Vous venez de créer un délicieux conte de vulgarisation scientifique théâtrale !Il ne vous reste plus qu’à le déguster directement le 24 et 25 Mars
URL:https://www.unicaen.fr/evenement/le-monde-ou-rien-et-les-biais-ou-comment-ils-ont-massacre-les-dieux/
LOCATION:Caen · Campus 1 · Maison de l’étudiant (MDE)\, Maison de l'étudiant Université de Caen\, Rue Colonel Usher\, Caen\, 14000\, France
CATEGORIES:Festival,Théâtre,Vie de campus
ATTACH;FMTTYPE=image/jpeg:https://www.unicaen.fr/wp-content/uploads/2026/03/30-ans-de-fous_logo-web.jpg
END:VEVENT
BEGIN:VEVENT
DTSTART;TZID=Europe/Paris:20260324T200000
DTEND;TZID=Europe/Paris:20260324T200000
DTSTAMP:20260420T182434
CREATED:20260312T094457Z
LAST-MODIFIED:20260312T094458Z
UID:95295-1774382400-1774382400@www.unicaen.fr
SUMMARY:Aucun autre choix
DESCRIPTION:Le Cinéma Lux vous propose la projection du film Aucun autre choix de Park Chan-Wook à l’amphi Daure.  \n\n\n\nDe Park Chan-Wook | Avec Lee Byung-Hun\, Ye-jin Son\, Park Hee-Soon | Comédie\, Drame\, Thriller | 2h 19min | VOST \n\n\n\nSynopsis\n\n\n\nInterdit – 12 ans \n\n\n\nCadre dans une usine de papier You Man-su est un homme heureux\, il aime sa femme\, ses enfants\, ses chiens\, sa maison. Lorsqu’il est licencié\, sa vie bascule\, il ne supporte pas l’idée de perdre son statut social et la vie qui va avec. Pour retrouver son bonheur perdu\, il n’a aucun autre choix que d’éliminer tous ses concurrents… \n\n\n\nTarifs\n\n\n\n\nTarif étudiant UNICAEN : 2 € grâce à la Contribution de vie étudiante et de campus\n\n\n\nTarif ultra réduit (Jeunes (- de 26 ans)\, Carte d’invalidité\, Demandeurs d’emploi\, Intermittents du spectacle\, Bénéficiaires du RSA\, Personnel de l’université de CAEN) : 4\,50 €\n\n\n\nTarif réduit (Étudiants (+ de 26 ans)\, Etudiants UIA\, Carte CEZAM\, Carte Trip Normand\, Carte de famille nombreuse\, Abonnement chez nos partenaires (Théâtre de Caen\, Comédie de Caen\, Le Sablier\, Panta Théâtre\, Carte SM4C\, Cité Théâtre) : 5€50\n\n\n\nTarif plein : 7€50
URL:https://www.unicaen.fr/evenement/aucun-autre-choix/
LOCATION:Caen · Campus 1 · Bâtiment P · Amphi Pierre Daure\, Amphithéâtre Pierre Daure\, Esplanade de la Paix\, Caen\, 14000\, France
CATEGORIES:Projection - Cinéma,Vie de campus
ATTACH;FMTTYPE=image/jpeg:https://www.unicaen.fr/wp-content/uploads/2026/03/aucun_autre_choix.jpg
END:VEVENT
END:VCALENDAR