BEGIN:VCALENDAR
VERSION:2.0
PRODID:-//Université de Caen Normandie - ECPv6.15.18//NONSGML v1.0//EN
CALSCALE:GREGORIAN
METHOD:PUBLISH
X-WR-CALNAME:Université de Caen Normandie
X-ORIGINAL-URL:https://www.unicaen.fr
X-WR-CALDESC:Évènements pour Université de Caen Normandie
REFRESH-INTERVAL;VALUE=DURATION:PT1H
X-Robots-Tag:noindex
X-PUBLISHED-TTL:PT1H
BEGIN:VTIMEZONE
TZID:Europe/Paris
BEGIN:DAYLIGHT
TZOFFSETFROM:+0100
TZOFFSETTO:+0200
TZNAME:CEST
DTSTART:20250330T010000
END:DAYLIGHT
BEGIN:STANDARD
TZOFFSETFROM:+0200
TZOFFSETTO:+0100
TZNAME:CET
DTSTART:20251026T010000
END:STANDARD
BEGIN:DAYLIGHT
TZOFFSETFROM:+0100
TZOFFSETTO:+0200
TZNAME:CEST
DTSTART:20260329T010000
END:DAYLIGHT
BEGIN:STANDARD
TZOFFSETFROM:+0200
TZOFFSETTO:+0100
TZNAME:CET
DTSTART:20261025T010000
END:STANDARD
BEGIN:DAYLIGHT
TZOFFSETFROM:+0100
TZOFFSETTO:+0200
TZNAME:CEST
DTSTART:20270328T010000
END:DAYLIGHT
BEGIN:STANDARD
TZOFFSETFROM:+0200
TZOFFSETTO:+0100
TZNAME:CET
DTSTART:20271031T010000
END:STANDARD
END:VTIMEZONE
BEGIN:VEVENT
DTSTART;TZID=Europe/Paris:20260302T090000
DTEND;TZID=Europe/Paris:20260313T190000
DTSTAMP:20260420T182450
CREATED:20260226T162440Z
LAST-MODIFIED:20260227T105703Z
UID:94536-1772442000-1773428400@www.unicaen.fr
SUMMARY:Colors of Pride
DESCRIPTION:Une série photographique d’Artiste Pirate\, photographe installé à Caen\, invite à explorer les liens entre corps\, identité et résistance à travers le prisme des luttes LGBTQIA+ et féministes. \n\n\n\nColors of Pride réunit 16 portraits de personnes LGBTQIA+\, inspirés de la photo de mode et parfois accompagnés de témoignages. Artiste Pirate y aborde la visibilité des personnes queers et leurs luttes.  \n\n\n\n\n« Avec Colors of Pride\, j’ai voulu représenter la diversité des orientations et des expressions sexuelles\, relationnelles et de genre\, la diversité des corps et des histoires. J’ai voulu raconter la violence subie par la communauté queer\, mais aussi sa force\, ses couleurs\, ses sourires et ses regards de défi face à l’hostilité. » \n\n\n\n\nLe vernissage aura lieu le lundi 2 mars 2026 à 16h30 dans la Maison de l’étudiant. Un temps de rencontre et d’échanges ouvert à toutes et tous\, en présence de stands d’associations locales LGBTQIA+ et féministes. \n\n\n\nPour aller plus loin\n\n\n\nLa mission Égalité-diversité et Artiste pirate vous proposent 2 ateliers pour se réunir et partager les vécus. \n\n\n\nAtelier d’écriture autour de l’exposition \n\n\n\nmardi 3 mars 2026 · 16h30 à 19h30 · MDEAnimé par Marie-Christine Gaudin et Artiste Pirate. Cet atelier invite à explorer sa propre voix et à découvrir la singularité de son écriture\, sans jugement ni prérequis. Dans un cadre bienveillant et créatif\, chacun et chacune pourra laisser émerger des textes poétiques\, sensibles et personnels\, en écho aux thématiques des expositions. \n\n\n\nAtelier photo autour de l’exposition \n\n\n\nmercredi 04 mars 2026 · 16h30 à 19h30 · CEMU Animé par Artiste Pirate. Ouvert aux femmes et aux personnes queers\, cet atelier offrira un espace d’échanges et de création autour des thématiques de la représentation queer\, du vécu corporel et de la reconstruction après des violences sexistes ou sexuelles. \n\n\n\nPour vous inscrire\, contactez la mission-égalité.
URL:https://www.unicaen.fr/evenement/colors-of-pride/
LOCATION:Caen · Campus 1 · Maison de l’étudiant (MDE)\, Maison de l'étudiant Université de Caen\, Rue Colonel Usher\, Caen\, 14000\, France
CATEGORIES:Exposition,Vie de campus
ATTACH;FMTTYPE=image/jpeg:https://www.unicaen.fr/wp-content/uploads/2026/02/colors-of-pride.jpg
END:VEVENT
BEGIN:VEVENT
DTSTART;TZID=Europe/Paris:20260310T110000
DTEND;TZID=Europe/Paris:20260310T180000
DTSTAMP:20260420T182450
CREATED:20260213T142250Z
LAST-MODIFIED:20260213T142255Z
UID:94320-1773140400-1773165600@www.unicaen.fr
SUMMARY:Braderie solidaire
DESCRIPTION:Besoin d’articles à tout petit prix ? Rendez-vous dans le hall du bâtiment Sciences 3 pour une vente solidaire ! \n\n\n\nEn septembre 2025\, la première braderie solidaire a pu voir le jour sur le campus 1\, en collaboration avec le CROUS et en partenariat avec l’association solidaire AGORAE\, profitant à pas moins de 400 étudiantes et étudiants. Plus récemment\, c’est le campus d’Ifs qui a pris le relais pour en organiser une sur son site le 13 janvier dernier\, avec plus de 250 bénéficiaires. \n\n\n\nForte de son succès\, la braderie solidaire se généralise sur tous les campus. Prochain rendez-vous : le campus 2\, le 10 mars. Grâce à la mobilisation de toutes et tous\, ces événements connaissent un beau succès auprès de la communauté étudiante. \n\n\n\nL’objectif de la braderie est double : \n\n\n\n\nProposer des articles d’occasion ou neufs à prix très attractifs\n\n\n\nReverser les recettes à des associations étudiantes à but solidaire afin que l’argent récolté soit redistribué aux étudiants qui sont en difficulté sociale et/ou financière.\n\n\n\n\nCette nouvelle édition sera en partenariat avec le Secours populaire\, pour proposer des articles neufs\, et le Bureau alimentaire étudiant\, pour proposer des articles d’occasion à tout petit prix.  \n\n\n\nDons recherchés\n\n\n\nPour continuer ces événements solidaires et en faire profiter le plus grand nombre\, nous avons besoin de vos dons ! \n\n\n\nQue donner ?\n\n\n\n\nArticles : Vêtements\, chaussures\, livres français ou langues étrangères\, vaisselle\, petit électroménager\, équipements de sport\, petit ameublement\, bijou\, décoration et accessoires (sac\, bonnet\, gants\, écharpe\, ceinture…).\n\n\n\nToutes les tailles.\n\n\n\nTous les styles – n’oubliez pas\, le vintage est aussi à la mode !\n\n\n\n\nOù et quand donner ?\n\n\n\nLes points de collecte sont accessibles toute l’année ! 3 sont disponibles pour le moment\, les modalités pour les autres campus sont à venir : \n\n\n\n\nCampus 1 : lundi\, mardi et jeudi entre 11h30 et 14h à la Maison de l’étudiant.\n\n\n\nCampus 2 : tous les jours à l’accueil de l’IUT.\n\n\n\nCampus 3 : tous les jours auprès de Françoise Fior\, bureau Réseaux & télécommunications.
URL:https://www.unicaen.fr/evenement/braderie-solidaire-4/
LOCATION:Caen · Campus 2 · Sciences 3\, UFR des Sciences\, Sciences 3\, 6 Boulevard Maréchal Juin\, Caen\, 14000\, France
CATEGORIES:Vie de campus
ATTACH;FMTTYPE=image/jpeg:https://www.unicaen.fr/wp-content/uploads/2025/12/Cover-Braderie-Solidaire.jpg
END:VEVENT
BEGIN:VEVENT
DTSTART;TZID=Europe/Paris:20260310T200000
DTEND;TZID=Europe/Paris:20260310T220000
DTSTAMP:20260420T182450
CREATED:20260226T163925Z
LAST-MODIFIED:20260302T113828Z
UID:94581-1773172800-1773180000@www.unicaen.fr
SUMMARY:La maison des femmes
DESCRIPTION:En écho à la Journée internationale des droits des femmes du 8 mars\, à travers sa mission Égalité diversité et sa cellule d’écoute et de signalement et en partenariat avec le Café des Images\, l’université de Caen Normandie diffuse le film « La Maison des femmes »\, réalisé par Mélisa Godet. \n\n\n\nSynopsis\n\n\n\nInspiré de l’histoire vraie de la gynécologue-obstétricienne Ghata Hatem et du modèle qu’elle a fondé à La Maison des Femmes de Saint-Denis\, « La Maison des femmes » est à la fois un hommage au travail des équipes de Saint-Denis et un plaidoyer pour le développement de structures similaires ailleurs. \n\n\n\nLe film rappelle que les violences intrafamiliales constituent un enjeu majeur de santé publique et que la reconstruction nécessite du temps\, de l’écoute\, des moyens et une approche coordonnée. Il contribue ainsi à changer le regard : il ne demande plus « pourquoi elle reste ? »\, mais interroge les mécanismes de la violence et la responsabilité collective dans la protection et l’accompagnement des victimes. \n\n\n\nL’œuvre met en lumière un modèle innovant où l’on ne soigne pas uniquement les blessures visibles\, mais aussi les traumatismes invisibles. On y montre combien les violences envers les femmes entraînent un délabrement psychique profond : perte d’estime de soi\, sidération\, peur constante\, culpabilité\, troubles anxieux et dépressifs\, dissociation. La violence ne s’arrête pas aux coups ; elle infiltre l’identité\, les repères\, la capacité à décider. \n\n\n\n\nForum associatif\n\n\n\nÀ partir de 19h en Aula Magna\, profitez d’un temps d’échange en présence d’associations et de partenaires de l’université : \n\n\n\n\nAssureipss\n\n\n\nCentre d’information sur les droits des femmes et des familles\n\n\n\nCellule d’écoute de l’université de Caen Normandie\n\n\n\n\n\nTarifs\n\n\n\n\nTarif étudiant UNICAEN : 2 € grâce à la Contribution de vie étudiante et de campus\n\n\n\nTarif ultra réduit (Jeunes (- de 26 ans)\, Carte d’invalidité\, Demandeurs d’emploi\, Intermittents du spectacle\, Bénéficiaires du RSA\, Personnel de l’université de CAEN) : 4\,50 €\n\n\n\nTarif réduit (Étudiants (+ de 26 ans)\, Etudiants UIA\, Carte CEZAM\, Carte Trip Normand\, Carte de famille nombreuse\, Abonnement chez nos partenaires (Théâtre de Caen\, Comédie de Caen\, Le Sablier\, Panta Théâtre\, Carte SM4C\, Cité Théâtre) : 5€50\n\n\n\nTarif plein : 7€50\n\n\n\n\n\nJe réserve ma place
URL:https://www.unicaen.fr/evenement/la-maison-des-femmes/
LOCATION:Caen · Campus 1 · Bâtiment P · Amphi Pierre Daure\, Amphithéâtre Pierre Daure\, Esplanade de la Paix\, Caen\, 14000\, France
CATEGORIES:Projection - Cinéma,Vie de campus
ATTACH;FMTTYPE=image/jpeg:https://www.unicaen.fr/wp-content/uploads/2026/02/2026-03-10_maison-des-femmes.jpg
END:VEVENT
END:VCALENDAR