BEGIN:VCALENDAR
VERSION:2.0
PRODID:-//Université de Caen Normandie - ECPv6.15.18//NONSGML v1.0//EN
CALSCALE:GREGORIAN
METHOD:PUBLISH
X-ORIGINAL-URL:https://www.unicaen.fr
X-WR-CALDESC:Évènements pour Université de Caen Normandie
REFRESH-INTERVAL;VALUE=DURATION:PT1H
X-Robots-Tag:noindex
X-PUBLISHED-TTL:PT1H
BEGIN:VTIMEZONE
TZID:Europe/Paris
BEGIN:DAYLIGHT
TZOFFSETFROM:+0100
TZOFFSETTO:+0200
TZNAME:CEST
DTSTART:20250330T010000
END:DAYLIGHT
BEGIN:STANDARD
TZOFFSETFROM:+0200
TZOFFSETTO:+0100
TZNAME:CET
DTSTART:20251026T010000
END:STANDARD
BEGIN:DAYLIGHT
TZOFFSETFROM:+0100
TZOFFSETTO:+0200
TZNAME:CEST
DTSTART:20260329T010000
END:DAYLIGHT
BEGIN:STANDARD
TZOFFSETFROM:+0200
TZOFFSETTO:+0100
TZNAME:CET
DTSTART:20261025T010000
END:STANDARD
BEGIN:DAYLIGHT
TZOFFSETFROM:+0100
TZOFFSETTO:+0200
TZNAME:CEST
DTSTART:20270328T010000
END:DAYLIGHT
BEGIN:STANDARD
TZOFFSETFROM:+0200
TZOFFSETTO:+0100
TZNAME:CET
DTSTART:20271031T010000
END:STANDARD
END:VTIMEZONE
BEGIN:VEVENT
DTSTART;TZID=Europe/Paris:20260302T090000
DTEND;TZID=Europe/Paris:20260313T190000
DTSTAMP:20260421T211707
CREATED:20260226T162440Z
LAST-MODIFIED:20260227T105703Z
UID:94536-1772442000-1773428400@www.unicaen.fr
SUMMARY:Colors of Pride
DESCRIPTION:Une série photographique d’Artiste Pirate\, photographe installé à Caen\, invite à explorer les liens entre corps\, identité et résistance à travers le prisme des luttes LGBTQIA+ et féministes. \n\n\n\nColors of Pride réunit 16 portraits de personnes LGBTQIA+\, inspirés de la photo de mode et parfois accompagnés de témoignages. Artiste Pirate y aborde la visibilité des personnes queers et leurs luttes.  \n\n\n\n\n« Avec Colors of Pride\, j’ai voulu représenter la diversité des orientations et des expressions sexuelles\, relationnelles et de genre\, la diversité des corps et des histoires. J’ai voulu raconter la violence subie par la communauté queer\, mais aussi sa force\, ses couleurs\, ses sourires et ses regards de défi face à l’hostilité. » \n\n\n\n\nLe vernissage aura lieu le lundi 2 mars 2026 à 16h30 dans la Maison de l’étudiant. Un temps de rencontre et d’échanges ouvert à toutes et tous\, en présence de stands d’associations locales LGBTQIA+ et féministes. \n\n\n\nPour aller plus loin\n\n\n\nLa mission Égalité-diversité et Artiste pirate vous proposent 2 ateliers pour se réunir et partager les vécus. \n\n\n\nAtelier d’écriture autour de l’exposition \n\n\n\nmardi 3 mars 2026 · 16h30 à 19h30 · MDEAnimé par Marie-Christine Gaudin et Artiste Pirate. Cet atelier invite à explorer sa propre voix et à découvrir la singularité de son écriture\, sans jugement ni prérequis. Dans un cadre bienveillant et créatif\, chacun et chacune pourra laisser émerger des textes poétiques\, sensibles et personnels\, en écho aux thématiques des expositions. \n\n\n\nAtelier photo autour de l’exposition \n\n\n\nmercredi 04 mars 2026 · 16h30 à 19h30 · CEMU Animé par Artiste Pirate. Ouvert aux femmes et aux personnes queers\, cet atelier offrira un espace d’échanges et de création autour des thématiques de la représentation queer\, du vécu corporel et de la reconstruction après des violences sexistes ou sexuelles. \n\n\n\nPour vous inscrire\, contactez la mission-égalité.
URL:https://www.unicaen.fr/evenement/colors-of-pride/
LOCATION:Caen · Campus 1 · Maison de l’étudiant (MDE)\, Maison de l'étudiant Université de Caen\, Rue Colonel Usher\, Caen\, 14000\, France
CATEGORIES:Exposition,Vie de campus
ATTACH;FMTTYPE=image/jpeg:https://www.unicaen.fr/wp-content/uploads/2026/02/colors-of-pride.jpg
END:VEVENT
BEGIN:VEVENT
DTSTART;TZID=Europe/Paris:20260303T200000
DTEND;TZID=Europe/Paris:20260303T200000
DTSTAMP:20260421T211707
CREATED:20260218T091449Z
LAST-MODIFIED:20260218T091451Z
UID:94380-1772568000-1772568000@www.unicaen.fr
SUMMARY:Gourou
DESCRIPTION:Le Cinéma Lux vous propose la projection du film Gourou de Yann Gozlan à l’amphi Daure. \n\n\n\nDe Yann Gozlan | Avec Pierre Niney\, Marion Barbeau\, Anthony Bajon | Drame\, Thriller | 2h 06min | VF \n\n\n\nSynopsis\n\n\n\nTout public avec avertissement \n\n\n\nMatt est le coach en développement personnel le plus suivi de France. Dans une société en quête de sens où la réussite individuelle est devenue sacrée\, il propose à ses adeptes une catharsis qui électrise les foules autant qu’elle inquiète les autorités. Sous le feu des critiques\, Matt va s’engager dans une fuite en avant qui le mènera aux frontières de la folie et peut-être de la gloire… \n\n\n\nTarifs\n\n\n\n\nTarif étudiant UNICAEN : 2 € grâce à la Contribution de vie étudiante et de campus\n\n\n\nTarif ultra réduit (Jeunes (- de 26 ans)\, Carte d’invalidité\, Demandeurs d’emploi\, Intermittents du spectacle\, Bénéficiaires du RSA\, Personnel de l’université de CAEN) : 4\,50 €\n\n\n\nTarif réduit (Étudiants (+ de 26 ans)\, Etudiants UIA\, Carte CEZAM\, Carte Trip Normand\, Carte de famille nombreuse\, Abonnement chez nos partenaires (Théâtre de Caen\, Comédie de Caen\, Le Sablier\, Panta Théâtre\, Carte SM4C\, Cité Théâtre) : 5€50\n\n\n\nTarif plein : 7€50
URL:https://www.unicaen.fr/evenement/gourou/
LOCATION:Caen · Campus 1 · Bâtiment P · Amphi Pierre Daure\, Amphithéâtre Pierre Daure\, Esplanade de la Paix\, Caen\, 14000\, France
CATEGORIES:Projection - Cinéma,Vie de campus
ATTACH;FMTTYPE=image/jpeg:https://www.unicaen.fr/wp-content/uploads/2026/02/gourou.jpg
END:VEVENT
END:VCALENDAR