BEGIN:VCALENDAR
VERSION:2.0
PRODID:-//Université de Caen Normandie - ECPv6.15.18//NONSGML v1.0//EN
CALSCALE:GREGORIAN
METHOD:PUBLISH
X-ORIGINAL-URL:https://www.unicaen.fr
X-WR-CALDESC:Évènements pour Université de Caen Normandie
REFRESH-INTERVAL;VALUE=DURATION:PT1H
X-Robots-Tag:noindex
X-PUBLISHED-TTL:PT1H
BEGIN:VTIMEZONE
TZID:Europe/Paris
BEGIN:DAYLIGHT
TZOFFSETFROM:+0100
TZOFFSETTO:+0200
TZNAME:CEST
DTSTART:20240331T010000
END:DAYLIGHT
BEGIN:STANDARD
TZOFFSETFROM:+0200
TZOFFSETTO:+0100
TZNAME:CET
DTSTART:20241027T010000
END:STANDARD
BEGIN:DAYLIGHT
TZOFFSETFROM:+0100
TZOFFSETTO:+0200
TZNAME:CEST
DTSTART:20250330T010000
END:DAYLIGHT
BEGIN:STANDARD
TZOFFSETFROM:+0200
TZOFFSETTO:+0100
TZNAME:CET
DTSTART:20251026T010000
END:STANDARD
BEGIN:DAYLIGHT
TZOFFSETFROM:+0100
TZOFFSETTO:+0200
TZNAME:CEST
DTSTART:20260329T010000
END:DAYLIGHT
BEGIN:STANDARD
TZOFFSETFROM:+0200
TZOFFSETTO:+0100
TZNAME:CET
DTSTART:20261025T010000
END:STANDARD
END:VTIMEZONE
BEGIN:VEVENT
DTSTART;TZID=Europe/Paris:20251103T000000
DTEND;TZID=Europe/Paris:20251128T235959
DTSTAMP:20260421T211743
CREATED:20251023T150139Z
LAST-MODIFIED:20251023T161354Z
UID:90740-1762128000-1764374399@www.unicaen.fr
SUMMARY:Du tissage à l'industrialisation
DESCRIPTION:Cartes postales\, photos : 100 ans d’histoire \n\n\n\nL’Association Histoire et Patrimoine de Damigny présente une exposition exceptionnelle retraçant un siècle d’histoire locale\, à travers une sélection de photographies et cartes postales anciennes. \n\n\n\nCette exposition invite le public à (re)découvrir l’évolution de Damigny\, de ses origines artisanales autour du tissage à son essor industriel\, témoignant des transformations du territoire et de la vie quotidienne de ses habitants.
URL:https://www.unicaen.fr/evenement/du-tissage-a-lindustrialisation/
LOCATION:Alençon · BU Olympe-de-Gouges\, Bibliothèque universitaire Olympe-de-Gouges\, Montfoulon\, Damigny\, 61250\, France
CATEGORIES:Exposition
ATTACH;FMTTYPE=image/png:https://www.unicaen.fr/wp-content/uploads/2025/10/1000x400.png
END:VEVENT
BEGIN:VEVENT
DTSTART;TZID=Europe/Paris:20251103T100000
DTEND;TZID=Europe/Paris:20251201T160000
DTSTAMP:20260421T211743
CREATED:20251020T133433Z
LAST-MODIFIED:20251118T163002Z
UID:90445-1762164000-1764604800@www.unicaen.fr
SUMMARY:Exposition "Casse-couilles? ...et si la contraception testiculaire cassait les codes?"
DESCRIPTION:Dans le cadre du Forum santé sexuelle organisé par le SSE\, cette exposition invite à questionner les habitudes et les rapports de genre qui se jouent dans la répartition — ou la non-répartition — de la charge contraceptive. \n\n\n\nElle met en scène le parcours de deux personnages\, Jil et Jo\, l’un né avec des ovaires\, l’autre avec des testicules\, en quête d’une autre forme de contraception. \n\n\n\nConçue par Pauline Dancin et illustrée par Bobika (dessinateur et auteur de Le Cœur des zobs)\, cette exposition est présentée en partenariat avec ASSUREIPSS.
URL:https://www.unicaen.fr/evenement/exposition-casse-couilles-et-si-la-contraception-testiculaire-cassait-les-codes/
LOCATION:Caen · Campus 1 · Maison de l’étudiant (MDE)\, Maison de l'étudiant Université de Caen\, Rue Colonel Usher\, Caen\, 14000\, France
CATEGORIES:Exposition,Santé
ATTACH;FMTTYPE=image/png:https://www.unicaen.fr/wp-content/uploads/2025/10/UNICAEN_SCD_Expo_Casse-couilles.png
END:VEVENT
BEGIN:VEVENT
DTSTART;TZID=Europe/Paris:20251104T000000
DTEND;TZID=Europe/Paris:20251128T235959
DTSTAMP:20260421T211743
CREATED:20251023T144302Z
LAST-MODIFIED:20251023T161928Z
UID:90743-1762214400-1764374399@www.unicaen.fr
SUMMARY:Le Cotentin à l’épreuve du changement climatique
DESCRIPTION:La Communauté d’agglomération du Cotentin présente une exposition dédiée aux enjeux climatiques. \n\n\n\nCette exposition\, conçue par la Communauté d’agglomération du Cotentin\, a pour objectif de sensibiliser le public à plusieurs thématiques :    Les causes et conséquences du changement climatique.    Le climat local et ses spécificités.    Les actions du Cotentin en faveur du climat dans différents secteurs d’activité.    Les 10 éco-gestes pour limiter son impact sur le climat.    Les vulnérabilités et leviers d’actions à l’échelle des pôles de proximité littoraux et terrestres.
URL:https://www.unicaen.fr/evenement/le-cotentin-a-lepreuve-du-changement-climatique/
LOCATION:Cherbourg-en-Cotentin · BU Blanche-Maupas\, Bibliothèque Universitaire Blanche Maupas\, Rue Max Pol Fouchet\, Cherbourg-en-Cotentin\, 50130\, France
CATEGORIES:Exposition,Vie de campus
ATTACH;FMTTYPE=image/png:https://www.unicaen.fr/wp-content/uploads/2025/10/1000x400_Le-Cotentin-a-lepreuve-du-changement-climatique_1.1.png
END:VEVENT
BEGIN:VEVENT
DTSTART;TZID=Europe/Paris:20251104T000000
DTEND;TZID=Europe/Paris:20251219T235959
DTSTAMP:20260421T211744
CREATED:20251023T150211Z
LAST-MODIFIED:20251023T161051Z
UID:90737-1762214400-1766188799@www.unicaen.fr
SUMMARY:Les chauves-souris en Normandie
DESCRIPTION:Découvrez l’exposition « Les chauves-souris en Normandie »\, présentée par le Groupe Mammalogique Normand ! \n\n\n\nLes chauves-souris figurent sur la liste des mal-aimés\, pourtant elles jouent un rôle essentiel dans l’équilibre de nos écosystèmes et\, par extension\, dans la vie des humains. Comme tout être vivant\, leur présence permet de préserver l’équilibre naturel\, et leur disparition le fragiliserait. Cette exposition du Groupe Mammalogique Normand raconte ces mammifères volants méconnus et victimes de préjugés tenaces\, ainsi que leur rôle crucial dans l’équilibre écologique.
URL:https://www.unicaen.fr/evenement/les-chauves-souris-en-normandie/
LOCATION:Caen · Campus 2 · BU Rosalind-Franklin\, BU Rosalind-Franklin\, Campus 2\, Côte de Nacre\, Boulevard Maréchal Juin\, Caen\, 14032\, France
CATEGORIES:Exposition
ATTACH;FMTTYPE=image/png:https://www.unicaen.fr/wp-content/uploads/2025/10/1000x400.-Ludovic-Jouve_Les-Chauves-souris-de-Normandie_2025_09-1.2.png
END:VEVENT
BEGIN:VEVENT
DTSTART;TZID=Europe/Paris:20251113T000000
DTEND;TZID=Europe/Paris:20251203T235959
DTSTAMP:20260421T211744
CREATED:20251015T101417Z
LAST-MODIFIED:20251015T101419Z
UID:90313-1762992000-1764806399@www.unicaen.fr
SUMMARY:Campus Alençon : Les semaines du bien-être
DESCRIPTION:Étudiantes et étudiants du pôle universitaire d’Alençon\, le SUAPS vous propose une nouvelle édition des semaines du bien-être ! N’hésitez plus\, avant ou pendant les examens ou tout simplement pour vous détendre\, profitez de cette offre gratuite\, faîtes une pause. \n\n\n\n\n\n\n\n\nInscrivez vous dès maintenant gratuitement en ligne !\n\n\n\n\nVenez découvrir de nouvelles pratiques douces telles que la sophrologie et le yoga ! \n\n\n\n\nSophrologie\n\n\n\nles mercredis 19\, 26 novembre et 3 décembre à partir de 18h | Restaurant Universitaire Les colonnades Campus Damigny \n\n\n\nYoga\n\n\n\nJeudis 13\, 20 et 27 novembre à partir de 17h15 | Salle de danse\, 1er étage\, Gymnase \n\n\n\n\n\n\nRenseignements : herve.lemerle@unicaen.fr
URL:https://www.unicaen.fr/evenement/campus-alencon-les-semaines-du-bien-etre/
LOCATION:Alençon · Campus Universitaire\, Pôle universitaire d'Alençon\, Damigny\, 61250\, France
CATEGORIES:Sport,Vie de campus
ATTACH;FMTTYPE=image/jpeg:https://www.unicaen.fr/wp-content/uploads/2025/03/SUAPS_SBE-Caen.jpg
ORGANIZER;CN="Service universitaire des activit%C3%A9s physiques et sportives (SUAPS)":MAILTO:suaps.evenement@unicaen.fr
END:VEVENT
BEGIN:VEVENT
DTSTART;TZID=Europe/Paris:20251117T080000
DTEND;TZID=Europe/Paris:20251122T170000
DTSTAMP:20260421T211744
CREATED:20251113T162435Z
LAST-MODIFIED:20251113T162438Z
UID:91446-1763366400-1763830800@www.unicaen.fr
SUMMARY:Handi'Taf\, un autre regard sur le handicap
DESCRIPTION:Toute la semaine\, venez découvrir l’exposition « Handi’Taf » dans le hall du bâtiment B au Campus 1. Consacrée à l’emploi\, cette exposition est composée de portraits de travailleurs\, travailleuses ou d’employés ou employées en situation de handicap. \n\n\n\nÀ travers ces photographies de professionnels dans leur environnement de travail\, l’association Ya Pas Photo propose un regard original\, positif et sans misérabilisme sur la différence pour sensibiliser le grand public sur les facettes du handicap. 
URL:https://www.unicaen.fr/evenement/handitaf-un-autre-regard-sur-le-handicap/
LOCATION:Caen · Campus 1 · Bâtiment B\, Bâtiment B\, Esplanade de la Paix\, Caen\, 14000\, France
CATEGORIES:Exposition,Université,Vie de campus
ATTACH;FMTTYPE=image/jpeg:https://www.unicaen.fr/wp-content/uploads/2025/11/2025-11-13_Handitaf-1.jpg
END:VEVENT
BEGIN:VEVENT
DTSTART;TZID=Europe/Paris:20251119T170000
DTEND;TZID=Europe/Paris:20251119T200000
DTSTAMP:20260421T211744
CREATED:20251021T131409Z
LAST-MODIFIED:20251119T093137Z
UID:79896-1763571600-1763582400@www.unicaen.fr
SUMMARY:Étu chef ? des protéines pour tous les goûts — et pour la forme !
DESCRIPTION:Le Service de santé étudiante (SSE) organise la seconde édition du forum « Étu chef ? ». Cette rencontre dédiée à la nutrition à destination de la communauté étudiante de l’université de Caen Normandie revient avec une nouvelle thématique : « Des protéines pour tous les goûts — et pour la forme ! ». \n\n\n\nL’objectif de ce forum est de montrer aux étudiantes et étudiants qu’il est possible d’avoir accès à une alimentation équilibrée\, abordable financièrement\, et de cuisiner facilement et rapidement avec peu de moyens matériels. Cette année\, les protéines sont à l’honneur\, qu’elles soient végétales ou animales. \n\n\n\nRencontres avec des spécialistes\n\n\n\nGrâce aux étudiantes et étudiants en BTS Restauration du lycée François Rabelais\, les participantes et participants pourront bénéficier d’ateliers cuisine avec des recettes faciles et bon marché. Les livrets des recettes seront distribués et diffusés sur les réseaux : retrouvez celui de l’édition précédente ! \n\n\n\nDes producteurs locaux\, ainsi que des associations caritatives locales seront également présents pour permettre à la communauté étudiante d’identifier les lieux ressources d’accès à une alimentation abordable. \n\n\n\nUn programme riche et varié\n\n\n\n\n\nDes animations vélos smoothies et shakers : pour confectionner de façon ludique des cocktails et des jus de fruits.\n\n\n\nUne performance de la compagnie eteile1 : extrait du spectacle « danse\, cuisine et cetera »\, un solo dansé\, mâché et dégusté\, mêlant mouvement\, texte et cuisine dans une expérience sensorielle et conviviale.\n\n\n\nUn jeu concours : pour remporter de nombreux lots\, répondez au questionnaire !\n\n\n\n\n\nRèglement du jeu concours\n« 3 clics et tu gagnes » \n\n\n\n\nFlashe le QR CODE ou rends-toi sur le formulaire dédié\n\n\n\n\n\nRéponds aux questions : tu trouveras de l’aide et les réponses aux questions sur les stands\n\n\n\nGagne de nombreux lots !\n\n\n\n\nQuestionnaire ouvert le mercredi 19 novembre 2025 de 17h à 20h. Tirage au sort effectué le vendredi 21 novembre parmi les participants et participantes ayant obtenu le plus grand score. Une seule participation au questionnaire par étudiant ou étudiante. \n\n\n\nFormalités à remplir\n\n\n\n\nRenseigner son nom · prénom · date de naissance\n\n\n\nRenseigner son adresse mail étudiante (pas d’adresse mail personnelle)\n\n\n\n\nFormulaire réservé aux : \n\n\n\n\nÉtudiant·es de l’université de Caen Normandie et des écoles en convention\n\n\n\nMajeur·es\n\n\n\n\nLots à gagner\n\n\n\n\n\nRepas pour deux au lycée Rabelais\n\n\n\nDes paniers de légumes\n\n\n\nDes chèques « culture »\n\n\n\nDes places de cinéma\n\n\n\nDes ustensiles de cuisine\n\n\n\nUn livre de recette\n\n\n\nEt d’autres choses encore !\n\n\n\n\n\n\n\n\n\n\n\n\n\n\n«Conversation avec une serviette» \n\n\n\n\n\n\n\n\n\nAteliers cuisine avec le lycée Rabelais \n\n\n\n\n\n\n\n\n\nVélo smoothies \n\n\n\n\n\nPartenaires :\n\n\n\nAssociations caritatives :\n\n\n\n\nBanque Alimentaire\n\n\n\nSecours populaire\n\n\n\nAgoraé – campus 1\n\n\n\nBureau alimentaire étudiant – campus 2\n\n\n\n\nLes producteurs et « assimilés »\n\n\n\n\nInterbionormandie\n\n\n\nFerme de Montamy\n\n\n\nGAS du Café des images\n\n\n\nFrance nature environnement Normandie – REGAL\n\n\n\nMission Campus 30\n\n\n\nEsix\n\n\n\n\nCulture :\n\n\n\n\nLa compagnie éteile\n\n\n\nSUAC \n\n\n\nSCD – BU Franklin\n\n\n\n\nCuisine :\n\n\n\n\nLe Lycée Rabelais\n\n\n\n\n\nLe Crous
URL:https://www.unicaen.fr/evenement/etu-chef-des-proteines-pour-tous-les-gouts-et-pour-la-forme/
LOCATION:Caen · Campus 1 · Bâtiment P · Aula Magna\, Aula Magna\, Esplanade de la Paix\, Caen\, 14000\, France
CATEGORIES:Santé,Vie de campus
ATTACH;FMTTYPE=image/jpeg:https://www.unicaen.fr/wp-content/uploads/2025/09/bandeau-web-forum-nutrition-2025.jpg
END:VEVENT
BEGIN:VEVENT
DTSTART;TZID=Europe/Paris:20251119T183000
DTEND;TZID=Europe/Paris:20251119T200000
DTSTAMP:20260421T211744
CREATED:20250924T075321Z
LAST-MODIFIED:20251118T163041Z
UID:89370-1763577000-1763582400@www.unicaen.fr
SUMMARY:Groupe de parole étudiants internationaux
DESCRIPTION:Arriver en France pour faire ses études\, c’est beaucoup de nouveautés et de changements. Avoir un temps et un lieu pour en parler est souvent utile et réconfortant. C’est pourquoi les professionnels du SSE vous invitent une fois par mois à venir partager et échanger autour de vos différentes expériences avec d’autres étudiants\, sous la forme d’un groupe de parole animé par deux psychologues. \n\n\n\n inscriptions : \n\n\n\n\nInscription
URL:https://www.unicaen.fr/evenement/groupe-de-parole-etudiants-internationaux-2/
LOCATION:Caen · Campus 2 · Tiers-lieux du BVE (rez-de-jardin BU)\, BU Rosalind-Franklin\, Campus 2\, Côte de Nacre\, Boulevard Maréchal Juin\, Caen\, 14032\, France
CATEGORIES:Santé
ATTACH;FMTTYPE=image/jpeg:https://www.unicaen.fr/wp-content/uploads/2025/09/groupe-parole-internationale2025_actu-site-web.jpg
END:VEVENT
END:VCALENDAR