BEGIN:VCALENDAR
VERSION:2.0
PRODID:-//Université de Caen Normandie - ECPv6.15.18//NONSGML v1.0//EN
CALSCALE:GREGORIAN
METHOD:PUBLISH
X-ORIGINAL-URL:https://www.unicaen.fr
X-WR-CALDESC:Évènements pour Université de Caen Normandie
REFRESH-INTERVAL;VALUE=DURATION:PT1H
X-Robots-Tag:noindex
X-PUBLISHED-TTL:PT1H
BEGIN:VTIMEZONE
TZID:Europe/Paris
BEGIN:DAYLIGHT
TZOFFSETFROM:+0100
TZOFFSETTO:+0200
TZNAME:CEST
DTSTART:20240331T010000
END:DAYLIGHT
BEGIN:STANDARD
TZOFFSETFROM:+0200
TZOFFSETTO:+0100
TZNAME:CET
DTSTART:20241027T010000
END:STANDARD
BEGIN:DAYLIGHT
TZOFFSETFROM:+0100
TZOFFSETTO:+0200
TZNAME:CEST
DTSTART:20250330T010000
END:DAYLIGHT
BEGIN:STANDARD
TZOFFSETFROM:+0200
TZOFFSETTO:+0100
TZNAME:CET
DTSTART:20251026T010000
END:STANDARD
BEGIN:DAYLIGHT
TZOFFSETFROM:+0100
TZOFFSETTO:+0200
TZNAME:CEST
DTSTART:20260329T010000
END:DAYLIGHT
BEGIN:STANDARD
TZOFFSETFROM:+0200
TZOFFSETTO:+0100
TZNAME:CET
DTSTART:20261025T010000
END:STANDARD
END:VTIMEZONE
BEGIN:VEVENT
DTSTART;TZID=Europe/Paris:20251028T000000
DTEND;TZID=Europe/Paris:20251114T235959
DTSTAMP:20260421T211712
CREATED:20251024T104901Z
LAST-MODIFIED:20260210T075712Z
UID:90781-1761609600-1763164799@www.unicaen.fr
SUMMARY:13 novembre 2015 : que dit la science des attentats ?
DESCRIPTION:La Bibliothèque Alexis de Tocqueville accueille l’exposition « 13 novembre 2015 : que dit la science des attentats ? »\, qui revient notamment sur le programme 13-Novembre\, co-porté par le neuropsychologue Francis Eustache. \n\n\n\nLa Cité des sciences et de l’industrie présente\, depuis le 23 septembre 2025\, une édition spéciale de Science Actualités\, qui met en lumière les recherches scientifiques menées depuis les attentats de 2015. Cette exposition\, qui s’installe à la Bibliothèque Alexis de Tocqueville du 28 octobre au 14 novembre\, comprend \n\n\n\n\nQuatre enquêtes principales sur les méthodes et objectifs de travail des scientifiques ; les impacts sociaux des attentats ; l’amélioration de la prise en charge du traumatisme; la mise en œuvre des moyens de surveillance au nom de la lutte antiterroriste\n\n\n\nUn film documentaire de 20 minutes avec des témoignages de scientifiques\, victimes et membres d’associations \n\n\n\n\nUn bel hommage au travail des équipes scientifiques impliquées dans le programme 13-Novembre\, notamment le laboratoire NIMH autour du professeur Francis Eustache.  \n\n\n\nReproduite par l’université de Caen Normandie avec l’aimable participation de la Bibliothèque Alexis de Tocqueville (Caen)\, cette exposition a été préparée par l’équipe de Science Actualités (Universcience) et est actuellement présentée à la Cité des sciences et de l’industrie. \n\n\n\n\n\nVernissage de l’exposition le vendredi 31 octobre  \n\n\n\n\n15h · conférence de Francis Eustache\, Denis Peschanki et Carine Klein-Peschanski autour de l’ouvrage Faire face\, les Français et les attentats du 13 novembre 2015 (Flammarion\, 2025)\n\n\n\n16h-16h30 · présentation de l’exposition \n\n\n\n\nen présence de la librairie Le Brouillon de culture
URL:https://www.unicaen.fr/evenement/13-novembre-2015-que-dit-la-science-des-attentats/
LOCATION:Caen · Bibliothèque Alexis de Tocqueville\, Bibliothèque Alexis de Tocqueville\, 15 quai Francois Mitterrand\, Caen\, 14000\, France
CATEGORIES:Exposition,Recherche
ATTACH;FMTTYPE=image/jpeg:https://www.unicaen.fr/wp-content/uploads/2025/10/que_dit_la_science_des_attentats.jpg
ORGANIZER;CN="Service universitaire de l%E2%80%99action culturelle (SUAC)":MAILTO:culture@unicaen.fr
END:VEVENT
BEGIN:VEVENT
DTSTART;TZID=Europe/Paris:20251103T000000
DTEND;TZID=Europe/Paris:20251128T235959
DTSTAMP:20260421T211712
CREATED:20251023T150139Z
LAST-MODIFIED:20251023T161354Z
UID:90740-1762128000-1764374399@www.unicaen.fr
SUMMARY:Du tissage à l'industrialisation
DESCRIPTION:Cartes postales\, photos : 100 ans d’histoire \n\n\n\nL’Association Histoire et Patrimoine de Damigny présente une exposition exceptionnelle retraçant un siècle d’histoire locale\, à travers une sélection de photographies et cartes postales anciennes. \n\n\n\nCette exposition invite le public à (re)découvrir l’évolution de Damigny\, de ses origines artisanales autour du tissage à son essor industriel\, témoignant des transformations du territoire et de la vie quotidienne de ses habitants.
URL:https://www.unicaen.fr/evenement/du-tissage-a-lindustrialisation/
LOCATION:Alençon · BU Olympe-de-Gouges\, Bibliothèque universitaire Olympe-de-Gouges\, Montfoulon\, Damigny\, 61250\, France
CATEGORIES:Exposition
ATTACH;FMTTYPE=image/png:https://www.unicaen.fr/wp-content/uploads/2025/10/1000x400.png
END:VEVENT
BEGIN:VEVENT
DTSTART;TZID=Europe/Paris:20251103T100000
DTEND;TZID=Europe/Paris:20251201T160000
DTSTAMP:20260421T211712
CREATED:20251020T133433Z
LAST-MODIFIED:20251118T163002Z
UID:90445-1762164000-1764604800@www.unicaen.fr
SUMMARY:Exposition "Casse-couilles? ...et si la contraception testiculaire cassait les codes?"
DESCRIPTION:Dans le cadre du Forum santé sexuelle organisé par le SSE\, cette exposition invite à questionner les habitudes et les rapports de genre qui se jouent dans la répartition — ou la non-répartition — de la charge contraceptive. \n\n\n\nElle met en scène le parcours de deux personnages\, Jil et Jo\, l’un né avec des ovaires\, l’autre avec des testicules\, en quête d’une autre forme de contraception. \n\n\n\nConçue par Pauline Dancin et illustrée par Bobika (dessinateur et auteur de Le Cœur des zobs)\, cette exposition est présentée en partenariat avec ASSUREIPSS.
URL:https://www.unicaen.fr/evenement/exposition-casse-couilles-et-si-la-contraception-testiculaire-cassait-les-codes/
LOCATION:Caen · Campus 1 · Maison de l’étudiant (MDE)\, Maison de l'étudiant Université de Caen\, Rue Colonel Usher\, Caen\, 14000\, France
CATEGORIES:Exposition,Santé
ATTACH;FMTTYPE=image/png:https://www.unicaen.fr/wp-content/uploads/2025/10/UNICAEN_SCD_Expo_Casse-couilles.png
END:VEVENT
BEGIN:VEVENT
DTSTART;TZID=Europe/Paris:20251104T000000
DTEND;TZID=Europe/Paris:20251128T235959
DTSTAMP:20260421T211712
CREATED:20251023T144302Z
LAST-MODIFIED:20251023T161928Z
UID:90743-1762214400-1764374399@www.unicaen.fr
SUMMARY:Le Cotentin à l’épreuve du changement climatique
DESCRIPTION:La Communauté d’agglomération du Cotentin présente une exposition dédiée aux enjeux climatiques. \n\n\n\nCette exposition\, conçue par la Communauté d’agglomération du Cotentin\, a pour objectif de sensibiliser le public à plusieurs thématiques :    Les causes et conséquences du changement climatique.    Le climat local et ses spécificités.    Les actions du Cotentin en faveur du climat dans différents secteurs d’activité.    Les 10 éco-gestes pour limiter son impact sur le climat.    Les vulnérabilités et leviers d’actions à l’échelle des pôles de proximité littoraux et terrestres.
URL:https://www.unicaen.fr/evenement/le-cotentin-a-lepreuve-du-changement-climatique/
LOCATION:Cherbourg-en-Cotentin · BU Blanche-Maupas\, Bibliothèque Universitaire Blanche Maupas\, Rue Max Pol Fouchet\, Cherbourg-en-Cotentin\, 50130\, France
CATEGORIES:Exposition,Vie de campus
ATTACH;FMTTYPE=image/png:https://www.unicaen.fr/wp-content/uploads/2025/10/1000x400_Le-Cotentin-a-lepreuve-du-changement-climatique_1.1.png
END:VEVENT
BEGIN:VEVENT
DTSTART;TZID=Europe/Paris:20251104T000000
DTEND;TZID=Europe/Paris:20251219T235959
DTSTAMP:20260421T211712
CREATED:20251023T150211Z
LAST-MODIFIED:20251023T161051Z
UID:90737-1762214400-1766188799@www.unicaen.fr
SUMMARY:Les chauves-souris en Normandie
DESCRIPTION:Découvrez l’exposition « Les chauves-souris en Normandie »\, présentée par le Groupe Mammalogique Normand ! \n\n\n\nLes chauves-souris figurent sur la liste des mal-aimés\, pourtant elles jouent un rôle essentiel dans l’équilibre de nos écosystèmes et\, par extension\, dans la vie des humains. Comme tout être vivant\, leur présence permet de préserver l’équilibre naturel\, et leur disparition le fragiliserait. Cette exposition du Groupe Mammalogique Normand raconte ces mammifères volants méconnus et victimes de préjugés tenaces\, ainsi que leur rôle crucial dans l’équilibre écologique.
URL:https://www.unicaen.fr/evenement/les-chauves-souris-en-normandie/
LOCATION:Caen · Campus 2 · BU Rosalind-Franklin\, BU Rosalind-Franklin\, Campus 2\, Côte de Nacre\, Boulevard Maréchal Juin\, Caen\, 14032\, France
CATEGORIES:Exposition
ATTACH;FMTTYPE=image/png:https://www.unicaen.fr/wp-content/uploads/2025/10/1000x400.-Ludovic-Jouve_Les-Chauves-souris-de-Normandie_2025_09-1.2.png
END:VEVENT
BEGIN:VEVENT
DTSTART;TZID=Europe/Paris:20251110T090000
DTEND;TZID=Europe/Paris:20251112T190000
DTSTAMP:20260421T211712
CREATED:20251105T131043Z
LAST-MODIFIED:20251112T114920Z
UID:91192-1762765200-1762974000@www.unicaen.fr
SUMMARY:Expositions Colors of Pride & Guerre et chair
DESCRIPTION:Deux séries photographiques d’Artiste Pirate\, photographe installé à Caen\, invitent à explorer les liens entre corps\, identité et résistance à travers le prisme des luttes LGBTQIA+ et féministes. \n\n\n\nColors of Pride réunit 16 portraits de personnes LGBTQIA+\, inspirés de la photo de mode et parfois accompagnés de témoignages. Artiste Pirate y aborde la visibilité des personnes queers et leurs luttes.  \n\n\n\n\n« Avec Colors of Pride\, j’ai voulu représenter la diversité des orientations et des expressions sexuelles\, relationnelles et de genre\, la diversité des corps et des histoires. J’ai voulu raconter la violence subie par la communauté queer\, mais aussi sa force\, ses couleurs\, ses sourires et ses regards de défi face à l’hostilité. » \n\n\n\n\nÀ travers une série d’images réalisées en 2018\, 2023 et 2025\, Guerre et chair borde la question de l’acceptation et de la réappropriation de son corps par des personnes assignées femme à la naissance. L’artiste interroge la relation à soi après un viol\, une agression ou une maladie chronique\, dans une société qui impose des normes corporelles. \n\n\n\n\n« Souhaitant participer à une narration à la fois intime et politique\, j’ai décidé d’axer une large part de mon travail sur l’acceptation de son corps et sur sa réappropriation\, dans la lignée du féminisme intersectionnel et des mouvements body-positif et #metoo. » \n\n\n\n\nLe vernissage aura lieu le lundi 10 novembre 2025\, de 16h à 19h\, en Aula Magna. Un temps de rencontre et d’échanges ouvert à toutes et tous\, en présence de stands d’associations locales LGBTQIA+ et féministes. \n\n\n\nPour aller plus loin\n\n\n\nAtelier d’écriture autour de l’exposition \n\n\n\nmercredi 12 novembre 2025 · 14h à 17h · Aula MagnaAnimé par Marie-Christine Gaudin et Artiste Pirate. Ouvert aux femmes et aux personnes queers\, cet atelier inviter à explorer sa propre voix et à découvrir la singularité de son écriture\, sans jugement ni prérequis. Dans un cadre bienveillant et créatif\, chacun et chacune pourra laisser émerger des textes poétiques\, sensibles et personnels\, en écho aux thématiques des expositions. Sans inscription. \n\n\n\nAtelier collage autour de l’exposition \n\n\n\nmercredi 12 novembre 2025 · 14h30 à 16h30 · salle B1-301\, bâtiment B Animé par Sara Benoist. Ouvert aux femmes et aux personnes queers\, cet atelier proposera de créer des œuvres en écho aux photographies exposées\, dans un moment de partage et d’expression autour des thématiques de l’égalité et du vécu corporel. Sans inscription\, dans la limite des places disponibles. \n\n\n\nAtelier photo autour de l’exposition \n\n\n\njeudi 13 novembre 2025 · 13h à 17h · salle B1-351\, bâtiment B Animé par Artiste Pirate. Ouvert aux femmes et aux personnes queers\, cet atelier offrira un espace d’échanges et de création autour des thématiques de la représentation queer\, du vécu corporel et de la reconstruction après des violences sexistes ou sexuelles. Sur inscription.
URL:https://www.unicaen.fr/evenement/expositions-colors-of-pride-guerre-et-chair/
LOCATION:Caen · Campus 1 · Bâtiment P · Aula Magna\, Aula Magna\, Esplanade de la Paix\, Caen\, 14000\, France
CATEGORIES:Exposition,Vie de campus
ATTACH;FMTTYPE=image/png:https://www.unicaen.fr/wp-content/uploads/2025/11/colors-of-pride-et-guerre-et-chair.png
END:VEVENT
BEGIN:VEVENT
DTSTART;TZID=Europe/Paris:20251112T133000
DTEND;TZID=Europe/Paris:20251112T170000
DTSTAMP:20260421T211712
CREATED:20250710T093537Z
LAST-MODIFIED:20250717T111617Z
UID:79771-1762954200-1762966800@www.unicaen.fr
SUMMARY:Permanences d'accès au droit
DESCRIPTION:Gratuites\, ces permanences sont ouvertes aux étudiants et personnels UNICAEN\, mais également à toute personne extérieure à l’université. Elles sont assurées par des professionnels du droit. \n\n\n\nPour demander un rendez-vous et exposer sa question ou son problème juridique : \n\n\n\n\ncontacter le 02 50 10 13 07 du lundi au vendredi de 9h à 12h et de 13h30 à 16h30 ;\n\n\n\nécrire à contact@cdad14.fr et indiquer son numéro de téléphone et ses disponibilités pour pouvoir être recontacté-e.\n\n\n\n\n\n\n \n\n\n\n\nLes permanences du Conseil départemental de l’accès au droit du Calvados (CDAD 14) ont lieu deux fois par mois à la bibliothèque Pierre-Sineux (salle 0)\, le mercredi de 13h30 à 17h. \n\n\n\n\nAccessible avec ou sans rendez-vous. \n\n\n\nRetrouver toutes les dates des prochaines permanences d’accès au droit sur cette page
URL:https://www.unicaen.fr/evenement/permanences-dacces-au-droit-53/
LOCATION:Caen · Campus 1 · BU Pierre-Sineux\, Bibliothèque Universitaire Pierre-Sineux\, Esplanade de la Paix\, Caen\, 14000\, France
CATEGORIES:Vie de campus
ATTACH;FMTTYPE=image/jpeg:https://www.unicaen.fr/wp-content/uploads/2022/10/Permanences-droit-1000-400.jpg
END:VEVENT
BEGIN:VEVENT
DTSTART;TZID=Europe/Paris:20251112T150000
DTEND;TZID=Europe/Paris:20251112T190000
DTSTAMP:20260421T211712
CREATED:20251105T075730Z
LAST-MODIFIED:20251105T075736Z
UID:91143-1762959600-1762974000@www.unicaen.fr
SUMMARY:Découverte de la Bavarderie - Tiers-lieu campus 2
DESCRIPTION:Venez découvrir la Bavarderie\, tiers-lieu du campus 2 dans une ambiance conviviale !  \n\n\n\nCe lieu de vie étudiante réunit services à la communauté étudiante\, animations\, distributions alimentaires\, espaces de coworking et de convivialité. Les étudiantes et étudiants relais vous accueillent\, répondent à vos questions générales sur la vie étudiante et les services à la communauté étudiante\, et vous redirigent si besoin vers les services spécialisés ! \n\n\n\nPop corn\, barbe à papa et autres surprises vous attendent…
URL:https://www.unicaen.fr/evenement/decouverte-de-la-bavarderie-tiers-lieu-campus-2/
LOCATION:Caen · Campus 2 · BU Rosalind-Franklin · Parking\, BU Rosalind-Franklin\, Campus 2\, Côte de Nacre\, Boulevard Maréchal Juin\, Caen\, 14032\, France
CATEGORIES:Vie de campus
ATTACH;FMTTYPE=image/jpeg:https://www.unicaen.fr/wp-content/uploads/2025/11/bavarderie1000.jpg
ORGANIZER;CN="Bureau de la vie %C3%A9tudiante (BVE)":MAILTO:bve@unicaen.fr
END:VEVENT
BEGIN:VEVENT
DTSTART;TZID=Europe/Paris:20251112T190000
DTEND;TZID=Europe/Paris:20251112T203000
DTSTAMP:20260421T211712
CREATED:20251006T100317Z
LAST-MODIFIED:20251006T100357Z
UID:90039-1762974000-1762979400@www.unicaen.fr
SUMMARY:Les mercredis de la danse : Danse indienne
DESCRIPTION:Le SUAPS · Caen  vous propose de découvrir de nombreuses danses du monde avec des rendez-vous du mercredi qui jalonneront votre année ! \n\n\n\nPour cette séance : Danse indienne avec Éloïse Salomé. \n\n\n\nProgramme 2025 des mercredis de la danse (pdf · 3 Mo)Télécharger (pdf · 3 Mo)\n\n\n\n\n\nInscription obligatoire. Nombre de places limité. Possibilité de s’inscrire à une ou plusieurs dates.  Les inscriptions se font uniquement via ce questionnaire en ligne. \n\n\n\n\n\n\nS’inscrire\n\n\n\n\n\nRenseignements : suaps.evenement@unicaen.fr \n\n\n\n\nOuvert à toute la communauté étudiante et aux membres du personnel UNICAEN adhérents du SUAPS.
URL:https://www.unicaen.fr/evenement/les-mercredis-de-la-danse-danse-indienne/
LOCATION:Caen · Campus 1 · SUAPS · Salle Horizon\, Service Universitaire des Activités Physiques et Sportives (SUAPS)\, Gymnase piscine\, Caen\, 14000\, France
CATEGORIES:Sport,Vie de campus
ATTACH;FMTTYPE=image/jpeg:https://www.unicaen.fr/wp-content/uploads/2025/09/mercredisdeladanse_web.jpg
END:VEVENT
BEGIN:VEVENT
DTSTART;TZID=Europe/Paris:20251112T200000
DTEND;TZID=Europe/Paris:20251112T200000
DTSTAMP:20260421T211712
CREATED:20251021T083214Z
LAST-MODIFIED:20251021T083216Z
UID:90542-1762977600-1762977600@www.unicaen.fr
SUMMARY:Amanda
DESCRIPTION:Projection du film Amanda de Mikhaël Hers à l’amphi Daure dans le cadre des 10 ans des attentats du 13 novembre 2015 et en partenariat avec l’équipe CARE 13-11. La projection sera suivie d’une discussion sur les conséquences d’un traumatisme au sein de la famille avec des professionnels\, psychologues et chercheurs\, spécialisés sur ces questions.  \n\n\n\nDe Mikhaël Hers | Avec Vincent Lacoste\, Isaure Multrier\, Stacy Martin | 1h 47min | Drame | VF \n\n\n\nSynopsis\n\n\n\nParis\, de nos jours. David\, 24 ans\, vit au présent. Il jongle entre différents petits boulots et recule\, pour un temps encore\, l’heure des choix plus engageants. Le cours tranquille des choses vole en éclats quand sa sœur aînée meurt brutalement. Il se retrouve alors en charge de sa nièce de 7 ans\, Amanda. \n\n\n\nTarifs\n\n\n\n\nTarif étudiant UNICAEN : 2 € grâce à la Contribution de vie étudiante et de campus\n\n\n\nTarif réduit : 4€50\n\n\n\nTarif plein : 5€50
URL:https://www.unicaen.fr/evenement/amanda/
LOCATION:Caen · Campus 1 · Bâtiment P · Amphi Pierre Daure\, Amphithéâtre Pierre Daure\, Esplanade de la Paix\, Caen\, 14000\, France
CATEGORIES:Projection - Cinéma,Vie de campus
ATTACH;FMTTYPE=image/jpeg:https://www.unicaen.fr/wp-content/uploads/2025/10/amanda.jpg
END:VEVENT
END:VCALENDAR