BEGIN:VCALENDAR
VERSION:2.0
PRODID:-//Université de Caen Normandie - ECPv6.15.18//NONSGML v1.0//EN
CALSCALE:GREGORIAN
METHOD:PUBLISH
X-WR-CALNAME:Université de Caen Normandie
X-ORIGINAL-URL:https://www.unicaen.fr
X-WR-CALDESC:Évènements pour Université de Caen Normandie
REFRESH-INTERVAL;VALUE=DURATION:PT1H
X-Robots-Tag:noindex
X-PUBLISHED-TTL:PT1H
BEGIN:VTIMEZONE
TZID:Europe/Paris
BEGIN:DAYLIGHT
TZOFFSETFROM:+0100
TZOFFSETTO:+0200
TZNAME:CEST
DTSTART:20240331T010000
END:DAYLIGHT
BEGIN:STANDARD
TZOFFSETFROM:+0200
TZOFFSETTO:+0100
TZNAME:CET
DTSTART:20241027T010000
END:STANDARD
BEGIN:DAYLIGHT
TZOFFSETFROM:+0100
TZOFFSETTO:+0200
TZNAME:CEST
DTSTART:20250330T010000
END:DAYLIGHT
BEGIN:STANDARD
TZOFFSETFROM:+0200
TZOFFSETTO:+0100
TZNAME:CET
DTSTART:20251026T010000
END:STANDARD
BEGIN:DAYLIGHT
TZOFFSETFROM:+0100
TZOFFSETTO:+0200
TZNAME:CEST
DTSTART:20260329T010000
END:DAYLIGHT
BEGIN:STANDARD
TZOFFSETFROM:+0200
TZOFFSETTO:+0100
TZNAME:CET
DTSTART:20261025T010000
END:STANDARD
END:VTIMEZONE
BEGIN:VEVENT
DTSTART;TZID=Europe/Paris:20250709T080000
DTEND;TZID=Europe/Paris:20251017T170000
DTSTAMP:20260425T182538
CREATED:20250820T125304Z
LAST-MODIFIED:20250829T140253Z
UID:80485-1752048000-1760720400@www.unicaen.fr
SUMMARY:Jouons cartes sur table !
DESCRIPTION:En 2022\, 71 géographes et enseignants-chercheurs de l’université de Caen Normandie en partenariat avec le CNRS et la Maison de la Recherche en Sciences Humaines se sont associés pour produire un Atlas social de Caen. Cet ouvrage\, unique en France\, dresse le portrait de la ville à travers une série de cartes à thèmes. Logement et habitat\, santé\, économie\, sport\, culture et loisirs\, accompagnement social… la diversité des thématiques dévoile des facettes méconnues\, parfois surprenantes\, de Caen.  \n\n\n\nL’exposition Jouons cartes sur table est le fruit de ce travail universitaire\, destiné à être connu de tous. Venez en apprendre toujours plus sur votre ville ! \n\n\n\n20 panneaux sont à découvrir dans le bâtiment A du campus de Caen. L’exposition se terminera par une conférence conclusive.
URL:https://www.unicaen.fr/evenement/jouons-cartes-sur-table/
LOCATION:Caen · INSPÉ\, INSPÉ Caen Normandie\, 186 Rue de la Délivrande\, Caen\, 14000\, France
CATEGORIES:Exposition
ATTACH;FMTTYPE=image/jpeg:https://www.unicaen.fr/wp-content/uploads/2025/08/atlas_social_Mise_en_avant.jpg
END:VEVENT
BEGIN:VEVENT
DTSTART;TZID=Europe/Paris:20250909T000000
DTEND;TZID=Europe/Paris:20251031T235959
DTSTAMP:20260425T182538
CREATED:20250822T143926Z
LAST-MODIFIED:20250929T065615Z
UID:89525-1757376000-1761955199@www.unicaen.fr
SUMMARY:Vous avez dit disquette ?
DESCRIPTION:Plongez dans l’évolution informatique : de la carte perforée à la disquette\, découvrez ces technologies qui ont marqué l’histoire du numérique ! \n\n\n\nLa bibliothèque universitaire Rosalind-Franklin vous invite à un voyage fascinant dans les débuts de l’informatique. Venez (re)découvrir des machines emblématiques comme l’Apple II ou l’IBM PC en fonctionnement. Explorez l’évolution des technologies avec cartes perforées\, rubans magnétiques et disquettes qui n’auront plus de secrets pour vous ! \n\n\n\nJeu-concours \n\n\n\nParticipez au grand jeu « Cékoidon ? » pour deviner l’objet mystère et tenter votre chance au tirage au sort ! \n\n\n\nVisites guidées\n\n\n\nAnimées par Charlotte Desborde \n\n\n\nJournées européennes du patrimoine\n\n\n\nRéservation obligatoire auprès de bu.rosalind-franklin@unicaen.frVendredi 19 septembre : 10h\, 11h\, 14h\, 15h\, 16h. Samedi 20 septembre : 10h\, 11h\, 14h\, 15h\, 16h. \n\n\n\nFête de la Science\n\n\n\nSans réservationSamedi 11 octobre : 10h-18h
URL:https://www.unicaen.fr/evenement/vous-avez-dit-disquette/
LOCATION:Caen · Campus 2 · BU Rosalind-Franklin\, BU Rosalind-Franklin\, Campus 2\, Côte de Nacre\, Boulevard Maréchal Juin\, Caen\, 14032\, France
CATEGORIES:Exposition,Fête de la science
ATTACH;FMTTYPE=image/jpeg:https://www.unicaen.fr/wp-content/uploads/2025/09/UNICAEN_SCD_Expo_Disquette.jpg
END:VEVENT
BEGIN:VEVENT
DTSTART;TZID=Europe/Paris:20251017T090000
DTEND;TZID=Europe/Paris:20251017T130000
DTSTAMP:20260425T182538
CREATED:20250610T080418Z
LAST-MODIFIED:20250611T122344Z
UID:78520-1760691600-1760706000@www.unicaen.fr
SUMMARY:Colloque centenaire de la naissance de Nuno Oliveira
DESCRIPTION:Pour son colloque annuel\, après celui tenu à Versailles pendant les épreuves équestres des Jeux Olympiques Paris 2024\, la Bibliothèque Mondiale du Cheval commémorera l’anniversaire de la naissance de l’écuyer Portugais Nuno Oliveira\, né le 23 juin 1925 à Lisbonne et mort le 2 février 1989 à  Perth en Australie dans un dénuement propre aux grands passionnés. \n\n\n\nCe qui rend Nuno Oliveira et son legs unique\, c’est qu’il concevait en effet l’équitation comme un art véritable\, ajouté même d’une dimension spirituelle\, là où la compétition est souvent le moteur de sa pratique. \n\n\n\nPersonnalité « puissante »\, nourri dès sa jeunesse des préceptes de l’équitation classique puisés dans la bibliothèque de Manuel de Barros\, riche propriétaire de chevaux Portugais\, doté d’un talent et d’un tact équestre mondialement reconnu\, il passa sa vie à transmettre son savoir et sa « philosophie ». \n\n\n\nCe colloque est organisé par la Bibliothèque mondiale du cheval
URL:https://www.unicaen.fr/evenement/colloque-centenaire-de-la-naissance-de-nuno-oliveira/
LOCATION:Saumur · Théâtre Bouvet Labubay\, Bouvet Ladubay\, 101 Route de Gennes\, Saumur\, 49400\, France
CATEGORIES:Congrès - Colloque
ATTACH;FMTTYPE=image/jpeg:https://www.unicaen.fr/wp-content/uploads/2025/06/cheval.jpg
END:VEVENT
BEGIN:VEVENT
DTSTART;TZID=Europe/Paris:20251017T110000
DTEND;TZID=Europe/Paris:20251017T123000
DTSTAMP:20260425T182538
CREATED:20250930T133934Z
LAST-MODIFIED:20251014T074113Z
UID:89714-1760698800-1760704200@www.unicaen.fr
SUMMARY:Atelier "Je décroche mon stage!"
DESCRIPTION:Au programme\n\nModalités\n\nDurée de l’atelier : 1h30. Démarrage à l’heure  \nPublic : tous les étudiants \nlieu: campus 1\n\nObjectifs\n\n1. Acquérir quelques bases sur les acteurs de l’emploi\n2. Clarifier mon projet pour adapter mes recherches\n3 .Cibler une entreprise\n4. Découvrir des outils professionnels d’information\n\nInscription\n\nInscription obligatoire en ligne via le Career center\nNombre de places limité\n\n\nCET ATELIER N’EST PAS UNE RELECTURE DE CV ET LETTRE DE MOTIVATION\n\n\n\n\n \n 
URL:https://www.unicaen.fr/evenement/atelier-je-decroche-mon-stage-2/
LOCATION:Caen · Campus 1 · Bâtiment B · Espace Orientation Insertion (EOI)\, Bâtiment B\, Esplanade de la Paix\, Caen\, 14000\, France
CATEGORIES:Formation,Orientation
ATTACH;FMTTYPE=image/jpeg:https://www.unicaen.fr/wp-content/uploads/2025/09/Visuel-Je-decroche-mon-stage.jpg
ORGANIZER;CN="Espace orientation insertion (EOI)":MAILTO:orientationinsertion@unicaen.fr
END:VEVENT
BEGIN:VEVENT
DTSTART;TZID=Europe/Paris:20251017T140000
DTEND;TZID=Europe/Paris:20251019T200000
DTSTAMP:20260425T182538
CREATED:20251001T092729Z
LAST-MODIFIED:20251013T133558Z
UID:89767-1760709600-1760904000@www.unicaen.fr
SUMMARY:Week-end randonnée & longe-côte à Hauteville sur Mer ( 50)
DESCRIPTION:Le SUAPS propose un week-end de stage de randonnée & longe côte dans la Manche. \n\n\n\n\n\nNichée entre dunes et vastes plages de sable fin\, Hauteville-sur-Mer est la station balnéaire idéale pour mêler détente\, nature et activités physiques au cœur de la côte normande le temps d’un week-end. Entre randonnées iodées\, baignades vivifiantes en longe côte et panoramas sur le large\, Hauteville-sur-Mer invite à la détente et à l’évasion. \n\n\n\n\n\nProgramme du week-end à Hauteville sur merJour 1 – vendredi 17 octobre ( après midi · Départ 15H de CAEN  devant le SUAPS) \n\n\n\n\nArrivée à Hauteville\, installation au Gîte de mer\n\n\n\nDépart vers un parcours découverte du site puis sortie longe côte au coucher de soleil\n\n\n\nREPAS PARTAGE ( non compris)\n\n\n\n\nJour 2 – samedi 18 octobre : \n\n\n\n\nRandonnée : la grande boucle GR223\n\n\n\nPause déjeuner (pique nique fourni)\n\n\n\nSortie Longe côte\n\n\n\nRepas au gîte\n\n\n\n\nJour 3 – dimanche 19 octobre : \n\n\n\n\nAu réveil : randonnée matinale sur le chemin des Dunes d’Annoville ( fat burning)\n\n\n\nPetit déjeuner sur la plage\n\n\n\nRetour par la plage vers le Gîte\n\n\n\nDéjeuner au gîte\n\n\n\nRetour en fin d’après-midi vers l’université (vers 17H).\n\n\n\n\nPré- requisTenir une randonnée de 3H & pouvoir marcher dans l’eau 30 minutes
URL:https://www.unicaen.fr/evenement/week-end-randonnee-longe-cote-a-hauteville-sur-mer-50/
CATEGORIES:Sport,Vie de campus
ATTACH;FMTTYPE=image/jpeg:https://www.unicaen.fr/wp-content/uploads/2025/10/SUAPS_Rando_HSM.jpg
ORGANIZER;CN="Service universitaire des activit%C3%A9s physiques et sportives (SUAPS)":MAILTO:suaps.evenement@unicaen.fr
END:VEVENT
END:VCALENDAR