BEGIN:VCALENDAR
VERSION:2.0
PRODID:-//Université de Caen Normandie - ECPv6.15.18//NONSGML v1.0//EN
CALSCALE:GREGORIAN
METHOD:PUBLISH
X-WR-CALNAME:Université de Caen Normandie
X-ORIGINAL-URL:https://www.unicaen.fr
X-WR-CALDESC:Évènements pour Université de Caen Normandie
REFRESH-INTERVAL;VALUE=DURATION:PT1H
X-Robots-Tag:noindex
X-PUBLISHED-TTL:PT1H
BEGIN:VTIMEZONE
TZID:Europe/Paris
BEGIN:DAYLIGHT
TZOFFSETFROM:+0100
TZOFFSETTO:+0200
TZNAME:CEST
DTSTART:20240331T010000
END:DAYLIGHT
BEGIN:STANDARD
TZOFFSETFROM:+0200
TZOFFSETTO:+0100
TZNAME:CET
DTSTART:20241027T010000
END:STANDARD
BEGIN:DAYLIGHT
TZOFFSETFROM:+0100
TZOFFSETTO:+0200
TZNAME:CEST
DTSTART:20250330T010000
END:DAYLIGHT
BEGIN:STANDARD
TZOFFSETFROM:+0200
TZOFFSETTO:+0100
TZNAME:CET
DTSTART:20251026T010000
END:STANDARD
BEGIN:DAYLIGHT
TZOFFSETFROM:+0100
TZOFFSETTO:+0200
TZNAME:CEST
DTSTART:20260329T010000
END:DAYLIGHT
BEGIN:STANDARD
TZOFFSETFROM:+0200
TZOFFSETTO:+0100
TZNAME:CET
DTSTART:20261025T010000
END:STANDARD
END:VTIMEZONE
BEGIN:VEVENT
DTSTART;TZID=Europe/Paris:20250401T000000
DTEND;TZID=Europe/Paris:20250430T235959
DTSTAMP:20260423T143436
CREATED:20240313T083138Z
LAST-MODIFIED:20250422T083118Z
UID:61242-1743465600-1746057599@www.unicaen.fr
SUMMARY:Grand Challenge de printemps ENDONORA
DESCRIPTION:Avec l’arrivée du printemps\, le SUAPS\, en partenariat avec Endonora\, vous invite à bouger et à relever un défi individuel : le Challenge Sportif Endonora ! \n\n\n\n \n\n\n\nDécouvrez ou faites découvrir les parcours sportifs audio-coachés Endonora et tentez ENSEMBLE de remporter des cadeaux offerts par ENDONORA. \n\n\n\nParticipation gratuite et ouverte à tous les étudiants et personnels de l’université de Caen Normandie. \n\n\n\n🚀 Endonora\, c’est quoi exactement?\n\n\n\n\nUn parcours pédestre sur le campus et son environnement à réaliser en marchant ou en courant à votre rythme…un guidage audio vous indique les directions du parcours (30 à 40 mn selon les parcours proposés) et vous coache dans la réalisation de quelques exercices de renforcement musculaire adaptés à tous les niveaux. \n\n\n\n🚀 Endonora\, comment cela fonctionne ?\n\n\n\n\nDécouvrez et téléchargez l’application Endonora. Rendez-vous sur un point de départ et choisissez un des parcours sportifs proposés par UNICAEN : \n\n\n\n\nCaen \n\n\n\n\nCampus 1 : depuis l’arche de l’université Caen Stadium\n\n\n\nCampus 2 : départ bibliothèque\n\n\n\nCampus 3 : entrée IUT \n\n\n\n\n\n\nAlençon \n\n\n\n\nCampus de Damigny : départs depuis fontaine devant bâtiment IUT\n\n\n\n\n\n\nVire \n\n\n\n\nCampus de Vire depuis entrée du bâtiment de l’IUT\n\n\n\n\n\n\nComplétez le parcours à votre rythme\, en suivant l’itinéraire et en réalisant les ateliers sportifs. \n\n\n\n\n \n\n\n\n📲 Prêt à relever le défi ? \n\n\n\n\nPour les « nouveaux »\, voici comment commencer : \n\n\n\n\nTéléchargez l’application Endonora\n\n\n\nCréez votre compte.\n\n\n\n\nPour tous : \n\n\n\n\nTrouvez le parcours qui vous inspire\, et parcourez le entre le 20 et le 30 mars 2024\n\n\n\n\nNe manquez pas cette occasion de découvrir ou faire découvrir des parcours conçus spécialement pour la communauté UNICAEN et de vous amuser entre étudiants et/ou collègues tout en prenant soin de votre santé. \n\n\n\nEnsemble\, faisons de l’activité physique un pilier de notre quotidien ! \n\n\n\nÀ bientôt sur vos parcours ! \n\n\n\n\nConditions générales d’Utilisation
URL:https://www.unicaen.fr/evenement/grand-challenge-de-printemps-endonora/
CATEGORIES:Sport,Vie de campus
ATTACH;FMTTYPE=image/jpeg:https://www.unicaen.fr/wp-content/uploads/2024/03/suaps_endonora_printemps.jpg
ORGANIZER;CN="Service universitaire des activit%C3%A9s physiques et sportives (SUAPS)":MAILTO:suaps.evenement@unicaen.fr
END:VEVENT
BEGIN:VEVENT
DTSTART;TZID=Europe/Paris:20250425T180000
DTEND;TZID=Europe/Paris:20250625T180000
DTSTAMP:20260423T143436
CREATED:20250417T095522Z
LAST-MODIFIED:20250513T140805Z
UID:77170-1745604000-1750874400@www.unicaen.fr
SUMMARY:Tchernobyl\, l'avenir contaminé
DESCRIPTION:Les étudiantes et étudiants du master de Sociologie et de licence de Sciences proposent une exposition à l’occasion du retour d’un fonds d’archives de Tchernobyl à l’université de Caen Normandie. \n\n\n\nSous la direction de Frédérick Lemarchand\, professeur de sociologie\, et Galia Ackerman\, historienne\, chercheure associée au CERREV\, les étudiantes et étudiants du master de Sociologie\, parcours Gouvernance des risques et de l’environnement (GREEN) et Vulnérabilités\, et de licence de Sciences offrent une exposition originale de documents uniques (carnet intime de liquidateur\, dessins d’enfants\, photographies) et d’objets originaux (exposés à Barcelone en 2020) à travers un parcours didactique. \n\n\n\nDes causes aux conséquences de l’accident\, l’exposition de la MRSH de Caen est l’occasion de questionner le lourd héritage de la catastrophe de Tchernobyl\, objet de recherche de l’équipe du CERREV depuis près de trente ans\, notamment au moment où la renucléarisation de la France se pose en enjeu politique. \n\n\n\nInauguration\n\n\n\nL’inauguration de l’exposition aura lieu le vendredi 25 avril 2025\, à partir de 18h\, dans le hall de la MRSH. \n\n\n\n\n18h | Conférence de Galia Ackerman\, auteure de Traverser Tchernobyl (Premier parallèle\, 2016) et Tchernobyl\, retour sur un désastre (Buchet-Chastel\, 2006)Galia Ackerman\, née le 24 juin 1948 à Moscou\, est une écrivaine\, historienne\, journaliste\, essayiste et traductrice littéraire francorusse\, spécialiste du monde russe et ex-soviétique. Elle est chercheure associée au CERREV à l’université de Caen Normandie.\n\n\n\n\n\n20h | Projection du film documentaire La vie contaminée\, réalisé par David Desramé et Dominique Maestrali (Les ateliers du Doc)Il relate le travail d’une équipe de sociologues de l’université de Caen Normandie (L. Bocéno\, G. Grandazzi et F. Lemarchand) dans les zones contaminées du Belarus en 1998. Ce film unique fait l’autopsie d’un pays ravagé où le pire est encore à venir. Une enquête clandestine édifiante sur les conséquences de la plus grande catastrophe nucléaire civile.
URL:https://www.unicaen.fr/evenement/tchernobyl-lavenir-contamine/
LOCATION:Caen · Campus 1 · Maison de la recherche en sciences humaines (MRSH)\, Campus 1\, Maison de la recherche en sciences humaines (MRSH)\, 1 Esplanade de la Paix\, Caen\, 14000\, France
CATEGORIES:Exposition
ATTACH;FMTTYPE=image/jpeg:https://www.unicaen.fr/wp-content/uploads/2025/04/2024-04-25_06-25_Expo-Tchernobyl.jpg
END:VEVENT
BEGIN:VEVENT
DTSTART;TZID=Europe/Paris:20250429T140000
DTEND;TZID=Europe/Paris:20250429T170000
DTSTAMP:20260423T143436
CREATED:20250415T091936Z
LAST-MODIFIED:20250415T091938Z
UID:77049-1745935200-1745946000@www.unicaen.fr
SUMMARY:Adoptez le numérique responsable dans votre quotidien
DESCRIPTION:Le numérique fait partie intégrante de notre quotidien. Pourtant\, ses impacts restent encore méconnus\, bien qu’ils soient conséquents\, à la fois sur le plan environnemental et sociétal. La mission Campus 30 propose une Fresque du numérique\, atelier de sensibilisation ludique et collaboratif\, idéal pour en savoir plus sur le numérique et ses conséquences. \n\n\n\nUn atelier pour comprendre l’impact du numérique sur l’environnement\n\n\n\nLa Fresque du numérique est un atelier conçu sur le modèle de la Fresque du climat. Il se déroule en quatre temps : compréhension\, créativité\, restitution et passage à l’action. Son objectif est de sensibiliser les participantes et participants aux enjeux environnementaux liés au numérique\, tout en proposant des pistes d’action concrètes pour tendre vers un numérique plus soutenable\, et en ouvrant le dialogue autour de ces questions. \n\n\n\nLa Fresque du numérique aura lieu le mardi 29 avril\, de 14h à 17h\, sur le campus 1. Le lieu précis vous sera communiqué après avoir rempli le formulaire d’inscription. L’atelier est ouvert aux personnels\, aux étudiants et aux étudiantes de l’université. \n\n\n\n\nJe participe !\n\n\n\n\nLe numérique responsable comme objectif stratégique de l’établissement\n\n\n\nLa promotion du numérique responsable s’inscrit pleinement dans les objectifs stratégiques du Schéma directeur du développement durable et de la responsabilité sociétale et environnementale (SD-DD&RSE). En intégrant cette démarche\, il est possible de mieux maîtriser la consommation des ressources énergétiques\, de limiter les déchets\, notamment les D3E et l’emballage\, et d’améliorer l’accessibilité numérique pour favoriser l’inclusion. \n\n\n\nLe numérique responsable occupe une place croissante dans les réflexions menées par la Direction du système d’information (DSI). La rédaction du plan de sobriété a permis d’identifier les leviers d’actions liés au numérique afin d’agir sur les consommations énergétiques pour réduire l’impact environnemental. Plusieurs actions ont déjà été engagées\, comme l’extension de la durée d’usage du matériel informatique à 10 ans\, et son remplacement progressif par des équipements plus durables ou encore le déploiement des bureaux à distance.  \n\n\n\nLa sensibilisation de la communauté universitaire fait également partie des actions à mener. Être sensibilisé au numérique et à ses impacts permet à toutes et tous d’agir plus durablement. \n\n\n\nPour en savoir plus sur le numérique responsable\, veuillez consulter l’objectif 4.5 « Promouvoir le numérique responsable » du Schéma directeur DD&RSE (pp. 65-66)
URL:https://www.unicaen.fr/evenement/adoptez-le-numerique-responsable-dans-votre-quotidien/
CATEGORIES:Développement durable,Vie de campus
ATTACH;FMTTYPE=image/jpeg:https://www.unicaen.fr/wp-content/uploads/2025/04/UNICAEN_Mission-Campus-30_Numerique-responsable.jpg
ORGANIZER;CN="Mission Campus 30":MAILTO:campus30@unicaen.fr
END:VEVENT
BEGIN:VEVENT
DTSTART;TZID=Europe/Paris:20250429T170000
DTEND;TZID=Europe/Paris:20250429T190000
DTSTAMP:20260423T143436
CREATED:20250310T110942Z
LAST-MODIFIED:20250425T124314Z
UID:75427-1745946000-1745953200@www.unicaen.fr
SUMMARY:Atelier Broderie : Créez et embellissez votre campus
DESCRIPTION:Dans le cadre du projet Garden Party\, un atelier broderie est proposé aux étudiants pour favoriser leur implication dans la vie du campus et l’animation du tiers-lieu du campus 2. Cet atelier vise à associer pratique artistique et engagement écologique en créant des décorations réutilisables pour embellir les événements et les espaces de vie universitaire. \n\n\n\nCet atelier s’adresse à tous les étudiants\, sans prérequis en broderie. Il permet de découvrir et de pratiquer cette discipline dans un cadre convivial\, tout en participant à l’amélioration des espaces communs du campus. Les créations réalisées seront d’abord utilisées pour la décoration de la Garden Party\, puis serviront à embellir durablement le tiers-lieu. \n\n\n\nObjectifs du projet\n\n\n\n\nImpliquer les étudiants dans la vie du campus en les intégrant à des projets collaboratifs\n\n\n\nFavoriser l’expression artistique à travers une pratique accessible à tous\n\n\n\nS’inscrire dans une démarche écoresponsable en réutilisant les œuvres pour différents événements et aménagements\n\n\n\n\nInscriptions et informations\n\n\n\nL’atelier est gratuit et ouvert à tous. Les étudiants intéressés peuvent s’inscrire en remplissant le formulaire en ligne disponible à l’adresse suivante : \n\n\n\nFormulaire d’inscription \n\n\n\nCet atelier offre l’opportunité de s’initier à la broderie tout en contribuant à la dynamique artistique et écologique du campus.
URL:https://www.unicaen.fr/evenement/atelier-broderie-creez-et-embellissez-votre-campus-3/
LOCATION:Caen · Campus 2 · Tiers-lieux du BVE (rez-de-jardin BU)\, BU Rosalind-Franklin\, Campus 2\, Côte de Nacre\, Boulevard Maréchal Juin\, Caen\, 14032\, France
ATTACH;FMTTYPE=image/png:https://www.unicaen.fr/wp-content/uploads/2025/03/Atelier-broderie-fanion-campus-2.png
ORGANIZER;CN="Bureau de la vie %C3%A9tudiante (BVE)":MAILTO:bve@unicaen.fr
END:VEVENT
BEGIN:VEVENT
DTSTART;TZID=Europe/Paris:20250429T183000
DTEND;TZID=Europe/Paris:20250429T183000
DTSTAMP:20260423T143436
CREATED:20250414T085636Z
LAST-MODIFIED:20250414T085638Z
UID:77019-1745951400-1745951400@www.unicaen.fr
SUMMARY:Le Forum vidéo
DESCRIPTION:Le Forum vidéo est de retour pour une 4ème édition ! \n\n\n\nVenez découvrir une programmation de courts-métrages impliquant les étudiants et étudiantes sur grand écran en la présence de leurs réalisateurs et réalisatrices. \n\n\n\nÀ la fin de cette projection\, nous vous proposerons une rencontre exceptionnelle avec des professionnels du milieu de l’audiovisuel\, anciens étudiants ou étudiantes de l’université de Caen Normandie. \n\n\n\nVous avez une vidéo à proposer ? Inscrivez-vous vite ! \n\n\n\nCet événement est organisé par l’association étudiante Nouvel œil et la MDE.
URL:https://www.unicaen.fr/evenement/le-forum-video-2/
LOCATION:Caen · Campus 1 · Maison de l’étudiant (MDE)\, Maison de l'étudiant Université de Caen\, Rue Colonel Usher\, Caen\, 14000\, France
CATEGORIES:Projection - Cinéma,Vie de campus
ATTACH;FMTTYPE=image/jpeg:https://www.unicaen.fr/wp-content/uploads/2024/09/Forum_video.jpg
END:VEVENT
BEGIN:VEVENT
DTSTART;TZID=Europe/Paris:20250429T194500
DTEND;TZID=Europe/Paris:20250429T194500
DTSTAMP:20260423T143436
CREATED:20250327T140623Z
LAST-MODIFIED:20250327T140624Z
UID:76450-1745955900-1745955900@www.unicaen.fr
SUMMARY:Babylon
DESCRIPTION:Ciné-concert avec la projection de Babylon et la fanfare Café Calva Caennexion. La Café Calva Caennexion\, née en 2018\, est une fanfare d’étudiants en santé de la ville de Caen\, qui regroupe des étudiants consciencieux le jour et des p’tits clowns singuliers la nuit\, avec toujours à portée de main un esprit carabin indéfectible. Vous pourrez découvrir leur répertoire varié allant de Charles Aznavour à Billie Eilish\, en passant par Coldplay et Stevie Wonder. Pour cette fanfare\, un seul mot d’ordre : une bonne note jouée avec timidité est une fausse note\, alors qu’une fausse note jouée avec conviction est une interprétation.La soirée a été imaginée par les jeunes ambassadeurs de la culture qui organisent quelques surprises… \n\n\n\nDe Damien Chazelle | Par Brad Pitt\, Margot Robbie\, Diego Calva | 3 h 09 min | Drame\, Historique \n\n\n\nSynopsis\n\n\n\nLos Angeles des années 1920. Récit d’une ambition démesurée et d’excès les plus fous\, BABYLON retrace l’ascension et la chute de différents personnages lors de la création d’Hollywood\, une ère de décadence et de dépravation sans limites. \n\n\n\nTarifs \n\n\n\n\nTarif étudiant UNICAEN : 2 € grâce à la Contribution de vie étudiante et de campus\n\n\n\nTarif réduit : 4€50\n\n\n\nTarif plein : 5€50
URL:https://www.unicaen.fr/evenement/babylon-2/
LOCATION:Caen · Campus 1 · Bâtiment P · Amphi Pierre Daure\, Amphithéâtre Pierre Daure\, Esplanade de la Paix\, Caen\, 14000\, France
CATEGORIES:Projection - Cinéma,Vie de campus
ATTACH;FMTTYPE=image/jpeg:https://www.unicaen.fr/wp-content/uploads/2023/02/bandeau_babylon.jpg
END:VEVENT
END:VCALENDAR