BEGIN:VCALENDAR
VERSION:2.0
PRODID:-//Université de Caen Normandie - ECPv6.15.18//NONSGML v1.0//EN
CALSCALE:GREGORIAN
METHOD:PUBLISH
X-WR-CALNAME:Université de Caen Normandie
X-ORIGINAL-URL:https://www.unicaen.fr
X-WR-CALDESC:Évènements pour Université de Caen Normandie
REFRESH-INTERVAL;VALUE=DURATION:PT1H
X-Robots-Tag:noindex
X-PUBLISHED-TTL:PT1H
BEGIN:VTIMEZONE
TZID:Europe/Paris
BEGIN:DAYLIGHT
TZOFFSETFROM:+0100
TZOFFSETTO:+0200
TZNAME:CEST
DTSTART:20240331T010000
END:DAYLIGHT
BEGIN:STANDARD
TZOFFSETFROM:+0200
TZOFFSETTO:+0100
TZNAME:CET
DTSTART:20241027T010000
END:STANDARD
BEGIN:DAYLIGHT
TZOFFSETFROM:+0100
TZOFFSETTO:+0200
TZNAME:CEST
DTSTART:20250330T010000
END:DAYLIGHT
BEGIN:STANDARD
TZOFFSETFROM:+0200
TZOFFSETTO:+0100
TZNAME:CET
DTSTART:20251026T010000
END:STANDARD
BEGIN:DAYLIGHT
TZOFFSETFROM:+0100
TZOFFSETTO:+0200
TZNAME:CEST
DTSTART:20260329T010000
END:DAYLIGHT
BEGIN:STANDARD
TZOFFSETFROM:+0200
TZOFFSETTO:+0100
TZNAME:CET
DTSTART:20261025T010000
END:STANDARD
END:VTIMEZONE
BEGIN:VEVENT
DTSTART;TZID=Europe/Paris:20250401T000000
DTEND;TZID=Europe/Paris:20250430T235959
DTSTAMP:20260422T184427
CREATED:20240313T083138Z
LAST-MODIFIED:20250422T083118Z
UID:61242-1743465600-1746057599@www.unicaen.fr
SUMMARY:Grand Challenge de printemps ENDONORA
DESCRIPTION:Avec l’arrivée du printemps\, le SUAPS\, en partenariat avec Endonora\, vous invite à bouger et à relever un défi individuel : le Challenge Sportif Endonora ! \n\n\n\n \n\n\n\nDécouvrez ou faites découvrir les parcours sportifs audio-coachés Endonora et tentez ENSEMBLE de remporter des cadeaux offerts par ENDONORA. \n\n\n\nParticipation gratuite et ouverte à tous les étudiants et personnels de l’université de Caen Normandie. \n\n\n\n🚀 Endonora\, c’est quoi exactement?\n\n\n\n\nUn parcours pédestre sur le campus et son environnement à réaliser en marchant ou en courant à votre rythme…un guidage audio vous indique les directions du parcours (30 à 40 mn selon les parcours proposés) et vous coache dans la réalisation de quelques exercices de renforcement musculaire adaptés à tous les niveaux. \n\n\n\n🚀 Endonora\, comment cela fonctionne ?\n\n\n\n\nDécouvrez et téléchargez l’application Endonora. Rendez-vous sur un point de départ et choisissez un des parcours sportifs proposés par UNICAEN : \n\n\n\n\nCaen \n\n\n\n\nCampus 1 : depuis l’arche de l’université Caen Stadium\n\n\n\nCampus 2 : départ bibliothèque\n\n\n\nCampus 3 : entrée IUT \n\n\n\n\n\n\nAlençon \n\n\n\n\nCampus de Damigny : départs depuis fontaine devant bâtiment IUT\n\n\n\n\n\n\nVire \n\n\n\n\nCampus de Vire depuis entrée du bâtiment de l’IUT\n\n\n\n\n\n\nComplétez le parcours à votre rythme\, en suivant l’itinéraire et en réalisant les ateliers sportifs. \n\n\n\n\n \n\n\n\n📲 Prêt à relever le défi ? \n\n\n\n\nPour les « nouveaux »\, voici comment commencer : \n\n\n\n\nTéléchargez l’application Endonora\n\n\n\nCréez votre compte.\n\n\n\n\nPour tous : \n\n\n\n\nTrouvez le parcours qui vous inspire\, et parcourez le entre le 20 et le 30 mars 2024\n\n\n\n\nNe manquez pas cette occasion de découvrir ou faire découvrir des parcours conçus spécialement pour la communauté UNICAEN et de vous amuser entre étudiants et/ou collègues tout en prenant soin de votre santé. \n\n\n\nEnsemble\, faisons de l’activité physique un pilier de notre quotidien ! \n\n\n\nÀ bientôt sur vos parcours ! \n\n\n\n\nConditions générales d’Utilisation
URL:https://www.unicaen.fr/evenement/grand-challenge-de-printemps-endonora/
CATEGORIES:Sport,Vie de campus
ATTACH;FMTTYPE=image/jpeg:https://www.unicaen.fr/wp-content/uploads/2024/03/suaps_endonora_printemps.jpg
ORGANIZER;CN="Service universitaire des activit%C3%A9s physiques et sportives (SUAPS)":MAILTO:suaps.evenement@unicaen.fr
END:VEVENT
BEGIN:VEVENT
DTSTART;TZID=Europe/Paris:20250422T000000
DTEND;TZID=Europe/Paris:20250424T235959
DTSTAMP:20260422T184427
CREATED:20241004T140653Z
LAST-MODIFIED:20241004T140655Z
UID:68708-1745280000-1745539199@www.unicaen.fr
SUMMARY:Prévention et secours civique de niveau 1 (PSC1)
DESCRIPTION:Comment prévenir les secours ? Comment protéger une victime ? Quels gestes effectuer en attendant l’arrivée des secours ? La formation Prévention et secours civique de niveau 1 (PSC1) vous permettra d’apprendre des gestes simples à travers des mises en situation. Elle ne nécessite aucune formation préalable. \n\n\n\nIl y aura 8 sessions sont prévues au cours de l’année. Chaque session comprend 3 soirées de formation de 17h à 20h. La présence aux 3 soirées est obligatoire pour pouvoir valider la formation  \n\n\n\nLe nombre d’inscriptions est limité à 15 par session. \n\n\n\n\nInscription\n\n\n\n\n\n\nToutes les sessions\n\n\nPas d'événement à venir
URL:https://www.unicaen.fr/evenement/prevention-et-secours-civique-de-niveau-1-psc1-avril-2025/
LOCATION:Caen · Campus 1 · Bâtiment D · Salle du Belvédère\, Centre de recherche en sciences de l'éducation\, Esplanade de la Paix\, Caen\, 14000\, France
CATEGORIES:Santé,Vie de campus
ATTACH;FMTTYPE=image/jpeg:https://www.unicaen.fr/wp-content/uploads/2021/10/Formations_PSC1.jpg
END:VEVENT
BEGIN:VEVENT
DTSTART;TZID=Europe/Paris:20250423T183000
DTEND;TZID=Europe/Paris:20250423T210000
DTSTAMP:20260422T184427
CREATED:20250321T114255Z
LAST-MODIFIED:20250321T114552Z
UID:76123-1745433000-1745442000@www.unicaen.fr
SUMMARY:Voyons large !
DESCRIPTION:Quelles visions avons-nous du grand large\, cette zone de pleine mer qui s’étend au-delà de la bordure du littoral ? Quelles sont les activités réalisées en mer ? Quelles sont les cohabitations possibles entre biodiversité\, activités humaines\, loisirs et populations du littoral ? \n\n\n\nNous vous donnons rendez-vous de 18h30 à 21h à l’Atrium à Rouen\, où vous pourrez également visiter l’exposition « Océan\, une plongée insolite en Normandie » à partir de 17h30 pour vous immerger dans la thématique. \n\n\n\nVoyons large est une série de trois rencontres/ateliers qui s’inscrit dans un projet de recherche participative menée par par le groupement d’Intérêt scientifique pour l’étude des effets cumulés en mer (GIS ECUME) et le Centre de recherche risques et vulnérabilités de l’université de Caen Normandie (CERREV) en collaboration avec Le Dôme. Ce programme vise à étudier les représentations et les controverses sur les activités humaines en mer : le résultat de ces rencontres viendront enrichir une analyse sociétale menée auprès de différents acteurs et actrices du monde maritime de la façade Manche et Mer du Nord. \n\n\n\n\n\nLes deux autres rencontres sont prévues le 1er avril 2025 au Havre (Port Center) et le 21 mai 2025 à Caen (Le Dôme).
URL:https://www.unicaen.fr/evenement/copie-de-voyons-large/
LOCATION:Rouen · L’Atrium\, L'Atrium\, l'espace régional de découverte scientifique et technique\, 115 Boulevard de l'Europe\, Rouen\, 76100\, France
CATEGORIES:Rencontre
ATTACH;FMTTYPE=image/jpeg:https://www.unicaen.fr/wp-content/uploads/2025/03/voyons-large.jpg
END:VEVENT
BEGIN:VEVENT
DTSTART;TZID=Europe/Paris:20250423T183000
DTEND;TZID=Europe/Paris:20250423T203000
DTSTAMP:20260422T184427
CREATED:20250321T141235Z
LAST-MODIFIED:20250321T141237Z
UID:76142-1745433000-1745440200@www.unicaen.fr
SUMMARY:Stabat Mater Furiosa
DESCRIPTION:Les musiciens de l’Opéra Orchestre Normandie Rouen donnent vie au Stabat Mater Furiosa de Jean-Pierre Siméon. Cette pièce poignante incarnée par Anne Girouard est le cri solitaire d’une femme qui se révolte contre la guerre et la violence et résonne encore aujourd’hui. \n\n\n\nLauréat 2022 du Grand prix de la poésie de l’Académie française pour l’ensemble de son œuvre\, Jean-Pierre Siméon voit pour la première fois son œuvre montée en 1999 par Christian Schiaretti. Sa pièce fera l’objet de de plus de cent-quarante mises en scène en France et à l’étranger. C’est dire son universalité : elle touche juste\, au plus profond de chaque spectateur. Deux musiciens empreints de sensibilité entourent la comédienne à travers l’association d’instruments connus pour être les reflets de l’âme et de la voix : le violoncelle et l’accordéon. \n\n\n\nRegard extérieur\, mise en scène Fabien JoubertComédienne Anne GirouardVioloncelle Aurore DouéAccordéon\, improvisation Noé Clerc
URL:https://www.unicaen.fr/evenement/stabat-mater-furiosa/
LOCATION:Caen · Campus 1 · Bâtiment P · Amphi Pierre Daure\, Amphithéâtre Pierre Daure\, Esplanade de la Paix\, Caen\, 14000\, France
CATEGORIES:Musique - Concert,Vie de campus
ATTACH;FMTTYPE=image/jpeg:https://www.unicaen.fr/wp-content/uploads/2025/03/stabat_mater_furiosa.jpg
END:VEVENT
END:VCALENDAR