BEGIN:VCALENDAR
VERSION:2.0
PRODID:-//Université de Caen Normandie - ECPv6.15.18//NONSGML v1.0//EN
CALSCALE:GREGORIAN
METHOD:PUBLISH
X-ORIGINAL-URL:https://www.unicaen.fr
X-WR-CALDESC:Évènements pour Université de Caen Normandie
REFRESH-INTERVAL;VALUE=DURATION:PT1H
X-Robots-Tag:noindex
X-PUBLISHED-TTL:PT1H
BEGIN:VTIMEZONE
TZID:Europe/Paris
BEGIN:DAYLIGHT
TZOFFSETFROM:+0100
TZOFFSETTO:+0200
TZNAME:CEST
DTSTART:20240331T010000
END:DAYLIGHT
BEGIN:STANDARD
TZOFFSETFROM:+0200
TZOFFSETTO:+0100
TZNAME:CET
DTSTART:20241027T010000
END:STANDARD
BEGIN:DAYLIGHT
TZOFFSETFROM:+0100
TZOFFSETTO:+0200
TZNAME:CEST
DTSTART:20250330T010000
END:DAYLIGHT
BEGIN:STANDARD
TZOFFSETFROM:+0200
TZOFFSETTO:+0100
TZNAME:CET
DTSTART:20251026T010000
END:STANDARD
BEGIN:DAYLIGHT
TZOFFSETFROM:+0100
TZOFFSETTO:+0200
TZNAME:CEST
DTSTART:20260329T010000
END:DAYLIGHT
BEGIN:STANDARD
TZOFFSETFROM:+0200
TZOFFSETTO:+0100
TZNAME:CET
DTSTART:20261025T010000
END:STANDARD
END:VTIMEZONE
BEGIN:VEVENT
DTSTART;TZID=Europe/Paris:20250318T000000
DTEND;TZID=Europe/Paris:20250412T235959
DTSTAMP:20260421T211753
CREATED:20250303T153516Z
LAST-MODIFIED:20250303T155500Z
UID:74992-1742256000-1744502399@www.unicaen.fr
SUMMARY:Les victimes de la répression nazie à Caen
DESCRIPTION:Découvrez les portraits illustrés de déportés juifs\, de fusillés et d’exécutés\, anciens habitantsde Caen\, ainsi que les récits des Justes et des survivants des camps. \n\n\n\nL’exposition retracera également les itinéraires tragiques de résistants et otages fusillés à la prison de Caen. Une occasion essentielle de se souvenir et d’honorer les victimes de la barbarie nazie. \n\n\n\nUne exposition proposée par Chantal Meyer-Plantureux\, professeur émérite\, université de Caen Normandie (commissaire de l’exposition)\, en collaboration avec Françoise Passera (laboratoire HISTEME\, université de Caen Normandie) \n\n\n\n\n\nUn événement organisé dans le cadre du Millénaire 2025
URL:https://www.unicaen.fr/evenement/les-victimes-de-la-repression-nazie-a-caen/
LOCATION:Caen · Église du Vieux Saint-Sauveur\, Église du Vieux Saint-Sauveur\, 13 Rue Saint-Sauveur\, Caen\, 14000\, France
CATEGORIES:Exposition
ATTACH;FMTTYPE=image/jpeg:https://www.unicaen.fr/wp-content/uploads/2025/03/exposition-victimes-repression-nazie.jpg
END:VEVENT
BEGIN:VEVENT
DTSTART;TZID=Europe/Paris:20250401T000000
DTEND;TZID=Europe/Paris:20250430T235959
DTSTAMP:20260421T211753
CREATED:20240313T083138Z
LAST-MODIFIED:20250422T083118Z
UID:61242-1743465600-1746057599@www.unicaen.fr
SUMMARY:Grand Challenge de printemps ENDONORA
DESCRIPTION:Avec l’arrivée du printemps\, le SUAPS\, en partenariat avec Endonora\, vous invite à bouger et à relever un défi individuel : le Challenge Sportif Endonora ! \n\n\n\n \n\n\n\nDécouvrez ou faites découvrir les parcours sportifs audio-coachés Endonora et tentez ENSEMBLE de remporter des cadeaux offerts par ENDONORA. \n\n\n\nParticipation gratuite et ouverte à tous les étudiants et personnels de l’université de Caen Normandie. \n\n\n\n🚀 Endonora\, c’est quoi exactement?\n\n\n\n\nUn parcours pédestre sur le campus et son environnement à réaliser en marchant ou en courant à votre rythme…un guidage audio vous indique les directions du parcours (30 à 40 mn selon les parcours proposés) et vous coache dans la réalisation de quelques exercices de renforcement musculaire adaptés à tous les niveaux. \n\n\n\n🚀 Endonora\, comment cela fonctionne ?\n\n\n\n\nDécouvrez et téléchargez l’application Endonora. Rendez-vous sur un point de départ et choisissez un des parcours sportifs proposés par UNICAEN : \n\n\n\n\nCaen \n\n\n\n\nCampus 1 : depuis l’arche de l’université Caen Stadium\n\n\n\nCampus 2 : départ bibliothèque\n\n\n\nCampus 3 : entrée IUT \n\n\n\n\n\n\nAlençon \n\n\n\n\nCampus de Damigny : départs depuis fontaine devant bâtiment IUT\n\n\n\n\n\n\nVire \n\n\n\n\nCampus de Vire depuis entrée du bâtiment de l’IUT\n\n\n\n\n\n\nComplétez le parcours à votre rythme\, en suivant l’itinéraire et en réalisant les ateliers sportifs. \n\n\n\n\n \n\n\n\n📲 Prêt à relever le défi ? \n\n\n\n\nPour les « nouveaux »\, voici comment commencer : \n\n\n\n\nTéléchargez l’application Endonora\n\n\n\nCréez votre compte.\n\n\n\n\nPour tous : \n\n\n\n\nTrouvez le parcours qui vous inspire\, et parcourez le entre le 20 et le 30 mars 2024\n\n\n\n\nNe manquez pas cette occasion de découvrir ou faire découvrir des parcours conçus spécialement pour la communauté UNICAEN et de vous amuser entre étudiants et/ou collègues tout en prenant soin de votre santé. \n\n\n\nEnsemble\, faisons de l’activité physique un pilier de notre quotidien ! \n\n\n\nÀ bientôt sur vos parcours ! \n\n\n\n\nConditions générales d’Utilisation
URL:https://www.unicaen.fr/evenement/grand-challenge-de-printemps-endonora/
CATEGORIES:Sport,Vie de campus
ATTACH;FMTTYPE=image/jpeg:https://www.unicaen.fr/wp-content/uploads/2024/03/suaps_endonora_printemps.jpg
ORGANIZER;CN="Service universitaire des activit%C3%A9s physiques et sportives (SUAPS)":MAILTO:suaps.evenement@unicaen.fr
END:VEVENT
BEGIN:VEVENT
DTSTART;TZID=Europe/Paris:20250409T120000
DTEND;TZID=Europe/Paris:20250409T140000
DTSTAMP:20260421T211753
CREATED:20250311T113911Z
LAST-MODIFIED:20250523T080005Z
UID:75568-1744200000-1744207200@www.unicaen.fr
SUMMARY:ANNULE Atelier Compétences
DESCRIPTION:Vous souhaitez valoriser vos compétences ? L’espace orientation insertion (EOI) vous accompagne. \n\n\n\nModalités\n\n\n\n\nDurée : 2h\n\n\n\n\nObjectifs\n\n\n\n\nFaire l’inventaire de ses expériences (stages\, jobs\, activités extra-universitaires…)\,\n\n\n\nApprendre à identifier et valoriser les compétences liées à ces différentes expériences.\n\n\n\n\nInscription\n\n\n\nInscription obligatoire en ligne\, nombre de places limité.
URL:https://www.unicaen.fr/evenement/atelier-competences/
LOCATION:Caen · Campus 1 · Bâtiment B · Espace Orientation Insertion (EOI)\, Bâtiment B\, Esplanade de la Paix\, Caen\, 14000\, France
CATEGORIES:Orientation
ATTACH;FMTTYPE=image/png:https://www.unicaen.fr/wp-content/uploads/2025/03/COMPETENCES.png
ORGANIZER;CN="Espace orientation insertion (EOI)":MAILTO:orientationinsertion@unicaen.fr
END:VEVENT
BEGIN:VEVENT
DTSTART;TZID=Europe/Paris:20250409T170000
DTEND;TZID=Europe/Paris:20250409T190000
DTSTAMP:20260421T211753
CREATED:20250310T110739Z
LAST-MODIFIED:20250331T151859Z
UID:75422-1744218000-1744225200@www.unicaen.fr
SUMMARY:Atelier Broderie : Créez et embellissez votre campus
DESCRIPTION:Dans le cadre du projet Garden Party\, un atelier broderie est proposé aux étudiants pour favoriser leur implication dans la vie du campus et l’animation du tiers-lieu du campus 2. Cet atelier vise à associer pratique artistique et engagement écologique en créant des décorations réutilisables pour embellir les événements et les espaces de vie universitaire. \n\n\n\nCet atelier s’adresse à tous les étudiants\, sans prérequis en broderie. Il permet de découvrir et de pratiquer cette discipline dans un cadre convivial\, tout en participant à l’amélioration des espaces communs du campus. Les créations réalisées seront d’abord utilisées pour la décoration de la Garden Party\, puis serviront à embellir durablement le tiers-lieu. \n\n\n\nObjectifs du projet\n\n\n\n\nImpliquer les étudiants dans la vie du campus en les intégrant à des projets collaboratifs\n\n\n\nFavoriser l’expression artistique à travers une pratique accessible à tous\n\n\n\nS’inscrire dans une démarche écoresponsable en réutilisant les œuvres pour différents événements et aménagements\n\n\n\n\nInscriptions et informations\n\n\n\nL’atelier est gratuit et ouvert à tous. Les étudiants intéressés peuvent s’inscrire en remplissant le formulaire en ligne disponible à l’adresse suivante : \n\n\n\nFormulaire d’inscription \n\n\n\nCet atelier offre l’opportunité de s’initier à la broderie tout en contribuant à la dynamique artistique et écologique du campus.
URL:https://www.unicaen.fr/evenement/atelier-broderie-creez-et-embellissez-votre-campus-2/
LOCATION:Caen · Campus 2 · Tiers-lieux du BVE (rez-de-jardin BU)\, BU Rosalind-Franklin\, Campus 2\, Côte de Nacre\, Boulevard Maréchal Juin\, Caen\, 14032\, France
ATTACH;FMTTYPE=image/png:https://www.unicaen.fr/wp-content/uploads/2025/03/Atelier-broderie-fanion-campus-2.png
ORGANIZER;CN="Bureau de la vie %C3%A9tudiante (BVE)":MAILTO:bve@unicaen.fr
END:VEVENT
END:VCALENDAR