BEGIN:VCALENDAR
VERSION:2.0
PRODID:-//Université de Caen Normandie - ECPv6.15.18//NONSGML v1.0//EN
CALSCALE:GREGORIAN
METHOD:PUBLISH
X-WR-CALNAME:Université de Caen Normandie
X-ORIGINAL-URL:https://www.unicaen.fr
X-WR-CALDESC:Évènements pour Université de Caen Normandie
REFRESH-INTERVAL;VALUE=DURATION:PT1H
X-Robots-Tag:noindex
X-PUBLISHED-TTL:PT1H
BEGIN:VTIMEZONE
TZID:Europe/Paris
BEGIN:DAYLIGHT
TZOFFSETFROM:+0100
TZOFFSETTO:+0200
TZNAME:CEST
DTSTART:20240331T010000
END:DAYLIGHT
BEGIN:STANDARD
TZOFFSETFROM:+0200
TZOFFSETTO:+0100
TZNAME:CET
DTSTART:20241027T010000
END:STANDARD
BEGIN:DAYLIGHT
TZOFFSETFROM:+0100
TZOFFSETTO:+0200
TZNAME:CEST
DTSTART:20250330T010000
END:DAYLIGHT
BEGIN:STANDARD
TZOFFSETFROM:+0200
TZOFFSETTO:+0100
TZNAME:CET
DTSTART:20251026T010000
END:STANDARD
BEGIN:DAYLIGHT
TZOFFSETFROM:+0100
TZOFFSETTO:+0200
TZNAME:CEST
DTSTART:20260329T010000
END:DAYLIGHT
BEGIN:STANDARD
TZOFFSETFROM:+0200
TZOFFSETTO:+0100
TZNAME:CET
DTSTART:20261025T010000
END:STANDARD
END:VTIMEZONE
BEGIN:VEVENT
DTSTART;TZID=Europe/Paris:20250310T000000
DTEND;TZID=Europe/Paris:20250322T235959
DTSTAMP:20260420T182419
CREATED:20250224T153312Z
LAST-MODIFIED:20250227T160108Z
UID:74322-1741564800-1742687999@www.unicaen.fr
SUMMARY:Enquête de sciences 2025
DESCRIPTION:Le festival [En]Quête de Sciences\, dédié à la médiation scientifique\, revient pour une 9e édition ! Escape game\, murder party\, ateliers\, quiz\, tournoi d’échecs\, tournois e-sport\, soirée cinéma et exposition vous permettront de (re)découvrir l’implication des sciences dans la culture et dans notre quotidien. Une manière ludique de découvrir tout le savoir-faire de notre communauté universitaire. \n\n\n\nPendant 12 jours\, les étudiants et étudiantes des départements Mécatronique et systèmes embarqués et Agroalimentaire de l’ESIX\, de l’IUT Département Information-Communication et Réseaux et télécommunication\, de l’UFR STAPS\, de l’UFR des Sciences\, les associations PhenyxECN\, Ergo Caen\, de la Corpo Sciences vous proposeront des animations autour de sujets scientifiques sur les campus 1\, 2 et 3 de Caen ainsi que sur les sites d’Alençon et Cherbourg.
URL:https://www.unicaen.fr/evenement/enquete-de-sciences-2025/
CATEGORIES:Vie de campus
ATTACH;FMTTYPE=image/jpeg:https://www.unicaen.fr/wp-content/uploads/2025/02/Enquete-de-sciences.jpg
END:VEVENT
BEGIN:VEVENT
DTSTART;TZID=Europe/Paris:20250317T080000
DTEND;TZID=Europe/Paris:20250404T170000
DTSTAMP:20260420T182419
CREATED:20250304T091324Z
LAST-MODIFIED:20250306T095039Z
UID:75110-1742198400-1743786000@www.unicaen.fr
SUMMARY:La Normandie\, une histoire européenne
DESCRIPTION:Du 17 mars au 4 avril 2025\, le campus universitaire de Cherbourg-en-Cotentin accueil l’exposition itinérante “La Normandie\, une histoire européenne“\, qui témoigne des liens étroits qui unissent\, depuis des siècles\, la Normandie à l’Europe. Elle permet de découvrir des dessins du caricaturiste et dessinateur de presse\, Emmanuel Chaunu qui s’est inspiré de l’histoire et de la géographie pour nous proposer un voyage à travers des hommes et des femmes mais aussi des richesses patrimoniales de notre Région en lien avec l’histoire européenne. \n\n\n\nRéalisée à l’initiative de Madame Stéphanie Yon-Courtin\, Députée européenne et Conseillère régionale de Normandie\, cette exposition parcourt la Normandie depuis 2022 et sera proposée dans le cadre du Module Jean Monnet\, “Mémoire et avenir de l’Union européenne”\, porté par l’UFR de Droit\, AES et administration publique.
URL:https://www.unicaen.fr/evenement/exposition-la-normandie-une-histoire-europeenne-2/
LOCATION:Cherbourg-en-Cotentin · Campus universitaire\, Campus universitaire de Cherbourg\, Chemin des Roquettes\, Cherbourg-en-Cotentin\, 50130\, France
CATEGORIES:Exposition
ATTACH;FMTTYPE=image/jpeg:https://www.unicaen.fr/wp-content/uploads/2025/03/2025_MAUE_exposition.jpg
END:VEVENT
BEGIN:VEVENT
DTSTART;TZID=Europe/Paris:20250318T000000
DTEND;TZID=Europe/Paris:20250412T235959
DTSTAMP:20260420T182419
CREATED:20250303T153516Z
LAST-MODIFIED:20250303T155500Z
UID:74992-1742256000-1744502399@www.unicaen.fr
SUMMARY:Les victimes de la répression nazie à Caen
DESCRIPTION:Découvrez les portraits illustrés de déportés juifs\, de fusillés et d’exécutés\, anciens habitantsde Caen\, ainsi que les récits des Justes et des survivants des camps. \n\n\n\nL’exposition retracera également les itinéraires tragiques de résistants et otages fusillés à la prison de Caen. Une occasion essentielle de se souvenir et d’honorer les victimes de la barbarie nazie. \n\n\n\nUne exposition proposée par Chantal Meyer-Plantureux\, professeur émérite\, université de Caen Normandie (commissaire de l’exposition)\, en collaboration avec Françoise Passera (laboratoire HISTEME\, université de Caen Normandie) \n\n\n\n\n\nUn événement organisé dans le cadre du Millénaire 2025
URL:https://www.unicaen.fr/evenement/les-victimes-de-la-repression-nazie-a-caen/
LOCATION:Caen · Église du Vieux Saint-Sauveur\, Église du Vieux Saint-Sauveur\, 13 Rue Saint-Sauveur\, Caen\, 14000\, France
CATEGORIES:Exposition
ATTACH;FMTTYPE=image/jpeg:https://www.unicaen.fr/wp-content/uploads/2025/03/exposition-victimes-repression-nazie.jpg
END:VEVENT
BEGIN:VEVENT
DTSTART;TZID=Europe/Paris:20250319T000000
DTEND;TZID=Europe/Paris:20250321T235959
DTSTAMP:20260420T182419
CREATED:20250226T171949Z
LAST-MODIFIED:20250227T130813Z
UID:74648-1742342400-1742601599@www.unicaen.fr
SUMMARY:#MetooViolConjugal : sensibilisation autour du viol conjugal
DESCRIPTION:Exposition réalisée par l’association Main Violette avec l’aide du Service universitaire de l’action culturelle dans le cadre du #MeTooViolConjugal lancé par l’antenne Main Violette de Caen. \n\n\n\nL’exposition s’organisera selon les points suivants :  \n\n\n\n\nHistoire et définition juridique\n\n\n\nHistorique et explications autour du #metoo\, #balancetonporc et autres mouvements de libération de la parole comme #sciencesporc. \n\n\n\nChiffres les plus récents du Haut conseil à l’égalité et autres données de collectifs féministes \n\n\n\n« Que faire de la parole des agresseurs ? » Illustration et réflexion \n\n\n\nHistoire du #metooviolconjugal lancé sur Instagram par l’association Main Violette Caen\n\n\n\nExtraits de témoignages reçus par l’association (avec consentement préalable des victimes)\n\n\n\nAnalyse tirée des témoignages effectuée par les bénévoles de l’association\n\n\n\nConseils de victimes pour la reconstruction (institutions d’aide aux victimes\, numéro d’urgence\, associations)\n\n\n\n\n\nvisite libre et gratuite
URL:https://www.unicaen.fr/evenement/metooviolconjugal-sensibilisation-autour-du-viol-conjugal-3/
LOCATION:Caen · Campus 2 · Tiers-lieux du BVE (rez-de-jardin BU)\, BU Rosalind-Franklin\, Campus 2\, Côte de Nacre\, Boulevard Maréchal Juin\, Caen\, 14032\, France
CATEGORIES:Exposition,Vie de campus
ATTACH;FMTTYPE=image/jpeg:https://www.unicaen.fr/wp-content/uploads/2023/12/vignette-newsletter-etudiante_metooviolconjugal.jpg
END:VEVENT
BEGIN:VEVENT
DTSTART;TZID=Europe/Paris:20250320T130000
DTEND;TZID=Europe/Paris:20250321T170000
DTSTAMP:20260420T182419
CREATED:20250310T122203Z
LAST-MODIFIED:20250310T141311Z
UID:75434-1742475600-1742576400@www.unicaen.fr
SUMMARY:C'est le printemps\, je teste ma condition physique !
DESCRIPTION:Le SUAPS campus Alençon et campus Caen vous invite à venir tester votre condition physique sur des tests faciles\, à la portée de tous ! \n\n\n\nFACILES – RAPIDES – LUDIQUES Ces tests sont gratuits et ouverts à tous les étudiants et tous les personnels UNICAEN. Ils permettent à chacun.e de faire un bilan de forme et de répondre aux questions : \n\n\n\n\n Suis-je en forme ? \n\n\n\n Suis-je en bonne condition physique? \n\n\n\n Quels sont mes points forts et mes axes de progrès? \n\n\n\nComment je me situe par rapport à ma tranche d’âge?  \n\n\n\n\nALENCON JEUDI 20 MARS entre 18H30 et 20H \n\n\n\n18H30 à 19H · 19H à 19H30 · 19H30 à 20H \n\n\n\nCAEN VENDREDI 21 MARS entre 13H45 et 17H15 · CAMPUS 1· SALLE HORIZON 1er étage \n\n\n\n13H45 à 14H15 · 14H15 à 14H45 · 14H45 à 15H15 · 15H15 à 15H45 · 15H45 à 16H15 · 16H15 à 16H45 · 16H45 à 17H15 \n\n\n\n Inscription par mél à l’adresse : suaps.evenement@unicaen.fr (en précisant le campus : Alençon ou Caen ainsi que le créneau choisi – obligation de ne choisir qu’1 seul créneau).
URL:https://www.unicaen.fr/evenement/cest-le-printemps-je-teste-ma-condition-physique/
CATEGORIES:Santé,Sport,Vie de campus
ATTACH;FMTTYPE=image/jpeg:https://www.unicaen.fr/wp-content/uploads/2025/03/SUAPS_tcp.jpg
ORGANIZER;CN="Service universitaire des activit%C3%A9s physiques et sportives (SUAPS)":MAILTO:suaps.evenement@unicaen.fr
END:VEVENT
END:VCALENDAR