BEGIN:VCALENDAR
VERSION:2.0
PRODID:-//Université de Caen Normandie - ECPv6.15.18//NONSGML v1.0//EN
CALSCALE:GREGORIAN
METHOD:PUBLISH
X-WR-CALNAME:Université de Caen Normandie
X-ORIGINAL-URL:https://www.unicaen.fr
X-WR-CALDESC:Évènements pour Université de Caen Normandie
REFRESH-INTERVAL;VALUE=DURATION:PT1H
X-Robots-Tag:noindex
X-PUBLISHED-TTL:PT1H
BEGIN:VTIMEZONE
TZID:Europe/Paris
BEGIN:DAYLIGHT
TZOFFSETFROM:+0100
TZOFFSETTO:+0200
TZNAME:CEST
DTSTART:20240331T010000
END:DAYLIGHT
BEGIN:STANDARD
TZOFFSETFROM:+0200
TZOFFSETTO:+0100
TZNAME:CET
DTSTART:20241027T010000
END:STANDARD
BEGIN:DAYLIGHT
TZOFFSETFROM:+0100
TZOFFSETTO:+0200
TZNAME:CEST
DTSTART:20250330T010000
END:DAYLIGHT
BEGIN:STANDARD
TZOFFSETFROM:+0200
TZOFFSETTO:+0100
TZNAME:CET
DTSTART:20251026T010000
END:STANDARD
BEGIN:DAYLIGHT
TZOFFSETFROM:+0100
TZOFFSETTO:+0200
TZNAME:CEST
DTSTART:20260329T010000
END:DAYLIGHT
BEGIN:STANDARD
TZOFFSETFROM:+0200
TZOFFSETTO:+0100
TZNAME:CET
DTSTART:20261025T010000
END:STANDARD
END:VTIMEZONE
BEGIN:VEVENT
DTSTART;TZID=Europe/Paris:20250310T000000
DTEND;TZID=Europe/Paris:20250322T235959
DTSTAMP:20260420T182425
CREATED:20250224T153312Z
LAST-MODIFIED:20250227T160108Z
UID:74322-1741564800-1742687999@www.unicaen.fr
SUMMARY:Enquête de sciences 2025
DESCRIPTION:Le festival [En]Quête de Sciences\, dédié à la médiation scientifique\, revient pour une 9e édition ! Escape game\, murder party\, ateliers\, quiz\, tournoi d’échecs\, tournois e-sport\, soirée cinéma et exposition vous permettront de (re)découvrir l’implication des sciences dans la culture et dans notre quotidien. Une manière ludique de découvrir tout le savoir-faire de notre communauté universitaire. \n\n\n\nPendant 12 jours\, les étudiants et étudiantes des départements Mécatronique et systèmes embarqués et Agroalimentaire de l’ESIX\, de l’IUT Département Information-Communication et Réseaux et télécommunication\, de l’UFR STAPS\, de l’UFR des Sciences\, les associations PhenyxECN\, Ergo Caen\, de la Corpo Sciences vous proposeront des animations autour de sujets scientifiques sur les campus 1\, 2 et 3 de Caen ainsi que sur les sites d’Alençon et Cherbourg.
URL:https://www.unicaen.fr/evenement/enquete-de-sciences-2025/
CATEGORIES:Vie de campus
ATTACH;FMTTYPE=image/jpeg:https://www.unicaen.fr/wp-content/uploads/2025/02/Enquete-de-sciences.jpg
END:VEVENT
BEGIN:VEVENT
DTSTART;TZID=Europe/Paris:20250317T080000
DTEND;TZID=Europe/Paris:20250404T170000
DTSTAMP:20260420T182425
CREATED:20250304T091324Z
LAST-MODIFIED:20250306T095039Z
UID:75110-1742198400-1743786000@www.unicaen.fr
SUMMARY:La Normandie\, une histoire européenne
DESCRIPTION:Du 17 mars au 4 avril 2025\, le campus universitaire de Cherbourg-en-Cotentin accueil l’exposition itinérante “La Normandie\, une histoire européenne“\, qui témoigne des liens étroits qui unissent\, depuis des siècles\, la Normandie à l’Europe. Elle permet de découvrir des dessins du caricaturiste et dessinateur de presse\, Emmanuel Chaunu qui s’est inspiré de l’histoire et de la géographie pour nous proposer un voyage à travers des hommes et des femmes mais aussi des richesses patrimoniales de notre Région en lien avec l’histoire européenne. \n\n\n\nRéalisée à l’initiative de Madame Stéphanie Yon-Courtin\, Députée européenne et Conseillère régionale de Normandie\, cette exposition parcourt la Normandie depuis 2022 et sera proposée dans le cadre du Module Jean Monnet\, “Mémoire et avenir de l’Union européenne”\, porté par l’UFR de Droit\, AES et administration publique.
URL:https://www.unicaen.fr/evenement/exposition-la-normandie-une-histoire-europeenne-2/
LOCATION:Cherbourg-en-Cotentin · Campus universitaire\, Campus universitaire de Cherbourg\, Chemin des Roquettes\, Cherbourg-en-Cotentin\, 50130\, France
CATEGORIES:Exposition
ATTACH;FMTTYPE=image/jpeg:https://www.unicaen.fr/wp-content/uploads/2025/03/2025_MAUE_exposition.jpg
END:VEVENT
BEGIN:VEVENT
DTSTART;TZID=Europe/Paris:20250318T000000
DTEND;TZID=Europe/Paris:20250412T235959
DTSTAMP:20260420T182425
CREATED:20250303T153516Z
LAST-MODIFIED:20250303T155500Z
UID:74992-1742256000-1744502399@www.unicaen.fr
SUMMARY:Les victimes de la répression nazie à Caen
DESCRIPTION:Découvrez les portraits illustrés de déportés juifs\, de fusillés et d’exécutés\, anciens habitantsde Caen\, ainsi que les récits des Justes et des survivants des camps. \n\n\n\nL’exposition retracera également les itinéraires tragiques de résistants et otages fusillés à la prison de Caen. Une occasion essentielle de se souvenir et d’honorer les victimes de la barbarie nazie. \n\n\n\nUne exposition proposée par Chantal Meyer-Plantureux\, professeur émérite\, université de Caen Normandie (commissaire de l’exposition)\, en collaboration avec Françoise Passera (laboratoire HISTEME\, université de Caen Normandie) \n\n\n\n\n\nUn événement organisé dans le cadre du Millénaire 2025
URL:https://www.unicaen.fr/evenement/les-victimes-de-la-repression-nazie-a-caen/
LOCATION:Caen · Église du Vieux Saint-Sauveur\, Église du Vieux Saint-Sauveur\, 13 Rue Saint-Sauveur\, Caen\, 14000\, France
CATEGORIES:Exposition
ATTACH;FMTTYPE=image/jpeg:https://www.unicaen.fr/wp-content/uploads/2025/03/exposition-victimes-repression-nazie.jpg
END:VEVENT
BEGIN:VEVENT
DTSTART;TZID=Europe/Paris:20250318T170000
DTEND;TZID=Europe/Paris:20250318T183000
DTSTAMP:20260420T182425
CREATED:20250129T104551Z
LAST-MODIFIED:20250505T065032Z
UID:73418-1742317200-1742322600@www.unicaen.fr
SUMMARY:Atelier "Favoriser son insertion professionnelle grâce à LinkedIn"
DESCRIPTION:Vous souhaitez favoriser votre insertion professionnelle via LinkedIn ? L’espace orientation insertion peut vous accompagner. \n\n\n\nModalités\n\n\n\n\nDurée de l’atelier : 1h30\n\n\n\nPublic : tous les étudiants\n\n\n\n\nObjectifs\n\n\n\n\nExplorer les usages de LinkedIn\n\n\n\nCompléter et améliorer son profil\n\n\n\nValoriser ses compétences \n\n\n\nDévelopper son réseau professionnel \n\n\n\nOptimiser sa recherche d’emploi\, de stage ou d’alternance \n\n\n\n\nInscription\n\n\n\n\nInscription obligatoire en ligne\, nombre de places limité.
URL:https://www.unicaen.fr/evenement/atelier-favoriser-son-insertion-professionnelle-grace-a-linkedin-6/
LOCATION:Caen · Campus 1 · Bâtiment B · Salle B1-152\, Bâtiment B\, Esplanade de la Paix\, Caen\, 14000\, France
CATEGORIES:Orientation
ATTACH;FMTTYPE=image/jpeg:https://www.unicaen.fr/wp-content/uploads/2025/01/big-1.jpeg
ORGANIZER;CN="Espace orientation insertion (EOI)":MAILTO:orientationinsertion@unicaen.fr
END:VEVENT
BEGIN:VEVENT
DTSTART;TZID=Europe/Paris:20250318T180000
DTEND;TZID=Europe/Paris:20250318T190000
DTSTAMP:20260420T182425
CREATED:20250311T091445Z
LAST-MODIFIED:20250314T112629Z
UID:75444-1742320800-1742324400@www.unicaen.fr
SUMMARY:Ouverture du festival Les Fous de la rampe : DJ set apéro
DESCRIPTION:Ouverture du festival – DJ Set apéro avec Pierre Lenoir \n\n\n\nPierre Lenoir est étudiant en Master 1 Management du Sport à l’université de Caen Normandie\, mais à 23 ans\, c’est également un artiste accompli : « Je mixe depuis le confinement en 2020. Mon style de prédilection est l’électro-house\, j’ai eu la chance de pouvoir présenter mon projet lors de festivals dans la région. Passionné par tout ce qui touche à l’organisation d’événements\, j’ai lancé en parallèle mon auto-entreprise de services événementiels en 2023\, où je propsoe des prestations son & show lumière pour des événements tels que des galas étudiants\, des soirées concerts\, des cérémonies en tout genre… » \n\n\n\nVenez retrouver Pierre Lenoir à partir de 18h et jusqu’à 19h à la Maison de l’Étudiant pour l’ouverture du festival puis de 20h à 21h.
URL:https://www.unicaen.fr/evenement/les-fous-de-la-rampe-2025-ouverture-du-festival-dj-set-apero/
LOCATION:Caen · Campus 1 · Maison de l’étudiant (MDE)\, Maison de l'étudiant Université de Caen\, Rue Colonel Usher\, Caen\, 14000\, France
CATEGORIES:Théâtre,Vie de campus
ATTACH;FMTTYPE=image/jpeg:https://www.unicaen.fr/wp-content/uploads/2025/03/Festival_Les_Fous_De_La_Rampe_2025.jpg
END:VEVENT
BEGIN:VEVENT
DTSTART;TZID=Europe/Paris:20250318T190000
DTEND;TZID=Europe/Paris:20250318T220000
DTSTAMP:20260420T182425
CREATED:20250311T091732Z
LAST-MODIFIED:20250314T112435Z
UID:75505-1742324400-1742335200@www.unicaen.fr
SUMMARY:"Mes Vieux" et "Notre Vallée"
DESCRIPTION:La 29e édition du festival de théâtre étudiant Les Fous de la Rampe\, organisé par le Crous Normandie et l’université de Caen Normandie\, aura lieu du 18 au 27 mars 2025 à la Maison de l’étudiant (Campus 1\, Caen). \n\n\n\n6 jours\, 6 créations théâtrales\, 11 représentations !Venez découvrir les créations étudiantes et les talents de demain ! \n\n\n\nAu programme le mardi 18 mars : \n\n\n\n\n19h : « Mes Vieux » – Compagnie Les Mouches \n\n\n\nMes Vieux\, c’est le spectacle de Marilou et Lazare. Le genre de spectacle que l’on fait dans le salon quand on est petits pour épater la galerie. Mais Marilou et Lazare ont grandi\, et leurs grands-parents ont vieilli. Le frère et la sœur décident donc de jouer leurs rôles\, de les rajeunir\, de les incarner afin d’apporter une vision nouvelle sur de vieux schémas. Mais à travers ces histoires d’antan\, n’explorent-ils pas leur jeunesse\, leur rapport à la vie ? Parler des autres n’est-il pas la meilleure façon de fouiller en soi ? \n\n\n\n\n\n21h : « Notre Vallée » – Compagnie de La Dernière Minute \n\n\n\nNotre Vallée relate l’histoire de la vallée de la Sereine. Dans le monde anthropocentriste qui nous entoure\, il est difficile de laisser une place aux animaux et aux végétaux qui pourtant le composent. Cependant\, les humains ne seraient-ils pas un élément du paysage au même titre que toutes ces existences qu’ils négligent et pensent dominer ? Entre histoires humaines et histoires non-humaines\, Notre Vallée nous permet de décaler notre regard sur le monde en ouvrant notre perception à l’imperceptible.
URL:https://www.unicaen.fr/evenement/les-fous-de-la-rampe-2025-mes-vieux-et-notre-vallee/
LOCATION:Caen · Campus 1 · Maison de l’étudiant (MDE)\, Maison de l'étudiant Université de Caen\, Rue Colonel Usher\, Caen\, 14000\, France
CATEGORIES:Théâtre,Vie de campus
ATTACH;FMTTYPE=image/jpeg:https://www.unicaen.fr/wp-content/uploads/2025/03/Festival_Les_Fous_De_La_Rampe_2025.jpg
END:VEVENT
BEGIN:VEVENT
DTSTART;TZID=Europe/Paris:20250318T200000
DTEND;TZID=Europe/Paris:20250318T200000
DTSTAMP:20260420T182425
CREATED:20250225T095544Z
LAST-MODIFIED:20250317T101729Z
UID:74391-1742328000-1742328000@www.unicaen.fr
SUMMARY:Mars Express
DESCRIPTION:Projection du film Mars Express dans le cadre du festival [En]quête de Sciences. La projection sera suivie d’une discussion autour de l’intelligence artificielle. \n\n\n\nDe Jérémie Périn | Par Laurent Sarfati\, Jérémie Périn | Avec Léa Drucker\, Daniel Njo Lobé\, Marie Bouvet | Action\, Animation\, Science Fiction | 1h 25min \n\n\n\nSynopsis\n\n\n\nEn l’an 2200\, Aline Ruby\, détective privée obstinée\, et Carlos Rivera son partenaire androïde sont embauchés par un riche homme d’affaires afin de capturer sur Terre une célèbre hackeuse. \n\n\n\nDe retour sur Mars\, une nouvelle affaire va les conduire à s’aventurer dans les entrailles de Noctis\, la capitale martienne\, à la recherche de Jun Chow\, une étudiante en cybernétique disparue. Noctis est leur ville\, une utopie libertarienne rendue possible par les progrès en robotique\, emblème d’un futur tourné vers les étoiles. \n\n\n\nAu fil de leur enquête\, ils seront confrontés aux plus sombres secrets de leur cité ; ses institutions corrompues\, ses trafics\, ses fermes cérébrales\, et les magouilles des toutes puissantes corporations. Mais des tueurs cyber augmentés ont eux aussi pris pour cible Jun Chow. Aline et Carlos se lancent dans une course désespérée pour sauver cette jeune femme qui\, sans le savoir\, détient un secret capable de menacer l’équilibre précaire sur lequel repose leur civilisation. \n\n\n\nTarifs\n\n\n\n\nTarif étudiant UNICAEN : 2 € grâce à la Contribution de vie étudiante et de campus\n\n\n\nTarif réduit : 4€50\n\n\n\nTarif plein : 5€50
URL:https://www.unicaen.fr/evenement/mars-express/
LOCATION:Caen · Campus 1 · Bâtiment P · Amphi Pierre Daure\, Amphithéâtre Pierre Daure\, Esplanade de la Paix\, Caen\, 14000\, France
CATEGORIES:Projection - Cinéma,Vie de campus
ATTACH;FMTTYPE=image/jpeg:https://www.unicaen.fr/wp-content/uploads/2025/02/Mars_Express.jpg
END:VEVENT
END:VCALENDAR