BEGIN:VCALENDAR
VERSION:2.0
PRODID:-//Université de Caen Normandie - ECPv6.15.18//NONSGML v1.0//EN
CALSCALE:GREGORIAN
METHOD:PUBLISH
X-ORIGINAL-URL:https://www.unicaen.fr
X-WR-CALDESC:Évènements pour Université de Caen Normandie
REFRESH-INTERVAL;VALUE=DURATION:PT1H
X-Robots-Tag:noindex
X-PUBLISHED-TTL:PT1H
BEGIN:VTIMEZONE
TZID:Europe/Paris
BEGIN:DAYLIGHT
TZOFFSETFROM:+0100
TZOFFSETTO:+0200
TZNAME:CEST
DTSTART:20240331T010000
END:DAYLIGHT
BEGIN:STANDARD
TZOFFSETFROM:+0200
TZOFFSETTO:+0100
TZNAME:CET
DTSTART:20241027T010000
END:STANDARD
BEGIN:DAYLIGHT
TZOFFSETFROM:+0100
TZOFFSETTO:+0200
TZNAME:CEST
DTSTART:20250330T010000
END:DAYLIGHT
BEGIN:STANDARD
TZOFFSETFROM:+0200
TZOFFSETTO:+0100
TZNAME:CET
DTSTART:20251026T010000
END:STANDARD
BEGIN:DAYLIGHT
TZOFFSETFROM:+0100
TZOFFSETTO:+0200
TZNAME:CEST
DTSTART:20260329T010000
END:DAYLIGHT
BEGIN:STANDARD
TZOFFSETFROM:+0200
TZOFFSETTO:+0100
TZNAME:CET
DTSTART:20261025T010000
END:STANDARD
END:VTIMEZONE
BEGIN:VEVENT
DTSTART;TZID=Europe/Paris:20250310T000000
DTEND;TZID=Europe/Paris:20250312T235959
DTSTAMP:20260421T211702
CREATED:20241004T140230Z
LAST-MODIFIED:20241129T153640Z
UID:68704-1741564800-1741823999@www.unicaen.fr
SUMMARY:Prévention et secours civique de niveau 1 (PSC1)
DESCRIPTION:Comment prévenir les secours ? Comment protéger une victime ? Quels gestes effectuer en attendant l’arrivée des secours ? La formation Prévention et secours civique de niveau 1 (PSC1) vous permettra d’apprendre des gestes simples à travers des mises en situation. Elle ne nécessite aucune formation préalable. \n\n\n\n8 sessions sont prévues au cours de l’année. Chaque session comprend 3 soirées de formation de 17h à 20h. La présence aux 3 soirées est obligatoire pour pouvoir valider la formation. \n\n\n\nLe nombre d’inscriptions est limité à 18 personnes par session. \n\n\n\n\nInscription\n\n\n\n\n\n\nToutes les sessions\n\n\nPas d'événement à venir
URL:https://www.unicaen.fr/evenement/prevention-et-secours-civique-de-niveau-1-psc1-mars-2025/
LOCATION:Caen · Campus 1 · Bâtiment D · Salle du Belvédère\, Centre de recherche en sciences de l'éducation\, Esplanade de la Paix\, Caen\, 14000\, France
CATEGORIES:Santé,Vie de campus
ATTACH;FMTTYPE=image/jpeg:https://www.unicaen.fr/wp-content/uploads/2021/10/Formations_PSC1.jpg
END:VEVENT
BEGIN:VEVENT
DTSTART;TZID=Europe/Paris:20250310T000000
DTEND;TZID=Europe/Paris:20250314T235959
DTSTAMP:20260421T211703
CREATED:20250205T144001Z
LAST-MODIFIED:20250228T141749Z
UID:73832-1741564800-1741996799@www.unicaen.fr
SUMMARY:Fête du droit 2025 - Droit et science(s)
DESCRIPTION:Depuis 2016\, la Conférence des doyens de droit et science politique (CDDSP) avec le soutien du ministère de l’Enseignement supérieur et de la recherche\, et le parrainage de nombreux éditeurs juridiques organise une manifestation d’envergure nationale : La Fête du droit. Elle aura\, cette année\, pour thème « Droit et science(s)« . \n\n\n\n\n\nÉvénements gratuits avec inscription obligatoire \n\n\n\n\n\nProgramme\n\n\n\nGénies du mal et scientifiques fous : heurs et malheurs du titre de docteurpar Quentin Le Pluard\, maître de conférences en droit privé\, université Caen NormandieMercredi 12 mars 2025 de 18h à 20h\, amphithéâtre Demolombe \n\n\n\n\nS’inscrire à la conférence de Q. Le Pluard\n\n\n\n\nProcès fictif – Les robots à la barre : juger l’éthique des machines autonomespar Amandine Cayol\, maître de conférences HDR en droit privé\, université Caen Normandie et Maria Castillo\, maître de conférences en droit public\, université Caen NormandieVendredi 14 mars 2025 de 18h à 20h\, salle Béquignon-Lagarde (4e étage\, bâtiment D) \n\n\n\n\nS’inscrire à la conférence de A. Cayol et M. Castillo
URL:https://www.unicaen.fr/evenement/fete-du-droit-2025-droit-et-sciences/
LOCATION:Caen · Campus 1\, Université de Caen Normandie\, Espanade de la Paix\, Caen\, 14000\, France
CATEGORIES:Conférence
ATTACH;FMTTYPE=image/jpeg:https://www.unicaen.fr/wp-content/uploads/2025/02/2025_Fete-Droits.jpg
END:VEVENT
BEGIN:VEVENT
DTSTART;TZID=Europe/Paris:20250310T000000
DTEND;TZID=Europe/Paris:20250322T235959
DTSTAMP:20260421T211703
CREATED:20250224T153312Z
LAST-MODIFIED:20250227T160108Z
UID:74322-1741564800-1742687999@www.unicaen.fr
SUMMARY:Enquête de sciences 2025
DESCRIPTION:Le festival [En]Quête de Sciences\, dédié à la médiation scientifique\, revient pour une 9e édition ! Escape game\, murder party\, ateliers\, quiz\, tournoi d’échecs\, tournois e-sport\, soirée cinéma et exposition vous permettront de (re)découvrir l’implication des sciences dans la culture et dans notre quotidien. Une manière ludique de découvrir tout le savoir-faire de notre communauté universitaire. \n\n\n\nPendant 12 jours\, les étudiants et étudiantes des départements Mécatronique et systèmes embarqués et Agroalimentaire de l’ESIX\, de l’IUT Département Information-Communication et Réseaux et télécommunication\, de l’UFR STAPS\, de l’UFR des Sciences\, les associations PhenyxECN\, Ergo Caen\, de la Corpo Sciences vous proposeront des animations autour de sujets scientifiques sur les campus 1\, 2 et 3 de Caen ainsi que sur les sites d’Alençon et Cherbourg.
URL:https://www.unicaen.fr/evenement/enquete-de-sciences-2025/
CATEGORIES:Vie de campus
ATTACH;FMTTYPE=image/jpeg:https://www.unicaen.fr/wp-content/uploads/2025/02/Enquete-de-sciences.jpg
END:VEVENT
BEGIN:VEVENT
DTSTART;TZID=Europe/Paris:20250311T000000
DTEND;TZID=Europe/Paris:20250313T235959
DTSTAMP:20260421T211703
CREATED:20250120T154044Z
LAST-MODIFIED:20250228T105836Z
UID:73026-1741651200-1741910399@www.unicaen.fr
SUMMARY:30e édition du Séminaire Jean-Louis Signoret
DESCRIPTION:La 30e édition du séminaire Jean-Louis Signoret aura pour thème « Neuropsychologie et santé mentale : comprendre pour mieux soigner ». \n\n\n\nCes dernières décennies\, la neuropsychologie a pris une place croissante en santé mentale\, en particulier dans l’évaluation et le diagnostic des troubles\, mais également dans notre compréhension des mécanismes pathologiques impliqués. Les avancées récentes en neuropsychologie sont ainsi une opportunité de développer des stratégies thérapeutiques et préventives ciblées et efficaces\, reposant sur la connaissance scientifique. Parallèlement\, la place de la santé mentale dans l’évaluation et la prise en charge des soins des pathologies neurologiques connaît également une progression sans précédent.  \n\n\n\nCe séminaire offrira la possibilité de traiter les liens entre la neuropsychologie\, les pathologies neurologiques et la santé mentale. \n\n\n\n\nTarifs \n\n\n\nPersonnels U1077 et UFR Psychologie de Caen : gratuit \n\n\n\nÉtudiants COMUE\, UNICAEN et PSL : gratuit (fournir un certificat de scolarité) \n\n\n\nÉtudiants autres : 30€ (fournir un certificat de scolarité) \n\n\n\nProfessionnels : 80€
URL:https://www.unicaen.fr/evenement/30e-edition-du-seminaire-jean-louis-signoret/
LOCATION:Caen · Campus 1 · Bâtiment P · Amphi Pierre Daure\, Amphithéâtre Pierre Daure\, Esplanade de la Paix\, Caen\, 14000\, France
CATEGORIES:Congrès - Colloque
ATTACH;FMTTYPE=image/png:https://www.unicaen.fr/wp-content/uploads/2025/01/Seminaire-Jean-Louis-Signoret-2025.png
END:VEVENT
BEGIN:VEVENT
DTSTART;TZID=Europe/Paris:20250311T093000
DTEND;TZID=Europe/Paris:20250313T170000
DTSTAMP:20260421T211703
CREATED:20250303T141135Z
LAST-MODIFIED:20250305T142149Z
UID:75036-1741685400-1741885200@www.unicaen.fr
SUMMARY:Festival bien vivre à domicile et bien vieillir
DESCRIPTION:La neuvième édition du Festival normand « Bien vivre à domicile et bien vieillir » aura lieu du mardi 11 au jeudi 13 mars 2025. \n\n\n\nCette édition s’inscrit dans une dynamique d’échange et de réflexion impliquant professionnels\, étudiants\, enseignants et chercheurs implantés sur différents territoires normands avec pour thématique cette année : “Les relations intergénérationnelles”.  \n\n\n\nVoir le programme complet \n\n\n\nContact : bienvivrevieillir@unicaen.fr
URL:https://www.unicaen.fr/evenement/festival-bien-vivre-a-domicile-et-bien-vieillir/
CATEGORIES:Conférence,Forum
END:VEVENT
BEGIN:VEVENT
DTSTART;TZID=Europe/Paris:20250311T130000
DTEND;TZID=Europe/Paris:20250311T143000
DTSTAMP:20260421T211703
CREATED:20250204T081707Z
LAST-MODIFIED:20250422T073609Z
UID:73683-1741698000-1741703400@www.unicaen.fr
SUMMARY:ANNULE Atelier "Favoriser son insertion professionnelle grâce à LinkedIn"
DESCRIPTION:Vous souhaitez favoriser votre insertion professionnelle via LinkedIn ? L’espace orientation insertion peut vous accompagner. \n\n\n\nModalités\n\n\n\n\nDurée de l’atelier : 1h30\n\n\n\nPublic : tous les étudiants\n\n\n\n\nObjectifs\n\n\n\n\nExplorer les usages de LinkedIn\n\n\n\nCompléter et améliorer son profil\n\n\n\nValoriser ses compétences \n\n\n\nDévelopper son réseau professionnel \n\n\n\nOptimiser sa recherche d’emploi\, de stage ou d’alternance \n\n\n\n\nInscription\n\n\n\n\nInscription obligatoire en ligne\, nombre de places limité.
URL:https://www.unicaen.fr/evenement/atelier-favoriser-son-insertion-professionnelle-grace-a-linkedin-7/
LOCATION:Caen · Campus 2\, Campus 2\, Avenue de la Côte de Nacre\, Caen\, 14000\, France
CATEGORIES:Orientation
ATTACH;FMTTYPE=image/jpeg:https://www.unicaen.fr/wp-content/uploads/2025/01/big-1.jpeg
ORGANIZER;CN="Espace orientation insertion (EOI)":MAILTO:orientationinsertion@unicaen.fr
END:VEVENT
BEGIN:VEVENT
DTSTART;TZID=Europe/Paris:20250311T173000
DTEND;TZID=Europe/Paris:20250311T193000
DTSTAMP:20260421T211703
CREATED:20250304T084309Z
LAST-MODIFIED:20250304T084311Z
UID:74976-1741714200-1741721400@www.unicaen.fr
SUMMARY:Devenir un spécialiste au sein des forces armées et de la gendarmerie
DESCRIPTION:Les forces armées et la gendarmerie offrent une grande diversité de métiers et d’opportunités professionnelles pour les étudiants et étudiantes de l’université de Caen Normandie. Informatique\, marketing\, psychologie\, biologie\, droit\, histoire… Quel que soit votre domaine d’études\, il existe des carrières adaptées à votre profil\, avec plus de 400 métiers différents au sein de ces institutions. \n\n\n\nCette conférence vise à présenter ces opportunités et à faire découvrir aux étudiants comment s’engager dans un parcours professionnel au sein des forces armées et de la gendarmerie\, que ce soit via un emploi civil ou militaire\, un stage ou encore la réserve opérationnelle. \n\n\n\nProgramme \n\n\n\nSeront abordés : \n\n\n\n\nLes métiers accessibles dans les forces armées et la gendarmerie\n\n\n\nLes modalités de recrutement et de formation\n\n\n\nLa flexibilité de la réserve opérationnelle\, qui permet d’allier engagement et études\n\n\n\nLa possibilité d’effectuer un stage au sein de ces structures\n\n\n\n\nDes intervenants et intervenantes spécialisés seront présents pour partager leur expérience et répondre à toutes vos questions.
URL:https://www.unicaen.fr/evenement/devenir-un-specialiste-au-sein-des-forces-armees-et-de-la-gendarmerie/
LOCATION:Caen · Campus 4 · IAE · Amphi Léon Walras\, IAE Caen\, 3 Rue Claude Bloch\, Caen\, 14075\, France
CATEGORIES:Orientation
ATTACH;FMTTYPE=image/jpeg:https://www.unicaen.fr/wp-content/uploads/2025/03/visuel_ecrans-dynamiques_11-mars.jpg
END:VEVENT
BEGIN:VEVENT
DTSTART;TZID=Europe/Paris:20250311T180000
DTEND;TZID=Europe/Paris:20250311T200000
DTSTAMP:20260421T211703
CREATED:20250212T115500Z
LAST-MODIFIED:20250306T132549Z
UID:73994-1741716000-1741723200@www.unicaen.fr
SUMMARY:Comment la Bataille de Normandie a façonné la mémoire et l’identité des civils ?
DESCRIPTION:À l’occasion du 80e anniversaire du Débarquement\, des entretiens inédits ont été conduits auprès de civils ayant vécu la Bataille de Normandie\, afin de comprendre comment la mémoire de cet événement historique majeur a contribué à construire leur identité.  \n\n\n\nAu printemps 2024\, des psychologues et des chercheurs en sciences sociales ont rencontré 64 témoins civils de la Bataille de Normandie et ont étudié leurs souvenirs. À travers leur récit\, ils ont examiné le sens attribué à ces événements et les conséquences sur le parcours de vie de ces personnes. 80 ans plus tard\, et après des périodes parfois silencieuses\, la parole devient irrépressible\, soulignant le poids de ces souvenirs tout au long de la vie. \n\n\n\nAvec les interventions des membres du laboratoire Neuropsychologie et imagerie de la mémoire humaine : Francis Eustache\, neuropsychologue\, directeur d‘étude EPHE ; Peggy Quinette\, maître de conférences en psychologie ; Lucie Da Costa Silva\, doctorante en psychologie \n\n\n\n\n\nUn événement organisé dans le cadre de la Semaine du cerveau 2025
URL:https://www.unicaen.fr/evenement/comment-la-bataille-de-normandie-a-faconne-la-memoire-et-lidentite-des-civils/
LOCATION:Caen · Mémorial de Caen\, Mémorial de Caen\, Esplanade Général Eisenhower\, Caen\, 14000\, France
CATEGORIES:Conférence,Recherche
ATTACH;FMTTYPE=image/png:https://www.unicaen.fr/wp-content/uploads/2025/02/Semaine-du-cerveau.png
END:VEVENT
BEGIN:VEVENT
DTSTART;TZID=Europe/Paris:20250311T200000
DTEND;TZID=Europe/Paris:20250311T200000
DTSTAMP:20260421T211703
CREATED:20250225T094543Z
LAST-MODIFIED:20250225T094544Z
UID:74388-1741723200-1741723200@www.unicaen.fr
SUMMARY:Lee Miller
DESCRIPTION:Projection du film Lee Miller dans le cadre de la journée internationale des droits des femmes. La projection sera suivie d’une discussion avec Guillaume Yverneau\, agrégé d’Histoire et doctorant en histoire contemporaine.  \n\n\n\nDe Ellen Kuras | Par Liz Hannah\, John Collee | Avec Kate Winslet\, Andy Samberg\, Alexander Skarsgård | Biopic\, Drame\, Guerre | 1h 57min | VOST \n\n\n\nSynopsis\n\n\n\nL’incroyable vie de LEE MILLER\, ex-modèle pour Vogue et muse de Man Ray devenue l’une des premières femmes photographes de guerre. Partie sur le front et prête à tout pour témoigner des horreurs de la Seconde Guerre\, elle a\, par son courage et son refus des conventions\, changé la façon de voir le monde. \n\n\n\nTarifs\n\n\n\n\nTarif étudiant UNICAEN : 2 € grâce à la Contribution de vie étudiante et de campus\n\n\n\nTarif réduit : 4€50\n\n\n\nTarif plein : 5€50
URL:https://www.unicaen.fr/evenement/lee-miller/
LOCATION:Caen · Campus 1 · Bâtiment P · Amphi Pierre Daure\, Amphithéâtre Pierre Daure\, Esplanade de la Paix\, Caen\, 14000\, France
CATEGORIES:Projection - Cinéma,Vie de campus
ATTACH;FMTTYPE=image/jpeg:https://www.unicaen.fr/wp-content/uploads/2025/02/Lee_Miller.jpg
END:VEVENT
END:VCALENDAR