BEGIN:VCALENDAR
VERSION:2.0
PRODID:-//Université de Caen Normandie - ECPv6.15.18//NONSGML v1.0//EN
CALSCALE:GREGORIAN
METHOD:PUBLISH
X-ORIGINAL-URL:https://www.unicaen.fr
X-WR-CALDESC:Évènements pour Université de Caen Normandie
REFRESH-INTERVAL;VALUE=DURATION:PT1H
X-Robots-Tag:noindex
X-PUBLISHED-TTL:PT1H
BEGIN:VTIMEZONE
TZID:Europe/Paris
BEGIN:DAYLIGHT
TZOFFSETFROM:+0100
TZOFFSETTO:+0200
TZNAME:CEST
DTSTART:20240331T010000
END:DAYLIGHT
BEGIN:STANDARD
TZOFFSETFROM:+0200
TZOFFSETTO:+0100
TZNAME:CET
DTSTART:20241027T010000
END:STANDARD
BEGIN:DAYLIGHT
TZOFFSETFROM:+0100
TZOFFSETTO:+0200
TZNAME:CEST
DTSTART:20250330T010000
END:DAYLIGHT
BEGIN:STANDARD
TZOFFSETFROM:+0200
TZOFFSETTO:+0100
TZNAME:CET
DTSTART:20251026T010000
END:STANDARD
BEGIN:DAYLIGHT
TZOFFSETFROM:+0100
TZOFFSETTO:+0200
TZNAME:CEST
DTSTART:20260329T010000
END:DAYLIGHT
BEGIN:STANDARD
TZOFFSETFROM:+0200
TZOFFSETTO:+0100
TZNAME:CET
DTSTART:20261025T010000
END:STANDARD
END:VTIMEZONE
BEGIN:VEVENT
DTSTART;TZID=Europe/Paris:20250306T090000
DTEND;TZID=Europe/Paris:20250306T170000
DTSTAMP:20260425T125733
CREATED:20250206T142805Z
LAST-MODIFIED:20250225T090515Z
UID:73792-1741251600-1741280400@www.unicaen.fr
SUMMARY:Semer l’avenir : la haie bocagère comme solution
DESCRIPTION:Ce colloque\, organisé par les étudiants et étudiantes du master Développement durable : stratégies de concertation et de communication\, se penche sur l’avenir de la haie bocagère. \n\n\n\nLa journée sera rythmée par des tables rondes\, des conférences\, des restitutions de travaux étudiants et des témoignages autour de cinq thématiques : bois énergie\, changement climatique\, trame verte et bleue\, bocage urbain et politiques publiques. \n\n\n\nVenez échanger avec des spécialistes autour de solutions concrètes pour préserver et développer les haies bocagères. \n\n\n\nProgramme-colloque-Semer-lavenir-la-haie-bocagere-comme-solution-Sensibiliser-et-mobiliser (pdf · 2 Mo)Télécharger (pdf · 2 Mo)\n\n\n\n\n\n\nlve.colloque.ddsc@unicaen.fr \n\n\n\n\nUn événement organisé en partenariat avec la région Normandie et l’Agence normande de la biodiversité et du développement durable (ANBDD).
URL:https://www.unicaen.fr/evenement/semer-lavenir-la-haie-bocagere-comme-solution/
LOCATION:Caen · Campus 1 · Bâtiment B · Amphi Michel de Boüard\, Bâtiment B\, Esplanade de la Paix\, Caen\, 14000\, France
CATEGORIES:Congrès - Colloque,Sciences humaines et sociales
ATTACH;FMTTYPE=image/jpeg:https://www.unicaen.fr/wp-content/uploads/2025/02/Bandeau-colloque_semer-lavenir_DDSC.jpg
END:VEVENT
BEGIN:VEVENT
DTSTART;TZID=Europe/Paris:20250306T120000
DTEND;TZID=Europe/Paris:20250306T140000
DTSTAMP:20260425T125733
CREATED:20250131T095419Z
LAST-MODIFIED:20250422T073601Z
UID:73549-1741262400-1741269600@www.unicaen.fr
SUMMARY:Atelier Projet Master
DESCRIPTION:Vous avez des difficultés à trouver un master qui vous convient ? L’espace orientation insertion vous accompagne.  \n\n\n\nProjet Master\n\n\n\nModalités\n\n\n\n\nEn présentiel  – campus 2\n\n\n\nDurée : 2h\n\n\n\nPublic : Licence 3e année\n\n\n\n\nObjectifs\n\n\n\n\nClarifier son projet\n\n\n\nBien utiliser le portail national « Mon Master » pour cibler les formations\n\n\n\nRepérer ses principaux atouts \n\n\n\n\nInscription\n\n\n\nInscription obligatoire en ligne\, nombre de places limité. \n\n\n\n\n\n\n\nProchaines dates\n\n\n\njeudi 6 mars 2025 – 17h 19h – campus 1  \n\n\n\nlundi 17 mars – 12h 14h – à distance 
URL:https://www.unicaen.fr/evenement/atelier-projet-master-9/
CATEGORIES:Orientation
ATTACH;FMTTYPE=image/jpeg:https://www.unicaen.fr/wp-content/uploads/2025/01/Visuel_atelier_trouver_master_InscriptionCC-1.jpg
ORGANIZER;CN="Espace orientation insertion (EOI)":MAILTO:orientationinsertion@unicaen.fr
END:VEVENT
BEGIN:VEVENT
DTSTART;TZID=Europe/Paris:20250306T170000
DTEND;TZID=Europe/Paris:20250306T193000
DTSTAMP:20260425T125733
CREATED:20250226T171348Z
LAST-MODIFIED:20250401T080257Z
UID:74646-1741280400-1741289400@www.unicaen.fr
SUMMARY:Étudiantes en terrain miné
DESCRIPTION:Documentaire de Charlotte Espel\, produit par France 3 Paris (2023 – 52’) – En présence de la réalisatrice.  \n\n\n\nSi les étudiantes sont 5 fois plus victimes de violences sexistes et sexuelles que la moyenne des femmes\, l’enseignement supérieur serait-il un terrain miné ? Charlotte Espel donne la parole à 5 étudiantes ou doctorantes\, victimes de harcèlement ou de viol\, qui se battent pour que les violences ne soient plus passées sous silence. \n\n\n\nLes chiffres sont édifiants. Selon l’Observatoire des violences sexuelles et sexistes dans l’enseignement supérieur\, en France\, 1 étudiante sur 10 aurait été victime d’agression sexuelle lors de ses études. 1 étudiante sur 20 de viol. 60% des étudiants et étudiantes ont été victimes ou témoins d’au moins une violence sexiste ou sexuelle. 45% des étudiants et étudiantes n’ont accès à aucun dispositif de lutte contre les violences ou d’accompagnement au sein de leur établissement. \n\n\n\nAprès le scandale « Sciences Porcs » début 2021 et les récentes enquêtes ayant dénoncé l’ampleur des viols et agressions sexuelles à Centrale Supelec ou en écoles de commerce\, de plus en plus d’étudiantes et étudiants dénoncent des cas de harcèlement ou d’agressions sexuelles. \n\n\n\nQuelles conséquences sur la psyché humaine ? Comment se reconstruire ? Quelle réponse des pouvoirs publics dans la prévention et le traitement de ces violences ?  \n\n\n\nÀ travers des témoignages poignants\, le documentaire de Charlotte Espel met en lumière ce drame sociétal méconnu et le travail de ces associations qui tentent de briser l’omerta.
URL:https://www.unicaen.fr/evenement/etudiantes-en-terrain-mine/
LOCATION:Caen · Campus 1 · Bâtiment A · Amphi Armand Frémond\, Bâtiment A\, Campus 1\, Esplanade de la Paix\, Caen\, 14000\, France
CATEGORIES:Projection - Cinéma
ATTACH;FMTTYPE=image/jpeg:https://www.unicaen.fr/wp-content/uploads/2025/02/film-etudiantes-en-terrain-mine.jpg
END:VEVENT
BEGIN:VEVENT
DTSTART;TZID=Europe/Paris:20250306T170000
DTEND;TZID=Europe/Paris:20250306T190000
DTSTAMP:20260425T125733
CREATED:20250131T100000Z
LAST-MODIFIED:20250422T073605Z
UID:73551-1741280400-1741287600@www.unicaen.fr
SUMMARY:Atelier Projet Master
DESCRIPTION:Vous avez des difficultés à trouver un master qui vous convient ? L’espace orientation insertion vous accompagne.  \n\n\n\nProjet Master\n\n\n\nModalités\n\n\n\n\nEn présentiel  – campus 1\n\n\n\nDurée : 2h\n\n\n\nPublic : Licence 3e année\n\n\n\n\nObjectifs\n\n\n\n\nClarifier son projet\n\n\n\nBien utiliser le portail national « Mon Master » pour cibler les formations\n\n\n\nRepérer ses principaux atouts \n\n\n\n\nInscription\n\n\n\nInscription obligatoire en ligne\, nombre de places limité. \n\n\n\n\n\n\n\nProchaines dates\n\n\n\njeudi 6 mars 2025 – 12h 14h – campus 2 \n\n\n\nlundi 17 mars – 12h 14h – à distance 
URL:https://www.unicaen.fr/evenement/atelier-projet-master-10/
LOCATION:Caen · Campus 1 · Bâtiment B · Espace Orientation Insertion (EOI)\, Bâtiment B\, Esplanade de la Paix\, Caen\, 14000\, France
CATEGORIES:Orientation
ATTACH;FMTTYPE=image/jpeg:https://www.unicaen.fr/wp-content/uploads/2025/01/Visuel_atelier_trouver_master_InscriptionCC-2.jpg
ORGANIZER;CN="Espace orientation insertion (EOI)":MAILTO:orientationinsertion@unicaen.fr
END:VEVENT
BEGIN:VEVENT
DTSTART;TZID=Europe/Paris:20250306T200000
DTEND;TZID=Europe/Paris:20250306T200000
DTSTAMP:20260425T125733
CREATED:20250211T132729Z
LAST-MODIFIED:20250211T132753Z
UID:73960-1741291200-1741291200@www.unicaen.fr
SUMMARY:Tremplin Phénix Normandie 2025 - Match 2
DESCRIPTION:TPN\, c’est le tremplin « musiques actuelles » ouvert aux groupes dont au moins un membre est étudiant.Vote pour le meilleur groupe de la fac !  \n\n\n\nS’affronteront pour ce deuxième match : Stella (folk)\, Lizz (pop alternative)\, Romzar (rap) et Azhar (metal).
URL:https://www.unicaen.fr/evenement/tremplin-phenix-normandie-2025-match-2/
LOCATION:Caen · Campus 1 · Maison de l’étudiant (MDE)\, Maison de l'étudiant Université de Caen\, Rue Colonel Usher\, Caen\, 14000\, France
CATEGORIES:Musique - Concert,Vie de campus
ATTACH;FMTTYPE=image/jpeg:https://www.unicaen.fr/wp-content/uploads/2025/01/TPN_2025.jpg
END:VEVENT
BEGIN:VEVENT
DTSTART;TZID=Europe/Paris:20250306T203000
DTEND;TZID=Europe/Paris:20250306T203000
DTSTAMP:20260425T125733
CREATED:20250305T094218Z
LAST-MODIFIED:20250307T090125Z
UID:75077-1741293000-1741293000@www.unicaen.fr
SUMMARY:Musique et surdité
DESCRIPTION:Webinaire sur le thème « Musique et surdité » animé par Justine Wathour (PhD\, Orthophoniste aux Cliniques universitaires Saint-Luc de l’UC Louvain et audiologue-audicienne) et Hélène Van Beneden (étudiante en orthophonie de l’UCLouvain réalisant son mémoire sur “L’effet de l’entraînement au chant choral sur la perception de la parole dans le bruit – Étude sur un groupe de patients sourds implantés et appareillés”).
URL:https://www.unicaen.fr/evenement/musique-et-surdite/
CATEGORIES:Rencontre
ATTACH;FMTTYPE=image/jpeg:https://www.unicaen.fr/wp-content/uploads/2022/10/Musilience.jpg
END:VEVENT
END:VCALENDAR