BEGIN:VCALENDAR
VERSION:2.0
PRODID:-//Université de Caen Normandie - ECPv6.15.18//NONSGML v1.0//EN
CALSCALE:GREGORIAN
METHOD:PUBLISH
X-WR-CALNAME:Université de Caen Normandie
X-ORIGINAL-URL:https://www.unicaen.fr
X-WR-CALDESC:Évènements pour Université de Caen Normandie
REFRESH-INTERVAL;VALUE=DURATION:PT1H
X-Robots-Tag:noindex
X-PUBLISHED-TTL:PT1H
BEGIN:VTIMEZONE
TZID:Europe/Paris
BEGIN:DAYLIGHT
TZOFFSETFROM:+0100
TZOFFSETTO:+0200
TZNAME:CEST
DTSTART:20240331T010000
END:DAYLIGHT
BEGIN:STANDARD
TZOFFSETFROM:+0200
TZOFFSETTO:+0100
TZNAME:CET
DTSTART:20241027T010000
END:STANDARD
BEGIN:DAYLIGHT
TZOFFSETFROM:+0100
TZOFFSETTO:+0200
TZNAME:CEST
DTSTART:20250330T010000
END:DAYLIGHT
BEGIN:STANDARD
TZOFFSETFROM:+0200
TZOFFSETTO:+0100
TZNAME:CET
DTSTART:20251026T010000
END:STANDARD
BEGIN:DAYLIGHT
TZOFFSETFROM:+0100
TZOFFSETTO:+0200
TZNAME:CEST
DTSTART:20260329T010000
END:DAYLIGHT
BEGIN:STANDARD
TZOFFSETFROM:+0200
TZOFFSETTO:+0100
TZNAME:CET
DTSTART:20261025T010000
END:STANDARD
END:VTIMEZONE
BEGIN:VEVENT
DTSTART;TZID=Europe/Paris:20250106T000000
DTEND;TZID=Europe/Paris:20250205T235959
DTSTAMP:20260422T184409
CREATED:20250108T141413Z
LAST-MODIFIED:20250108T141414Z
UID:72410-1736121600-1738799999@www.unicaen.fr
SUMMARY:Bazar Bizarre
DESCRIPTION:Venez découvrir l’exposition de fin de workshop réalisée par les étudiants et étudiantes ayant participés à un atelier de sérigraphie proposé par le SUAC à l’ésam Caen. Vous pourrez y retrouver les créations réalisées au cours des 8 séances d’atelier qui se sont déroulées d’octobre à décembre avec l’artiste Asoa ! \n\n\n\nDurant ce workshop les étudiants et étudiantes ont pu découvrir la technique de la sérigraphie en apprenant à créer un visuel\, préparer un typon et un cadre de sérigraphie pour imprimer sur différents supports : vêtements\, textiles variés\, stickers\, miroir… Ils ont également réalisé une œuvre collective sous forme de drapeau. Plusieurs thèmes ont été abordés tels que les objets du quotidien et qui nous entourent ainsi que la relation texte image.  \n\n\n\nL’exposition est visible à la Maison de l’étudiant (MDE) jusqu’au 5 février du lundi au jeudi de 8h30 à 15h30 et le vendredi de 8h30 à 14h.
URL:https://www.unicaen.fr/evenement/bazar-bizarre/
LOCATION:Caen · Campus 1 · Maison de l’étudiant (MDE)\, Maison de l'étudiant Université de Caen\, Rue Colonel Usher\, Caen\, 14000\, France
CATEGORIES:Exposition,Vie de campus
ATTACH;FMTTYPE=image/jpeg:https://www.unicaen.fr/wp-content/uploads/2025/01/exposition_bazar_bizarre.jpg
END:VEVENT
BEGIN:VEVENT
DTSTART;TZID=Europe/Paris:20250107T090000
DTEND;TZID=Europe/Paris:20250301T190000
DTSTAMP:20260422T184409
CREATED:20250116T115014Z
LAST-MODIFIED:20250120T153905Z
UID:73047-1736240400-1740855600@www.unicaen.fr
SUMMARY:Dimensions Pop Culture
DESCRIPTION:La Bu Rosalind-Franklin accueille « Dimensions Pop Culture »\, une exposition de Jesús Salmerón qui présente une trentaine de sculptures numériques imprimées en 3D. \n\n\n\nEn revisitant ces figures par une technique innovatrice\, l’artiste qui se définit davantage comme un artisan\, nous montre que la culture populaire peut être un terrain de jeu artistique sans limites. Cette exposition\, accessible et surprenante\, invite à redécouvrir des personnages familiers sous une forme inédite. Que vous soyez fan de pop culture ou simplement curieux ou curieuses\, cette exposition est l’occasion idéale de plonger dans un univers artistique et technologique qui réinvente notre imaginaire collectif.
URL:https://www.unicaen.fr/evenement/dimensions-pop-culture-2/
LOCATION:Caen · Campus 2 · BU Rosalind-Franklin\, BU Rosalind-Franklin\, Campus 2\, Côte de Nacre\, Boulevard Maréchal Juin\, Caen\, 14032\, France
CATEGORIES:Exposition
ATTACH;FMTTYPE=image/jpeg:https://www.unicaen.fr/wp-content/uploads/2025/01/UNICAEN_SCD_dimensions_pop_culture.jpg
END:VEVENT
BEGIN:VEVENT
DTSTART;TZID=Europe/Paris:20250113T090000
DTEND;TZID=Europe/Paris:20250209T190000
DTSTAMP:20260422T184409
CREATED:20241216T084006Z
LAST-MODIFIED:20250113T095502Z
UID:72134-1736758800-1739127600@www.unicaen.fr
SUMMARY:Casse-couilles ? Et si la contraception testiculaire cassait les codes ?
DESCRIPTION:Cette exposition a pour volonté de questionner les habitudes et les rapports de genre qui se jouent dans la répartition ou non-répartition de la charge contraceptive. Elle met en scène le cheminement de Jil et Jo\, deux personnages\, nés avec des ovaires pour l’une et des testicules pour l’autre\, en quête d’une autre contraception. \n\n\n\nConçue par Pauline Dancin\, et illustrée par Bobika (dessinateur et auteur de Le Cœur des zobs)\, cette exposition est présentée en partenariat avec ASSUREIPSS. \n\n\n\nAnimations sur la contraception\n\n\n\n\nles jeudis de 12h à 18h \n\n\n\nles vendredis de 12h à 14h\n\n\n\n\n\nsur inscription auprès de assureipss@gmail.com \n\n\n\n\nInauguration de l’exposition\n\n\n\nMercredi 15 Janvier 2025 à 18hAuditorium du PFRS – Campus 5 \n\n\n\n\nsur inscription auprès de assureipss@gmail.com
URL:https://www.unicaen.fr/evenement/casse-couilles-et-si-la-contraception-testiculaire-cassait-les-codes/
LOCATION:Caen · Campus 5 · BU Madeleine-Brès\, BU Madeleine-Brès\, 2 Rue des Rochambelles\, Caen\, 14000\, France
CATEGORIES:Exposition
ATTACH;FMTTYPE=image/png:https://www.unicaen.fr/wp-content/uploads/2024/12/UNICAEN_SCD_Expo_Casse-couilles.png
END:VEVENT
BEGIN:VEVENT
DTSTART;TZID=Europe/Paris:20250128T100000
DTEND;TZID=Europe/Paris:20250205T180000
DTSTAMP:20260422T184410
CREATED:20250110T141510Z
LAST-MODIFIED:20250120T150028Z
UID:72527-1738058400-1738778400@www.unicaen.fr
SUMMARY:Bus Tour 2025
DESCRIPTION:L’université de Caen Normandie est de retour avec son “Bus Tour” dans l’Orne\, le Calvados et la Manche\, du 28 janvier au 05 février 2025.   Au cours de son circuit – 8 dates / 8 villes – l’université présentera ses formations\, son ouverture à l’alternance dès le post-bac avec plus de 70 formations en contrat d’apprentissage ou en contrat de professionnalisation\, et son offre en formation continue pour les salariés et demandeurs d’emploi qui souhaitent se perfectionner\, se réorienter ou reprendre des études. \n\n\n\nLe bus ouvrira ses portes du 28 janvier au 05 février\, de 10h à 18h. Lycéens\, étudiants\, salariés\, demandeurs d’emploi et entreprises pourront y rencontrer nos conseillers en orientation\, en formation professionnelle et en insertion professionnelle.  \n\n\n\n\nLes entreprises locales sont conviées chaque jour à “l’apéro bus‘ness” de 12h00 à 14h00 pour parler recrutement : apprentis\, offres d’emplois\, problématiques RH et également formation continue. \n\n\n\nRappel : l’université de Caen Normandie propose plus de 75 formations en apprentissage et encore davantage en formation continue. \n\n\n\n\n\nITINÉRAIRE DU BUS TOUR 2025\n\n\n\n\n28 janvier : Avranches – Place Littré (mairie)\n\n\n\n29 janvier : Vire – Rue Notre Dame (sur le parvis de l’église)\n\n\n\n30 janvier : Saint-Lô – Place du Général de Gaulle\n\n\n\n31 janvier : Cherbourg – Place Jacques Hébert\n\n\n\n1er février : Bayeux – Place Saint Patrice\n\n\n\n3 février : Lisieux – Place de la République\n\n\n\n4 février : Argentan – Place du Docteur Couinaud (mairie)\n\n\n\n5 février : Alençon – Place de la Magdeleine\n\n\n\n\n\nPlus d’informations
URL:https://www.unicaen.fr/evenement/bus-tour-2025/
CATEGORIES:Formation,Orientation
ATTACH;FMTTYPE=image/jpeg:https://www.unicaen.fr/wp-content/uploads/2025/01/BUS_Tour_Visuels_Facebook.jpg
END:VEVENT
BEGIN:VEVENT
DTSTART;TZID=Europe/Paris:20250204T000000
DTEND;TZID=Europe/Paris:20250226T235959
DTSTAMP:20260422T184410
CREATED:20250124T104248Z
LAST-MODIFIED:20250124T104316Z
UID:73169-1738627200-1740614399@www.unicaen.fr
SUMMARY:Histoire de l’université et de l’enseignement supérieur à Caen (1432-2025)
DESCRIPTION:Cette exposition\, qui présente des documents d’archives\, des plans de Caen (1575-2025) et de nombreuses photos\, retrace une histoire vieille de 600 ans. Constituée de 30 panneaux\, l’exposition débute son itinérance dans le berceau de l’ancienne université\, au Vieux Saint-Sauveur.  \n\n\n\nEn 1432\, les Anglais qui occupent Caen depuis 1417 y fondent une université comprenant les cinq facultés : droit civil\, droit canon\, puis médecine\, théologie et arts. Jusqu’à sa totale destruction en 1944\, l’université est située dans le quartier Saint-Sauveur\, véritable « quartier latin caennais ». Après 1944\, l’université est reconstruite au nord du château. Progressivement\, de nombreux autres sites d’enseignement et de recherche voient le jour dont ceux du plateau nord de Caen.  \n\n\n\nL’exposition « Histoire de l’université et de l’enseignement supérieur à Caen (1432-2025) » est un projet labellisé Millénaire Caen 2025. \n\n\n\n\n\nEntrée libre et gratuite · tous les jours (11h-13h | 16h-19h)
URL:https://www.unicaen.fr/evenement/histoire-de-luniversite-et-de-lenseignement-superieur-a-caen-1432-2025/
LOCATION:Caen · Église du Vieux Saint-Sauveur\, Église du Vieux Saint-Sauveur\, 13 Rue Saint-Sauveur\, Caen\, 14000\, France
CATEGORIES:Exposition
ATTACH;FMTTYPE=image/jpeg:https://www.unicaen.fr/wp-content/uploads/2025/01/campus1.jpg
ORGANIZER;CN="Association des amis de l'universit%C3%A9 de Caen Normandie":MAILTO:amis.universite@unicaen.fr
END:VEVENT
BEGIN:VEVENT
DTSTART;TZID=Europe/Paris:20250205T130000
DTEND;TZID=Europe/Paris:20250205T150000
DTSTAMP:20260422T184410
CREATED:20241212T152301Z
LAST-MODIFIED:20250205T093604Z
UID:71676-1738760400-1738767600@www.unicaen.fr
SUMMARY:Atelier Rebondir
DESCRIPTION:Réorientation\nModalités\n\nDurée : 2h\nPublic : licence 1\, DUT 1\, CPGE 1\n\nObjectifs\n\nFaire le bilan de ses expériences et de son arrivée à l’université ;\nAmorcer une réflexion autour du projet d’orientation ;\nS’approprier les différentes possibilités d’études supérieures et les procédures de candidature pour y parvenir\n\nInscription\nInscription obligatoire en ligne \nNombre de places limité \nProchaines dates\nmercredi 26 février – 16h 18h \nlundi 10 mars – 13h30 15h30
URL:https://www.unicaen.fr/evenement/atelier-rebondir-41/
LOCATION:Caen · Campus 1 · Bâtiment B · Espace Orientation Insertion (EOI)\, Bâtiment B\, Esplanade de la Paix\, Caen\, 14000\, France
CATEGORIES:Orientation
ATTACH;FMTTYPE=image/jpeg:https://www.unicaen.fr/wp-content/uploads/2024/12/Visuel_atelier_rebondir_InscriptionCC-1.jpg
ORGANIZER;CN="Espace orientation insertion (EOI)":MAILTO:orientationinsertion@unicaen.fr
END:VEVENT
BEGIN:VEVENT
DTSTART;TZID=Europe/Paris:20250205T183000
DTEND;TZID=Europe/Paris:20250205T214500
DTSTAMP:20260422T184410
CREATED:20250128T092707Z
LAST-MODIFIED:20250205T144444Z
UID:73304-1738780200-1738791900@www.unicaen.fr
SUMMARY:Café polyglotte
DESCRIPTION:Le Café Polyglotte c’est quoi ?\n\n\n\nCe sont des tables où l’on discute dans la langue de son choix : anglais\, allemand\, espagnol\, italien\, polonais\, arabe\, chinois\, russe\, grec\, français\, etc. Le but est de discuter dans une ou plusieurs langue(s) et de rencontrer des étudiants du monde entier ! \n\n\n\nWhat is the event “Café Polyglotte” ?\n\n\n\nPolyglotte in French means “someone who can speak several languages”. You know what Café means… Actually\, we invite you to sit at a table where you can speak the language of your choice: English\, German\, Spanish\, Italian\, Polish\, Arabic\, Chinese\, Russia\, Greek\, French… The event is all about talking in one or several languages by switching tables and to meet up with students from all around the world. \n\n\n\n\nLe Café polyglotte ne pourra malheureusement pas se dérouler à la MDE mais Erasmus Student Network Caen vous propose un autre lieu de rendez-vous dans le centre-ville ! Alors\, rendez-vous à partir de 18h30 au café Le Régent (3 avenue de la Libération)\, proche de l’arrêt de tram « Saint-Pierre ». Il y aura des crêpes !
URL:https://www.unicaen.fr/evenement/cafe-polyglotte-13/
LOCATION:Caen · 3 Avenue de la Libération\, 3 Avenue de la Libération\, Caen\, 14000\, France
CATEGORIES:Vie de campus
ATTACH;FMTTYPE=image/jpeg:https://www.unicaen.fr/wp-content/uploads/2025/01/Cafe_polyglotte_14012025.jpg
END:VEVENT
END:VCALENDAR