BEGIN:VCALENDAR
VERSION:2.0
PRODID:-//Université de Caen Normandie - ECPv6.15.18//NONSGML v1.0//EN
CALSCALE:GREGORIAN
METHOD:PUBLISH
X-ORIGINAL-URL:https://www.unicaen.fr
X-WR-CALDESC:Évènements pour Université de Caen Normandie
REFRESH-INTERVAL;VALUE=DURATION:PT1H
X-Robots-Tag:noindex
X-PUBLISHED-TTL:PT1H
BEGIN:VTIMEZONE
TZID:Europe/Paris
BEGIN:DAYLIGHT
TZOFFSETFROM:+0100
TZOFFSETTO:+0200
TZNAME:CEST
DTSTART:20230326T010000
END:DAYLIGHT
BEGIN:STANDARD
TZOFFSETFROM:+0200
TZOFFSETTO:+0100
TZNAME:CET
DTSTART:20231029T010000
END:STANDARD
BEGIN:DAYLIGHT
TZOFFSETFROM:+0100
TZOFFSETTO:+0200
TZNAME:CEST
DTSTART:20240331T010000
END:DAYLIGHT
BEGIN:STANDARD
TZOFFSETFROM:+0200
TZOFFSETTO:+0100
TZNAME:CET
DTSTART:20241027T010000
END:STANDARD
BEGIN:DAYLIGHT
TZOFFSETFROM:+0100
TZOFFSETTO:+0200
TZNAME:CEST
DTSTART:20250330T010000
END:DAYLIGHT
BEGIN:STANDARD
TZOFFSETFROM:+0200
TZOFFSETTO:+0100
TZNAME:CET
DTSTART:20251026T010000
END:STANDARD
BEGIN:DAYLIGHT
TZOFFSETFROM:+0100
TZOFFSETTO:+0200
TZNAME:CEST
DTSTART:20260329T010000
END:DAYLIGHT
BEGIN:STANDARD
TZOFFSETFROM:+0200
TZOFFSETTO:+0100
TZNAME:CET
DTSTART:20261025T010000
END:STANDARD
END:VTIMEZONE
BEGIN:VEVENT
DTSTART;TZID=Europe/Paris:20241118T000000
DTEND;TZID=Europe/Paris:20241218T235959
DTSTAMP:20260421T211801
CREATED:20241008T071347Z
LAST-MODIFIED:20241105T072739Z
UID:69490-1731888000-1734566399@www.unicaen.fr
SUMMARY:Ceci n'est pas un fait divers
DESCRIPTION:Créée par l’association Osez le féminisme! avec la participation d’Éducation féministe\, l’exposition « Ceci n’est pas un fait divers » vise à sensibiliser le grand public au continuum des violences masculines et casser certaines idées reçues sur les agresseurs et les victimes.Cette exposition utilise des objets de la vie de tous les jours pour rappeler les chiffres des violences machistes\, parler des agresseurs et des conséquences que leurs actes peuvent avoir sur le quotidien des femmes et des filles aujourd’hui.
URL:https://www.unicaen.fr/evenement/ceci-nest-pas-un-fait-divers-2024/
LOCATION:Caen · Campus 5 · BU Madeleine-Brès\, BU Madeleine-Brès\, 2 Rue des Rochambelles\, Caen\, 14000\, France
CATEGORIES:Exposition,Vie de campus
ATTACH;FMTTYPE=image/jpeg:https://www.unicaen.fr/wp-content/uploads/2024/10/UNICAEN_SCD_Expo_Ceci-nest-pas-un-fait-divers.jpg
END:VEVENT
BEGIN:VEVENT
DTSTART;TZID=Europe/Paris:20241125T000000
DTEND;TZID=Europe/Paris:20250124T235959
DTSTAMP:20260421T211801
CREATED:20241211T140044Z
LAST-MODIFIED:20241211T140045Z
UID:71642-1732492800-1737763199@www.unicaen.fr
SUMMARY:United in Diversity : The European Perspective
DESCRIPTION:Dans le cadre de la semaine d’excellence qui s’est tenue en mai 2024 et en collaboration avec le Module Jean Monnet\, les membres du Collège d’Excellence de la Faculté de Droit (CEFD) ont élaboré l’exposition United in Diversity : the European Perspective. \n\n\n\nInspirées de la tradition des murals\, œuvres de street art qui participent de la communication politique en Irlande du nord notamment pendant la période des Troubles\, et à la veille des élections européennes\, les œuvres visent à représenter les différentes conceptions des étudiantes et des étudiants sur la thématique de la « Frontière ». Les éléments qui figurent sur les panneaux font écho aux conférences et activités offertes au cours de l’année 2023-2024 dans le cadre du CEFD. \n\n\n\nLes M1 CEFD ont également réalisé un audio-guide en anglais pour partager les éléments qui ont inspiré la composition de chacun des tableaux exposés. Le visiteur est invité à découvrir le message qui a été représenté en 90 minutes\, le temps que durait l’atelier lors de la Semaine d’Excellence. \n\n\n\nNous vous invitons à vous rendre dans le hall de la Maison des Langues et de l’International où vous pourrez voir et entendre les travaux des juristes qui s’expriment autrement que par la loi !
URL:https://www.unicaen.fr/evenement/united-in-diversity-the-european-perspective/
LOCATION:Caen · Campus 1 · Maison des langues et de l’international (MLI)\, Carré international - Maison des langues et de l'international\, Caen\, 14000\, France
CATEGORIES:Exposition,Vie de campus
ATTACH;FMTTYPE=image/jpeg:https://www.unicaen.fr/wp-content/uploads/2024/12/2024-10-15_Exposition_CEFD_MAUE.jpg
END:VEVENT
BEGIN:VEVENT
DTSTART;TZID=Europe/Paris:20241205T000000
DTEND;TZID=Europe/Paris:20241219T235959
DTSTAMP:20260421T211801
CREATED:20241122T131843Z
LAST-MODIFIED:20241129T101825Z
UID:70499-1733356800-1734652799@www.unicaen.fr
SUMMARY:OPUS 5 : Mur Murs de nature
DESCRIPTION:L’exposition Mur murs de nature invite le public à prendre un temps pour se reconnecter à la nature. À travers un ensemble d’œuvres figuratif et abstrait\, elle témoigne de la diversité de regards et de représentations possibles du paysage et des éléments naturels. Les œuvres photographiques\, les peintures et les gravures offrent différentes perspectives contemporaines\, mettant en lumière ces expressions variées. \n\n\n\nPasser la semaine dans les murs de l’université rend souvent l’accès à la nature difficile\, d’où l’idée de recréer une connexion avec elle à travers ce projet. La vie étudiante est dissociée de la nature\, c’est pour cette raison que l’exposition est installée sur le campus universitaire. \n\n\n\nMur murs de nature a été conçue par les étudiants et étudiantes de la classe B11 du Carré International\, en partenariat avec l’université de Caen Normandie. Elle est présentée à l’occasion de la cinquième tournée d’OPUS\, l’appareil à exposition du Frac Normandie. \n\n\n\nL’exposition est visible du lundi au vendredi de 8h à 19h dans le hall du bâtiment G (Campus 1\, Caen).
URL:https://www.unicaen.fr/evenement/opus-5-mur-murs-de-nature/
LOCATION:Caen · Campus 1 · Bâtiment G\, Centre de formation aux carrières des bibliothèques de Caen\, Caen\, 14000\, France
CATEGORIES:Exposition,Vie de campus
ATTACH;FMTTYPE=image/jpeg:https://www.unicaen.fr/wp-content/uploads/2024/11/opus5.jpg
END:VEVENT
BEGIN:VEVENT
DTSTART;TZID=Europe/Paris:20241213T080000
DTEND;TZID=Europe/Paris:20250108T170000
DTSTAMP:20260421T211801
CREATED:20240702T082834Z
LAST-MODIFIED:20241213T093833Z
UID:65694-1734076800-1736355600@www.unicaen.fr
SUMMARY:Fermeture de la boutique
DESCRIPTION:La boutique est fermée pour la période de fin d’année. Retrouvez les articles aux couleurs de l’université dès le 9 janvier 2025.
URL:https://www.unicaen.fr/evenement/fermeture-de-la-boutique-2/
LOCATION:Caen · Campus 1\, Université de Caen Normandie\, Espanade de la Paix\, Caen\, 14000\, France
CATEGORIES:Vie de campus
END:VEVENT
BEGIN:VEVENT
DTSTART;TZID=Europe/Paris:20241217T140000
DTEND;TZID=Europe/Paris:20241218T130000
DTSTAMP:20260421T211801
CREATED:20241017T081500Z
LAST-MODIFIED:20241211T145056Z
UID:69275-1734444000-1734526800@www.unicaen.fr
SUMMARY:La violence formelle au cinéma : la perception malmenée
DESCRIPTION:Cette journée d’étude\, organisée par l’unité de recherche LASLAR\, examinera la violence de certaines formes cinématographiques. \n\n\n\nLa question de la violence est l’une des plus fréquemment traitées dans le cadre des études cinématographiques. Pourtant\, c’est presque toujours à travers le prisme du « contenu » profilmique des images qu’elle est abordée : horreur de la guerre et des univers concentrationnaires\, torture physique ou mentale\, représentation de la mort\, brutalité exercée à l’égard d’un être humain ou d’un animal… Ces deux journées d’études (la première à Caen les 17 et 18 décembre 2024\, la seconde à Paris le 3 juin 2025) visent à déplacer la focale\, afin d’examiner la violence de certaines formes cinématographiques. \n\n\n\nIl s’agira donc d’étudier ce que nous proposons de nommer la « violence formelle » au cinéma. Il existe en effet tout un panel de formes cinématographiques brutales\, agressives\, au sens où elles génèrent pour les spectateurs des stimuli sensoriels désagréables\, voire douloureux\, et peuvent s’accompagner d’émotions intenses : montage ultra-rapide\, pulsatile\, de plans hétérogènes\, parfois monophotogrammatiques (avec le cas limite du flicker) ; répétition ad nauseam de certains sons se caractérisant\, par exemple\, par leurs basses puissantes ; transformations soudaines et spectaculaires de la perspective et de la profondeur de champ ; changements brutaux et inattendus des échelles de plan ; images au cadre extrêmement tressautant ; absence volontaire de raccord et « saut » d’un plan à un autre ; usage de lumières aveuglantes ou de couleurs saturées\, par exemple dans des plans monochromes s’enchaînant à toute vitesse… \n\n\n\nDes formes violentes sont mobilisées\, bien qu’à divers degrés\, tant par le cinéma mainstream (Alfred Hitchcock\, Martin Scorsese\, Sam Peckinpah…) que par le cinéma dit « de genre » (films d’horreur\, avec notamment les slashers\, qui inscrivent le motif de la taillade dans le style filmique lui-même ; gialli) et le cinéma d’avant-garde ou expérimental (Eisenstein ; Peter Kubelka quelques décennies plus tard ; puis le cinéma dit « structurel »\, avec notamment Paul Sharits\, Ernie Gehr\, Michael Snow\, Tony Conrad\, Ken Jacobs…). Aussi les corpus étudiés afin de déterminer la nature et les fonctions de la violence formelle au cinéma seront-ils très divers. \n\n\n\n\n\n\n\nLASLAR · Baptiste VILLENAVE · baptiste.villenave@unicaen.fr
URL:https://www.unicaen.fr/evenement/la-violence-formelle-au-cinema-la-perception-malmenee/
LOCATION:Caen · Campus 1 · Maison de la recherche en sciences humaines (MRSH) · Amphi\, Campus 1\, Maison de la recherche en sciences humaines (MRSH)\, 1 Esplanade de la Paix\, Caen\, 14000\, France
CATEGORIES:Journée d'étude,Sciences humaines et sociales
ATTACH;FMTTYPE=image/jpeg:https://www.unicaen.fr/wp-content/uploads/2024/10/UNICAEN_LASLAR_JE_la_violence_formelle_au_cinema.jpg
END:VEVENT
BEGIN:VEVENT
DTSTART;TZID=Europe/Paris:20241218T000000
DTEND;TZID=Europe/Paris:20250131T235959
DTSTAMP:20260421T211801
CREATED:20241209T165108Z
LAST-MODIFIED:20241217T152349Z
UID:71450-1734480000-1738367999@www.unicaen.fr
SUMMARY:Campus Caen · Réinscription pour le second semestre !
DESCRIPTION:Le SUAPS remettra ses listes à zéro le lundi 16 décembre\, à la fin du semestre 1.  \n\n\n\nLe mardi 17 décembre\, vous pourrez consulter le planning du semestre 2. Le mercredi 18 décembre\, les inscriptions aux activités pour le second semestre seront ouvertes (uniquement pour les adhérents du SUAPS) à partir de 12H30. Inutile de vous déplacer\, si vous avez déjà procédé à votre inscription et pourrez le faire directement en ligne ! \n\n\n\nÀ partir du jeudi 19 décembre\, toute la communauté UNICAEN pourra accéder aux inscriptions en ligne. \n\n\n\nRappel calendrier\n\n\n\nArrêt des activités sportives : du 16 décembre au 5 janvier inclus \n\n\n\nFermeture de la piscine universitaire : du 16 décembre au 12 janvier inclus
URL:https://www.unicaen.fr/evenement/campus-caen-reinscriptions-pour-le-second-semestre/
LOCATION:Caen · Campus 1 · SUAPS\, Service Universitaire des Activités Physiques et Sportives (SUAPS)\, Gymnase piscine\, Caen\, 14000\, France
CATEGORIES:Sport,Vie de campus
ATTACH;FMTTYPE=image/jpeg:https://www.unicaen.fr/wp-content/uploads/2022/10/Journee-Sport-Campus-2022-3.jpg
ORGANIZER;CN="Service universitaire des activit%C3%A9s physiques et sportives (SUAPS)":MAILTO:suaps.evenement@unicaen.fr
END:VEVENT
BEGIN:VEVENT
DTSTART;TZID=Europe/Paris:20241218T133000
DTEND;TZID=Europe/Paris:20241218T170000
DTSTAMP:20260421T211801
CREATED:20240704T084420Z
LAST-MODIFIED:20240911T093850Z
UID:67341-1734528600-1734541200@www.unicaen.fr
SUMMARY:Permanences d'accès au droit
DESCRIPTION:Gratuites\, ces permanences sont ouvertes aux étudiants et personnels UNICAEN\, mais également à toute personne extérieure à l’université. Elles sont assurées par des professionnels.En salle 0\, les mercredis de 13h30 à 17hAccessibles avec ou sans rendez-vous \n\n\n\nContact\n\n\n\nPour demander un rendez-vous ou exposer sa question / son problème juridique02 50 10 13 07du lundi au vendredi de 9h à 12h et de 13h30 à 16h30contact@cdad14.frIndiquer son numéro de téléphone et ses disponibilités pour pouvoir être recontacté-e
URL:https://www.unicaen.fr/evenement/permanences-dacces-au-droit-40/
LOCATION:Caen · Campus 1 · BU Pierre-Sineux\, Bibliothèque Universitaire Pierre-Sineux\, Esplanade de la Paix\, Caen\, 14000\, France
CATEGORIES:Vie de campus
ATTACH;FMTTYPE=image/jpeg:https://www.unicaen.fr/wp-content/uploads/2022/10/Permanences-droit-1000-400.jpg
END:VEVENT
BEGIN:VEVENT
DTSTART;TZID=Europe/Paris:20241218T183000
DTEND;TZID=Europe/Paris:20250123T183000
DTSTAMP:20260421T211801
CREATED:20241212T110858Z
LAST-MODIFIED:20241212T110859Z
UID:71650-1734546600-1737657000@www.unicaen.fr
SUMMARY:Exposition « Encré·es » : Une plongée dans l'univers du tatouage et de l'illustration
DESCRIPTION:L’IUT Grand Ouest Normandie\, à travers son projet culturel Art[ifs]acts\, accueille l’exposition « Encré·es »\, organisée par les étudiants en Information-Communication. Cette initiative met en lumière deux artistes caennais de talent\, Jésus Marie Josette et Ultramarine\, tatoueurs·euses et illustrateurs·rices\, dont les œuvres célèbrent la diversité et l’inclusivité. \n\n\n\nAvec une cinquantaine de créations exposées\, les visiteurs découvriront des univers graphiques où se mêlent naïveté\, minimalisme et douceur. Inspirés par l’animation\, les livres pour enfants et la vie quotidienne\, ces artistes redéfinissent le tatouage en le rapprochant de l’illustration. Leurs œuvres\, à la fois joyeuses et poétiques\, subliment les corps et les espaces\, tout en promouvant des valeurs d’accessibilité et d’ouverture. \n\n\n\nL’exposition se tiendra dans la galerie aménagée de l’IUT d’Ifs du 18 décembre 2024 au 23 janvier 2025 (fermeture durant les vacances de Noël). Le vernissage aura lieu le 18 décembre à 18h30\, précédé d’une rencontre avec les artistes à 18h. Un rendez-vous gratuit et ouvert à tous\, pour découvrir des créations originales et enrichir votre regard sur l’art contemporain. \n\n\n\nPour en savoir plus\, visitez le site d’Art[ifs]acts. \n\n\n\nAccès : \n\n\n\n\nTramway : Ligne T1\, arrêt Jean Vilar\n\n\n\nBus : Lignes 3\, 30 (arrêt Jean Vilar) ou Ligne 4 (arrêt Campus 3)\n\n\n\nVoiture : Périphérique sud\, sortie n°12\, direction Caen centre\, puis à gauche au rond-point.
URL:https://www.unicaen.fr/evenement/exposition-encrees-une-plongee-dans-lunivers-du-tatouage-et-de-lillustration/
LOCATION:Caen · Campus 3 · IUT Grand Ouest Normandie\, Institut Universitaire de Technologie de Caen IUT\, 8 Rue Anton Tchekhov\, Ifs\, 14123\, France
CATEGORIES:Exposition
ATTACH;FMTTYPE=image/jpeg:https://www.unicaen.fr/wp-content/uploads/2024/10/2024-12-12-Encre.es-Expo.jpg
ORGANIZER;CN="IUT Grand Ouest Normandie %C2%B7 Campus de Ifs":MAILTO:iut.caen@unicaen.fr
END:VEVENT
END:VCALENDAR