BEGIN:VCALENDAR
VERSION:2.0
PRODID:-//Université de Caen Normandie - ECPv6.15.18//NONSGML v1.0//EN
CALSCALE:GREGORIAN
METHOD:PUBLISH
X-WR-CALNAME:Université de Caen Normandie
X-ORIGINAL-URL:https://www.unicaen.fr
X-WR-CALDESC:Évènements pour Université de Caen Normandie
REFRESH-INTERVAL;VALUE=DURATION:PT1H
X-Robots-Tag:noindex
X-PUBLISHED-TTL:PT1H
BEGIN:VTIMEZONE
TZID:Europe/Paris
BEGIN:DAYLIGHT
TZOFFSETFROM:+0100
TZOFFSETTO:+0200
TZNAME:CEST
DTSTART:20230326T010000
END:DAYLIGHT
BEGIN:STANDARD
TZOFFSETFROM:+0200
TZOFFSETTO:+0100
TZNAME:CET
DTSTART:20231029T010000
END:STANDARD
BEGIN:DAYLIGHT
TZOFFSETFROM:+0100
TZOFFSETTO:+0200
TZNAME:CEST
DTSTART:20240331T010000
END:DAYLIGHT
BEGIN:STANDARD
TZOFFSETFROM:+0200
TZOFFSETTO:+0100
TZNAME:CET
DTSTART:20241027T010000
END:STANDARD
BEGIN:DAYLIGHT
TZOFFSETFROM:+0100
TZOFFSETTO:+0200
TZNAME:CEST
DTSTART:20250330T010000
END:DAYLIGHT
BEGIN:STANDARD
TZOFFSETFROM:+0200
TZOFFSETTO:+0100
TZNAME:CET
DTSTART:20251026T010000
END:STANDARD
END:VTIMEZONE
BEGIN:VEVENT
DTSTART;TZID=Europe/Paris:20240528T080000
DTEND;TZID=Europe/Paris:20240621T170000
DTSTAMP:20260425T182547
CREATED:20240527T072648Z
LAST-MODIFIED:20240614T102050Z
UID:64184-1716883200-1718989200@www.unicaen.fr
SUMMARY:"L'Art dans la peau"
DESCRIPTION:Le vernissage aura lieu le mardi 28 mai à 18h dans le hall principal de l’IUT. Venez nombreux pour découvrir ces œuvres uniques. \n\n\n\n\nExposition proposée par les étudiants du BUT Techniques de Commercialisation de l’IUT Grand Ouest Normandie.
URL:https://www.unicaen.fr/evenement/exposition-lart-de-la-peau/
LOCATION:Cherbourg-en-Cotentin · IUT Grand Ouest Normandie\, Institut universitaire de technologie Cherbourg-Manche\, 60 Rue Max Pol Fouchet\, Cherbourg-en-Cotentin\, 50130\, France
CATEGORIES:Exposition,Vie de campus
ATTACH;FMTTYPE=image/jpeg:https://www.unicaen.fr/wp-content/uploads/2024/05/la-traversee.jpg
END:VEVENT
BEGIN:VEVENT
DTSTART;TZID=Europe/Paris:20240531T000000
DTEND;TZID=Europe/Paris:20240905T235959
DTSTAMP:20260425T182547
CREATED:20240521T120216Z
LAST-MODIFIED:20240625T090515Z
UID:63875-1717113600-1725580799@www.unicaen.fr
SUMMARY:D-Day Climate change
DESCRIPTION:Utah Beach\, Pointe du Hoc\, Omaha Beach\, Gold Beach\, Juno Beach et Sword Beach\,… quel avenir pour ces lieux mémoriels au vu de l’évolution du littoral et les effets\, avérés et prévus\, du changement climatique sur les Plages du Débarquement ? \n\n\n\nUne présentation du travail de recherche coordonné par Xavier Michel\, Laboratoire Espaces et Sociétés (UMR 6590 ESO-Caen)\, basé sur l’apport d’ateliers participatifs\, effectués avec 12 groupes citoyens composés d’habitants locaux\, mais aussi de personnes éloignées\, de France\, d’Europe\, des États-Unis\, du Canada\, avec lesquels les ateliers ont été conduits en distanciel. \n\n\n\nExposition extérieure\, au cœur du campus 1. Inauguration le 4 juin à 17h30. \n\n\n\nTranslation of the exhibition in English (pdf · 814 Ko)Télécharger (pdf · 814 Ko)
URL:https://www.unicaen.fr/evenement/climate-change/
CATEGORIES:Exposition
END:VEVENT
BEGIN:VEVENT
DTSTART;TZID=Europe/Paris:20240610T000000
DTEND;TZID=Europe/Paris:20240613T235959
DTSTAMP:20260425T182547
CREATED:20231128T143931Z
LAST-MODIFIED:20240506T145612Z
UID:56299-1717977600-1718323199@www.unicaen.fr
SUMMARY:Prévention et secours civique de niveau 1 (PSC1)
DESCRIPTION:Comment prévenir les secours ? Comment protéger une victime ? Quels gestes effectuer en attendant l’arrivée des secours ? La formation Prévention et secours civique de niveau 1 (PSC1) vous permettra d’apprendre des gestes simples à travers des mises en situation. Elle ne nécessite aucune formation préalable. \n\n\n\n7 sessions sont prévues au cours de l’année. Chaque session comprend  3 soirées de formation (lundi\, mercredi\, jeudi) de 17h à 20h. La présence aux 3 soirées est obligatoire pour pouvoir valider la formation  \n\n\n\nLe nombre d’inscriptions est limité à 14 par session. \n\n\n\n\nPas de séance le mardi \n\n\n\n\n\nInscription
URL:https://www.unicaen.fr/evenement/prevention-et-secours-civique-de-niveau-1-psc1-juin-2024/
LOCATION:Caen · Campus 1 · Bâtiment D · Salle du Belvédère\, Centre de recherche en sciences de l'éducation\, Esplanade de la Paix\, Caen\, 14000\, France
CATEGORIES:Santé,Vie de campus
ATTACH;FMTTYPE=image/jpeg:https://www.unicaen.fr/wp-content/uploads/2021/10/Formations_PSC1.jpg
END:VEVENT
BEGIN:VEVENT
DTSTART;TZID=Europe/Paris:20240610T180000
DTEND;TZID=Europe/Paris:20240610T203000
DTSTAMP:20260425T182547
CREATED:20240528T142912Z
LAST-MODIFIED:20240529T103910Z
UID:64307-1718042400-1718051400@www.unicaen.fr
SUMMARY:Ciné'thique Nuit Blanche d'Olivier Chasle
DESCRIPTION:Dans le cadre du projet ciné’thique\, l’Espace de Réflexion éthique de Normandie organise une projection du film « Nuit blanche » d’Olivier Chasle. \n\n\n\nNuit blanche est une immersion dans l’univers de cinq femmes médecins urgentistes exerçant au sein des urgences pédiatriques de l’hôpital Sud de Rennes. Des femmes réunies par un engagement commun au service des autres. \n\n\n\nLe temps d’une garde de nuit\, les situations d’urgence se succèdent dans le service. Lors de quelques moments de répit\, Amélie\, Véronique\, Céline\, Tiphaine et Martine reviennent aux sources de leur vocation et témoignent des joies et des souffrances de leur métier. \n\n\n\nÀ la suite de la projection du film\, vous sera proposé une table ronde / débat.  \n\n\n\nAffiche ()Télécharger ()\n\n\n\nL’entrée est libre et gratuite sans réservation dans la limite des places disponibles.
URL:https://www.unicaen.fr/evenement/cinethique-nuit-blanche-dolivier-chasle/
LOCATION:Caen · Campus 5 · PFRS · Amphi Max Robba\, UFR Santé\, 2 Rue des Rochambelles\, Caen\, 14032\, France
CATEGORIES:Projection - Cinéma,Vie de campus
END:VEVENT
END:VCALENDAR