BEGIN:VCALENDAR
VERSION:2.0
PRODID:-//Université de Caen Normandie - ECPv6.15.18//NONSGML v1.0//EN
CALSCALE:GREGORIAN
METHOD:PUBLISH
X-WR-CALNAME:Université de Caen Normandie
X-ORIGINAL-URL:https://www.unicaen.fr
X-WR-CALDESC:Évènements pour Université de Caen Normandie
REFRESH-INTERVAL;VALUE=DURATION:PT1H
X-Robots-Tag:noindex
X-PUBLISHED-TTL:PT1H
BEGIN:VTIMEZONE
TZID:Europe/Paris
BEGIN:DAYLIGHT
TZOFFSETFROM:+0100
TZOFFSETTO:+0200
TZNAME:CEST
DTSTART:20230326T010000
END:DAYLIGHT
BEGIN:STANDARD
TZOFFSETFROM:+0200
TZOFFSETTO:+0100
TZNAME:CET
DTSTART:20231029T010000
END:STANDARD
BEGIN:DAYLIGHT
TZOFFSETFROM:+0100
TZOFFSETTO:+0200
TZNAME:CEST
DTSTART:20240331T010000
END:DAYLIGHT
BEGIN:STANDARD
TZOFFSETFROM:+0200
TZOFFSETTO:+0100
TZNAME:CET
DTSTART:20241027T010000
END:STANDARD
BEGIN:DAYLIGHT
TZOFFSETFROM:+0100
TZOFFSETTO:+0200
TZNAME:CEST
DTSTART:20250330T010000
END:DAYLIGHT
BEGIN:STANDARD
TZOFFSETFROM:+0200
TZOFFSETTO:+0100
TZNAME:CET
DTSTART:20251026T010000
END:STANDARD
END:VTIMEZONE
BEGIN:VEVENT
DTSTART;TZID=Europe/Paris:20240522T090000
DTEND;TZID=Europe/Paris:20240524T170000
DTSTAMP:20260421T045213
CREATED:20240521T090955Z
LAST-MODIFIED:20240719T083216Z
UID:63858-1716368400-1716570000@www.unicaen.fr
SUMMARY:Colloque international sur le stress post-traumatique
DESCRIPTION:Les Journées Scientifiques du Centre Régional Psychotraumatismes Normandie\, en collaboration avec l’International Society for Traumatic Stress Studies (ISTSS)\, la European Society for Traumatic Stress Studies (ESTSS)\, l’ABC des Psychotrauma\, et le Centre national de ressources et de résilience (Cn2r) se tiendront à l’université Caen Normandie du 22 au 24 mai 2024.  \n\n\n\nÀ l’occasion du 80e anniversaire du débarquement de Normandie\, le colloque aura pour thème : « Le débarquement de Normandie revisité : 80 ans d’études sur le stress post-traumatique ». Le Professeur de psychiatrie à l’université de Caen\, Eric Bui et la Directrice d’Études à l’École Pratique des Hautes Études Bérengère Guillery\, de l’université de Caen\, coprésident le programme scientifique de ces journées\, qui rassembleront cliniciens et chercheurs internationaux spécialisés dans le domaine du psychotraumatisme. Le programme s’articulera autour de présentations en anglais d’une trentaine d’experts internationaux du psycho-traumatisme\, dont des membres du Conseil d’Administration et d’anciens présidents de l’ISTSS et de l’ESTSS\, ainsi que des membres d’ABC Psychotrauma sur les avancées et les enjeux dans ce domaine.
URL:https://www.unicaen.fr/evenement/colloque-international-sur-le-stress-post-traumatique/
CATEGORIES:Congrès - Colloque
END:VEVENT
BEGIN:VEVENT
DTSTART;TZID=Europe/Paris:20240523T000000
DTEND;TZID=Europe/Paris:20240524T235959
DTSTAMP:20260421T045213
CREATED:20240503T175721Z
LAST-MODIFIED:20240503T175723Z
UID:63344-1716422400-1716595199@www.unicaen.fr
SUMMARY:Les nouvelles vies des divinités grecques en Europe : figurations textuelles et visuelles du XIVe au XVIe siècle
DESCRIPTION:Colloque international organisé par le Centre Michel de Boüard · CRAHAM (UMR 6273 CNRS-UNICAEN) dans le cadre de l’ERC AGRELITA \n\n\n\nLes études des premiers siècles de la réception de l’Antiquité grecque en Europe occidentale pré-moderne ont porté jusqu’ici quasi exclusivement sur la transmission des textes grecs antiques aux XVe et XVIe siècles\, le renouveau de l’enseignement du grec\, les éditions des textes grecs et les travaux latins des humanistes hellénistes. Néanmoins dans les siècles qui précèdent\, malgré la perte quasi générale de la maîtrise du grec et de la majorité des œuvres grecques\, la Grèce ancienne n’était pas méconnue ni ignorée.  \n\n\n\nSe situant aux frontières des études littéraires\, de l’histoire du livre et de l’histoire de l’art\, l’ambition d’AGRELITA est ainsi d’explorer la question de la réception par une entrée nouvelle\, différente du traditionnel focus sur la transmission directe des œuvres : l’étude des appropriations littéraires et artistiques de la Grèce ancienne par des auteurs qui\, des années 1320 à 1550\, n’ont pas été en contact direct avec les œuvres grecques\, ont accès à des sources latines diverses et\, dans un processus de réception active qui relève avant tout de la création littéraire et artistique\, choisissent l’écriture et l’illustration d’œuvres en langues vernaculaires. AGRELITA étudiera leur création de l’objet « Grèce ancienne » : comment ils élaborent leurs représentations de la Grèce ancienne en tant que telle\, dans ses spécificités et son altérité\, et en même temps inventent des liens entre elle et leur propre univers spatio-temporel\, pour l’ériger en héritage. \n\n\n\norganisation : Catherine Gaullier-Bougassas (UMR Craham · UNICAEN)  \n\n\n\nNeptune\, Libre des échecs amoureux moralisés\, Evrard de Conty\, BnF\, fr. 9197\, fol. 157\, source BnF. \n\n\n\n\nProgramme \n\n\n\n\n\n\nERC Advanced Grant Agrelita: The Reception of Ancient Greece in Premodern French Literature and Illustrations of Manuscripts and Printed Books (1320-1550): how invented memories shaped the identity of European communities (European Research Council\, grant agreement no 101018777).
URL:https://www.unicaen.fr/evenement/les-nouvelles-vies-des-divinites-grecques-en-europe-figurations-textuelles-et-visuelles-du-xive-au-xvie-siecle/
LOCATION:Caen · Campus 1 · Maison de la recherche en sciences humaines (MRSH) · Salle des Actes\, Campus 1\, Maison de la recherche en sciences humaines (MRSH)\, 1 Esplanade de la Paix\, Caen\, 14000\, France
CATEGORIES:Congrès - Colloque,Sciences humaines et sociales
ATTACH;FMTTYPE=image/jpeg:https://www.unicaen.fr/wp-content/uploads/2024/05/Colloque-CRAHAM-Agrelita.jpg
END:VEVENT
BEGIN:VEVENT
DTSTART;TZID=Europe/Paris:20240523T093000
DTEND;TZID=Europe/Paris:20240524T170000
DTSTAMP:20260421T045213
CREATED:20240513T071847Z
LAST-MODIFIED:20240523T093118Z
UID:63733-1716456600-1716570000@www.unicaen.fr
SUMMARY:Rhétorique de l'amour\, construire l’adhésion politique dans les royaumes hispaniques et en Italie à l’époque moderne
DESCRIPTION:Ce colloque international pluridisciplinaire sera consacré aux emplois du concept d’amour dans la réflexion théorique qui s’attache à définir les conditions du bon gouvernement\, et à ses usages au cœur de l’action politique\, y compris en temps de conflit\, dans la monarchie espagnole et en Italie à l’époque moderne (XVIe-XVIIe). Inscrit dans la thématique de recherche de l’équipe ERLIS « Gouvernance et réflexion sur le pouvoir à l’époque moderne »\, il est organisé en collaboration avec deux équipes de recherches d’autres universités françaises\, le LECEMO (Sorbonne Nouvelle) et Textes & Contextes (Université d’Artois)\, et réunira des historiens\, des hispanistes et des italianistes spécialistes de civilisation et de littérature. \n\n\n\nOrganisation :Paloma BRAVO (Université Sorbonne Nouvelle\, LECEMO)\, Alexandra MERLE(Université de Caen Normandie\, ERLIS) et Sarah VOINIER (Université d’Artois\, Textes & Cultures)Pour suivre le colloque en distanciel\, contacter alexandra.merle@unicaen.fr \n\n\n\n\nProgramme
URL:https://www.unicaen.fr/evenement/rhetorique-de-lamour-construire-ladhesion-politique-dans-les-royaumes-hispaniques-et-en-italie-a-lepoque-moderne/
LOCATION:Caen · Campus 1 · Maison de la recherche en sciences humaines (MRSH) · Amphi\, Campus 1\, Maison de la recherche en sciences humaines (MRSH)\, 1 Esplanade de la Paix\, Caen\, 14000\, France
CATEGORIES:Congrès - Colloque
ATTACH;FMTTYPE=image/jpeg:https://www.unicaen.fr/wp-content/uploads/2024/05/programme-Rhetorique-de-lamour-CAEN-23-24-mai-1.jpg
END:VEVENT
BEGIN:VEVENT
DTSTART;TZID=Europe/Paris:20240524T140000
DTEND;TZID=Europe/Paris:20240524T150000
DTSTAMP:20260421T045213
CREATED:20230822T082703Z
LAST-MODIFIED:20250306T130138Z
UID:55433-1716559200-1716562800@www.unicaen.fr
SUMMARY:Ateliers Rédiger un plan de gestion de données
DESCRIPTION:Accompagner les laboratoires et les chercheurs dans la rédaction de leurs plans de gestion de données. \n\n\n\nDepuis plusieurs années\, les chercheurs ont l’obligation de fournir un « plan de gestion de données » (appelé également Data Management Plan) dans le cadre de leur projet financé (ANR\, Horizon Europe…).  \n\n\n\nCette obligation tend à se généraliser depuis le décret sur « l’intégrité scientifique » publié le 3 décembre 2021.  \n\n\n\n\nMais qu’est-ce qu’un plan de gestion de données ? \n\n\n\nQuelles sont les obligations qui y sont liées ? \n\n\n\nQuelles sont les recommandations de l’université de Caen Normandie en matière de gestion des données ? \n\n\n\nComment le rédiger facilement avec l’outil en ligne DMP-Opidor et être accompagné dans sa rédaction ? \n\n\n\n\nC’est à toutes ces questions que répondent les ateliers « Rédiger un plan de gestion de données ». Des séances en présentiel et en ligne sont proposées de septembre 2023 à juin 2024. \n\n\n\nDurée : 1h \n\n\n\n\nJe m’inscris
URL:https://www.unicaen.fr/evenement/ateliers-rediger-un-plan-de-gestion-de-donnees-14/
LOCATION:Caen · Campus 5 · BU Madeleine-Brès\, BU Madeleine-Brès\, 2 Rue des Rochambelles\, Caen\, 14000\, France
CATEGORIES:Science ouverte
ATTACH;FMTTYPE=image/jpeg:https://www.unicaen.fr/wp-content/uploads/2023/11/UNICAEN_SCD_AteliersPGD-bis_1000-400.jpg
END:VEVENT
END:VCALENDAR