BEGIN:VCALENDAR
VERSION:2.0
PRODID:-//Université de Caen Normandie - ECPv6.15.18//NONSGML v1.0//EN
CALSCALE:GREGORIAN
METHOD:PUBLISH
X-ORIGINAL-URL:https://www.unicaen.fr
X-WR-CALDESC:Évènements pour Université de Caen Normandie
REFRESH-INTERVAL;VALUE=DURATION:PT1H
X-Robots-Tag:noindex
X-PUBLISHED-TTL:PT1H
BEGIN:VTIMEZONE
TZID:Europe/Paris
BEGIN:DAYLIGHT
TZOFFSETFROM:+0100
TZOFFSETTO:+0200
TZNAME:CEST
DTSTART:20230326T010000
END:DAYLIGHT
BEGIN:STANDARD
TZOFFSETFROM:+0200
TZOFFSETTO:+0100
TZNAME:CET
DTSTART:20231029T010000
END:STANDARD
BEGIN:DAYLIGHT
TZOFFSETFROM:+0100
TZOFFSETTO:+0200
TZNAME:CEST
DTSTART:20240331T010000
END:DAYLIGHT
BEGIN:STANDARD
TZOFFSETFROM:+0200
TZOFFSETTO:+0100
TZNAME:CET
DTSTART:20241027T010000
END:STANDARD
BEGIN:DAYLIGHT
TZOFFSETFROM:+0100
TZOFFSETTO:+0200
TZNAME:CEST
DTSTART:20250330T010000
END:DAYLIGHT
BEGIN:STANDARD
TZOFFSETFROM:+0200
TZOFFSETTO:+0100
TZNAME:CET
DTSTART:20251026T010000
END:STANDARD
END:VTIMEZONE
BEGIN:VEVENT
DTSTART;TZID=Europe/Paris:20240513T000000
DTEND;TZID=Europe/Paris:20240516T235959
DTSTAMP:20260425T125738
CREATED:20231128T140507Z
LAST-MODIFIED:20240506T145525Z
UID:56297-1715558400-1715903999@www.unicaen.fr
SUMMARY:Prévention et secours civique de niveau 1 (PSC1)
DESCRIPTION:Comment prévenir les secours ? Comment protéger une victime ? Quels gestes effectuer en attendant l’arrivée des secours ? La formation Prévention et secours civique de niveau 1 (PSC1) vous permettra d’apprendre des gestes simples à travers des mises en situation. Elle ne nécessite aucune formation préalable. \n\n\n\n7 sessions sont prévues au cours de l’année. Chaque session comprend  3 soirées de formation (lundi\, mercredi\, jeudi) de 17h à 20h. La présence aux 3 soirées est obligatoire pour pouvoir valider la formation  \n\n\n\nLe nombre d’inscriptions est limité à 14 par session. \n\n\n\n\nPas de séance le mardi \n\n\n\n\n\nInscription\n\n\n\n\n\n\nToutes les sessions\n\n\n18 mars 2024 - 21 mars 2024Caen · Campus 1 · Bâtiment D · Salle du Belvédère\, \n\nCentre de recherche en sciences de l'éducation\, Esplanade de la Paix\n	\n		\n		Caen\,\n\n\n	14000\n\n	France\n\n\n Complet — Prévention et secours civique de niveau 1 (PSC1)Envie de sauver des vies ? Inscrivez-vous à la formation PSC1 de mars 2024.  \n\n   					8 avril 2024 - 11 avril 2024Caen · Campus 1 · Bâtiment D · Salle du Belvédère\, \n\nCentre de recherche en sciences de l'éducation\, Esplanade de la Paix\n	\n		\n		Caen\,\n\n\n	14000\n\n	France\n\n\n Complet — Prévention et secours civique de niveau 1 (PSC1)Envie de sauver des vies ? Inscrivez-vous à la formation PSC1 d'avril 2024.  \n\n   					13 mai 2024 - 16 mai 2024Caen · Campus 1 · Bâtiment D · Salle du Belvédère\, \n\nCentre de recherche en sciences de l'éducation\, Esplanade de la Paix\n	\n		\n		Caen\,\n\n\n	14000\n\n	France\n\n\n Prévention et secours civique de niveau 1 (PSC1)Envie de sauver des vies ? Inscrivez-vous à la formation PSC1 de mai 2024.  \n\n   					10 juin 2024 - 13 juin 2024Caen · Campus 1 · Bâtiment D · Salle du Belvédère\, \n\nCentre de recherche en sciences de l'éducation\, Esplanade de la Paix\n	\n		\n		Caen\,\n\n\n	14000\n\n	France\n\n\n Prévention et secours civique de niveau 1 (PSC1)Envie de sauver des vies ? Inscrivez-vous à la formation PSC1.  \n\n   					12 novembre 2024 - 14 novembre 2024Caen · Campus 1 · Bâtiment D · Salle du Belvédère\, \n\nCentre de recherche en sciences de l'éducation\, Esplanade de la Paix\n	\n		\n		Caen\,\n\n\n	14000\n\n	France\n\n\n Prévention et secours civique de niveau 1 (PSC1)Comment prévenir les secours ? Comment protéger une victime ? Quels gestes effectuer en attendant l’arrivée des secours ? La formation Prévention et secours civique de niveau 1 (PSC1) vous permettra d’apprendre des gestes simples à travers des mises en situation. Elle ne nécessite aucune formation préalable. \n\n   					2 décembre 2024 - 4 décembre 2024Caen · Campus 1 · Bâtiment D · Salle du Belvédère\, \n\nCentre de recherche en sciences de l'éducation\, Esplanade de la Paix\n	\n		\n		Caen\,\n\n\n	14000\n\n	France\n\n\n Prévention et secours civique de niveau 1 (PSC1)Comment prévenir les secours ? Comment protéger une victime ? Quels gestes effectuer en attendant l’arrivée des secours ? La formation Prévention et secours civique de niveau 1 (PSC1) vous permettra d’apprendre des gestes simples à travers des mises en situation. Elle ne nécessite aucune formation préalable. \n\n   					27 janvier 2025 - 29 janvier 2025Caen · Campus 1 · Bâtiment D · Salle du Belvédère\, \n\nCentre de recherche en sciences de l'éducation\, Esplanade de la Paix\n	\n		\n		Caen\,\n\n\n	14000\n\n	France\n\n\n Prévention et secours civique de niveau 1 (PSC1)Comment prévenir les secours ? Comment protéger une victime ? Quels gestes effectuer en attendant l’arrivée des secours ? La formation Prévention et secours civique de niveau 1 (PSC1) vous permettra d’apprendre des gestes simples à travers des mises en situation. Elle ne nécessite aucune formation préalable. \n\n   					24 février 2025 - 26 février 2025Caen · Campus 1 · Bâtiment D · Salle du Belvédère\, \n\nCentre de recherche en sciences de l'éducation\, Esplanade de la Paix\n	\n		\n		Caen\,\n\n\n	14000\n\n	France\n\n\n Prévention et secours civique de niveau 1 (PSC1)Comment prévenir les secours ? Comment protéger une victime ? Quels gestes effectuer en attendant l’arrivée des secours ? La formation Prévention et secours civique de niveau 1 (PSC1) vous permettra d’apprendre des gestes simples à travers des mises en situation. Elle ne nécessite aucune formation préalable. \n\n   					10 mars 2025 - 12 mars 2025Caen · Campus 1 · Bâtiment D · Salle du Belvédère\, \n\nCentre de recherche en sciences de l'éducation\, Esplanade de la Paix\n	\n		\n		Caen\,\n\n\n	14000\n\n	France\n\n\n Prévention et secours civique de niveau 1 (PSC1)Comment prévenir les secours ? Comment protéger une victime ? Quels gestes effectuer en attendant l’arrivée des secours ? La formation Prévention et secours civique de niveau 1 (PSC1) vous permettra d’apprendre des gestes simples à travers des mises en situation. Elle ne nécessite aucune formation préalable. \n\n   					22 avril 2025 - 24 avril 2025Caen · Campus 1 · Bâtiment D · Salle du Belvédère\, \n\nCentre de recherche en sciences de l'éducation\, Esplanade de la Paix\n	\n		\n		Caen\,\n\n\n	14000\n\n	France\n\n\n Prévention et secours civique de niveau 1 (PSC1)Comment prévenir les secours ? Comment protéger une victime ? Quels gestes effectuer en attendant l’arrivée des secours ? La formation Prévention et secours civique de niveau 1 (PSC1) vous […] \n\n   					12Go to the next page
URL:https://www.unicaen.fr/evenement/prevention-et-secours-civique-de-niveau-1-psc1-mai-2024/
LOCATION:Caen · Campus 1 · Bâtiment D · Salle du Belvédère\, Centre de recherche en sciences de l'éducation\, Esplanade de la Paix\, Caen\, 14000\, France
CATEGORIES:Santé,Vie de campus
ATTACH;FMTTYPE=image/jpeg:https://www.unicaen.fr/wp-content/uploads/2021/10/Formations_PSC1.jpg
END:VEVENT
BEGIN:VEVENT
DTSTART;TZID=Europe/Paris:20240516T170000
DTEND;TZID=Europe/Paris:20240516T180000
DTSTAMP:20260425T125739
CREATED:20240502T123052Z
LAST-MODIFIED:20240502T133904Z
UID:63248-1715878800-1715882400@www.unicaen.fr
SUMMARY:Réunion d'information sur la césure
DESCRIPTION:La césure est une année durant laquelle vous suspendez votre formation pour vivre une expérience professionnelle ou personnelle\, tout en conservant votre inscription administrative à l’université. \n\n\n\n\nPlus d’infos sur la césure
URL:https://www.unicaen.fr/evenement/reunion-dinformation-sur-la-cesure/
LOCATION:Caen · Campus 1 · Bâtiment B · Amphi Daniel Huet\, Bâtiment B\, Esplanade de la Paix\, Caen\, 14000\, France
CATEGORIES:Formation,Orientation
ATTACH;FMTTYPE=image/jpeg:https://www.unicaen.fr/wp-content/uploads/2024/05/Cesure_visuel-WEB.jpg
END:VEVENT
BEGIN:VEVENT
DTSTART;TZID=Europe/Paris:20240516T180000
DTEND;TZID=Europe/Paris:20240516T210000
DTSTAMP:20260425T125739
CREATED:20240423T130558Z
LAST-MODIFIED:20240426T141004Z
UID:62817-1715882400-1715893200@www.unicaen.fr
SUMMARY:Printemps = beach' volley en cœur de campus !
DESCRIPTION:Chaque jeudi soir\, le SUAPS vous propose de participer au grand tournoi de beach’ volley UNICAEN. \n\n\n\n\n\nTous les jeudis\, du 16 mai au 13 juin\, rejoignez l’Université Caen Stadium et participez à ce tournoi mixte en formule 4 x 4 ! \n\n\n\n\nS’inscrire : sélectionnez Beach’volley\n\n\n\n\n\n\nLes inscriptions se feront à la semaine\, chaque semaine à partir du vendredi précédent à 14h \n\n\n\n\n\nPossibilité de rejoindre le tournoi tout au long des 5 semaines. Pour les joueurs ou joueuses qui se présenteront seul(e)s\, possibilité de créer une équipe sur place ou de compléter les équipes existantes. \n\n\n\nEn cas de pluie\, le tournoi sera déplacé à la Halle des sports (Caen · Campus 1 · Bâtiment H) \n\n\n\n\nRenseignements : suaps.evenement@unicaen.fr \n\n\n\n\n\n\nOuvert à toute la communauté étudiante et aux membres du personnel UNICAEN adhérents du SUAPS.
URL:https://www.unicaen.fr/evenement/printemps-beach-volley-en-coeur-de-campus/
CATEGORIES:Sport,Vie de campus
ATTACH;FMTTYPE=image/jpeg:https://www.unicaen.fr/wp-content/uploads/2024/04/suaps_beach_web.jpg
ORGANIZER;CN="Service universitaire des activit%C3%A9s physiques et sportives (SUAPS)":MAILTO:suaps.evenement@unicaen.fr
END:VEVENT
BEGIN:VEVENT
DTSTART;TZID=Europe/Paris:20240516T194500
DTEND;TZID=Europe/Paris:20240516T194500
DTSTAMP:20260425T125739
CREATED:20240514T125009Z
LAST-MODIFIED:20240514T125011Z
UID:63596-1715888700-1715888700@www.unicaen.fr
SUMMARY:Les Phénix d'Or - Projection courts-métrages étudiants 2023-2024
DESCRIPTION:Préparez\, si vous le désirez\, votre meilleure tenue de soirée à l’occasion de la cérémonie des Phénix d’Or  !Celle-ci célébrera la création étudiante au travers d’un événement exceptionnel à l’amphi Daure\, le 16 Mai 2024 à partir de 19h45\, ne soyez pas en retard !  \n\n\n\nIl est grand temps de découvrir les courts-métrages des futures stars du 7e art à travers la diffusion de 12 courts-métrages réalisés par les étudiants et étudiantes en 3e année de licence Arts du spectacle.  \n\n\n\nLa projection est gratuite et ouverte à toutes et tous\, n’hésitez pas à venir accompagnés de vos proches.
URL:https://www.unicaen.fr/evenement/les-phenix-dor-projection-courts-metrages-etudiants-2023-2024/
LOCATION:Caen · Campus 1 · Bâtiment P · Amphi Pierre Daure\, Amphithéâtre Pierre Daure\, Esplanade de la Paix\, Caen\, 14000\, France
CATEGORIES:Projection - Cinéma,Vie de campus
ATTACH;FMTTYPE=image/jpeg:https://www.unicaen.fr/wp-content/uploads/2024/05/Projection_L3_ARDUS.jpg
END:VEVENT
BEGIN:VEVENT
DTSTART;TZID=Europe/Paris:20240516T203000
DTEND;TZID=Europe/Paris:20240516T220000
DTSTAMP:20260425T125739
CREATED:20240423T140324Z
LAST-MODIFIED:20240502T170726Z
UID:62841-1715891400-1715896800@www.unicaen.fr
SUMMARY:L'armée allemande face au Débarquement
DESCRIPTION:Jean-Luc Leleu\, enseignant-chercheur à l’université de Caen Normandie (laboratoire HisTeMé)\, entend explorer le fonctionnement global de la Wehrmacht face au spectre de la défaite.  \n\n\n\nLa conférence permettra au grand public de comprendre les hommes plutôt que de raconter les événements. \n\n\n\nComment réagissent les acteurs d’une chaîne de commandement face à un événement d’extrême urgence aux contours mal définis\, sur la base d’informations imprécises ou erronées\, et toujours parcellaires ? \n\n\n\nEntrée libre\, gratuite et sans inscription \n\n\n\nContact : association.baronnie.douvres@gmail.com
URL:https://www.unicaen.fr/evenement/larmee-allemande-face-au-debarquement/
LOCATION:Douvres-la-Délivrande · Les Logis de la Baronnie\, Les Logis de la Baronnie\, 1 Rue de la Baronnie\, Douvres-la-Délivrande\, 14440\, France
CATEGORIES:Conférence
ATTACH;FMTTYPE=image/jpeg:https://www.unicaen.fr/wp-content/uploads/2024/04/Wehrmacht.jpg
END:VEVENT
END:VCALENDAR