BEGIN:VCALENDAR
VERSION:2.0
PRODID:-//Université de Caen Normandie - ECPv6.15.18//NONSGML v1.0//EN
CALSCALE:GREGORIAN
METHOD:PUBLISH
X-WR-CALNAME:Université de Caen Normandie
X-ORIGINAL-URL:https://www.unicaen.fr
X-WR-CALDESC:Évènements pour Université de Caen Normandie
REFRESH-INTERVAL;VALUE=DURATION:PT1H
X-Robots-Tag:noindex
X-PUBLISHED-TTL:PT1H
BEGIN:VTIMEZONE
TZID:Europe/Paris
BEGIN:DAYLIGHT
TZOFFSETFROM:+0100
TZOFFSETTO:+0200
TZNAME:CEST
DTSTART:20230326T010000
END:DAYLIGHT
BEGIN:STANDARD
TZOFFSETFROM:+0200
TZOFFSETTO:+0100
TZNAME:CET
DTSTART:20231029T010000
END:STANDARD
BEGIN:DAYLIGHT
TZOFFSETFROM:+0100
TZOFFSETTO:+0200
TZNAME:CEST
DTSTART:20240331T010000
END:DAYLIGHT
BEGIN:STANDARD
TZOFFSETFROM:+0200
TZOFFSETTO:+0100
TZNAME:CET
DTSTART:20241027T010000
END:STANDARD
BEGIN:DAYLIGHT
TZOFFSETFROM:+0100
TZOFFSETTO:+0200
TZNAME:CEST
DTSTART:20250330T010000
END:DAYLIGHT
BEGIN:STANDARD
TZOFFSETFROM:+0200
TZOFFSETTO:+0100
TZNAME:CET
DTSTART:20251026T010000
END:STANDARD
END:VTIMEZONE
BEGIN:VEVENT
DTSTART;TZID=Europe/Paris:20240307T000000
DTEND;TZID=Europe/Paris:20240419T235959
DTSTAMP:20260420T075713
CREATED:20240311T143154Z
LAST-MODIFIED:20240327T113311Z
UID:61137-1709769600-1713571199@www.unicaen.fr
SUMMARY:Travailleurs portugais et espagnols dans le IIIe Reich (1940-1945)
DESCRIPTION:L’Holocauste et les horreurs de la Seconde Guerre mondiale sont aujourd’hui des événements majeurs de la mémoire européenne. L’un des aspects les moins connus de ce conflit est la question du travail forcé. Les victimes portugaises et espagnoles ont été négligées en raison de la neutralité de leurs pays et de l’idée généralisée que les deux peuples ont été épargnés par la guerre. Cette exposition leur rend hommage en proposant des histoires de vie de travailleurs portugais et espagnols\, immigrés et exilés en France ou recrutés en Espagne. Elle retrace les voies qui ont conduit ces étrangers au travail dans le Reich\, les contraintes de leur séjour\, le quotidien en pays ennemi\, le rapatriement… et témoigne de leur impuissance face à l’arbitraire de Vichy et à la violence du régime nazi. \n\n\n\nDès 1940\, l’effort de guerre allemand exige l’emploi d’une main d’œuvre nombreuse. Des millions de personnes sont contraintes à travailler pour l’économie allemande\, notamment dans des usines de guerre\, dans le Reich ou dans les pays occupés. Le début de l’offensive à l’Est fait augmenter les besoins de main d’œuvre. \n\n\n\nEn France\, le recrutement de travailleurs pour l’Allemagne débute dès l’armistice de juin 1940. \n\n\n\nLe gouvernement de Vichy\, cédant à la pression allemande\, met en place la Relève\, puis le Service du Travail Obligatoire (STO)\, et n’hésite pas à employer la contrainte. Lorsque le nombre de travailleurs est insuffisant\, les contingents sont complétés par des rafles dans les groupes de travailleurs étrangers. Parmi ces travailleurs\, des Portugais et des Espagnols\, immigrés économiques et réfugiés\, qui sont pris dans la tourmente de la guerre malgré la neutralité de l’Espagne et du Portugal. \n\n\n\n\n\nVernissage de l’exposition le jeudi 14 mars à 18hPrésentation de l’exposition par Helena da Silva\, historienne (Institut d’histoire contemporaine de Lisbonne\, IHC — NOVA FCSH / IN2PAST) \n\n\n\n\n\n\n\nVisites guidées possibles. Prendre RDV : georges.dacosta@unicaen.fr \n\n\n\n\n\nExposition créée dans le cadre du projet Forced (LER\, IHC\, ISOR\, Arolson Archives\, APH et Fondation Solidaritat/Eurom) financé par le programme européen Europe for Citizens.
URL:https://www.unicaen.fr/evenement/travailleurs-portugais-et-espagnols-dans-le-iiie-reich-1940-1945/
LOCATION:Caen · Campus 1 · Bâtiment G · BU Tove-Jansson\, Bibliothèque Universitaire Tove Jansson\, Centre de formation aux carrières des bibliothèques de Caen\, Caen\, 14000\, France
CATEGORIES:Exposition,Vie de campus
ATTACH;FMTTYPE=image/jpeg:https://www.unicaen.fr/wp-content/uploads/2024/03/Exposition-travail-force-WW2.jpg
END:VEVENT
BEGIN:VEVENT
DTSTART;TZID=Europe/Paris:20240408T000000
DTEND;TZID=Europe/Paris:20240411T235959
DTSTAMP:20260420T075713
CREATED:20231128T140251Z
LAST-MODIFIED:20240322T081632Z
UID:56295-1712534400-1712879999@www.unicaen.fr
SUMMARY:Complet — Prévention et secours civique de niveau 1 (PSC1)
DESCRIPTION:Comment prévenir les secours ? Comment protéger une victime ? Quels gestes effectuer en attendant l’arrivée des secours ? La formation Prévention et secours civique de niveau 1 (PSC1) vous permettra d’apprendre des gestes simples à travers des mises en situation. Elle ne nécessite aucune formation préalable. \n\n\n\nIl y aura 7 sessions sont prévues au cours de l’année. Chaque session comprend  3 soirées de formation (lundi\, mercredi\, jeudi) de 17h à 20h. La présence aux 3 soirées est obligatoire pour pouvoir valider la formation  \n\n\n\nLe nombre d’inscriptions est limité à 14 par session. \n\n\n\n\nPas de séance le mardi \n\n\n\n\n\nInscription\n\n\n\n\n\n\nToutes les sessions\n\n\n18 mars 2024 - 21 mars 2024Caen · Campus 1 · Bâtiment D · Salle du Belvédère\, \n\nCentre de recherche en sciences de l'éducation\, Esplanade de la Paix\n	\n		\n		Caen\,\n\n\n	14000\n\n	France\n\n\n Complet — Prévention et secours civique de niveau 1 (PSC1)Envie de sauver des vies ? Inscrivez-vous à la formation PSC1 de mars 2024.  \n\n   					8 avril 2024 - 11 avril 2024Caen · Campus 1 · Bâtiment D · Salle du Belvédère\, \n\nCentre de recherche en sciences de l'éducation\, Esplanade de la Paix\n	\n		\n		Caen\,\n\n\n	14000\n\n	France\n\n\n Complet — Prévention et secours civique de niveau 1 (PSC1)Envie de sauver des vies ? Inscrivez-vous à la formation PSC1 d'avril 2024.  \n\n   					13 mai 2024 - 16 mai 2024Caen · Campus 1 · Bâtiment D · Salle du Belvédère\, \n\nCentre de recherche en sciences de l'éducation\, Esplanade de la Paix\n	\n		\n		Caen\,\n\n\n	14000\n\n	France\n\n\n Prévention et secours civique de niveau 1 (PSC1)Envie de sauver des vies ? Inscrivez-vous à la formation PSC1 de mai 2024.  \n\n   					10 juin 2024 - 13 juin 2024Caen · Campus 1 · Bâtiment D · Salle du Belvédère\, \n\nCentre de recherche en sciences de l'éducation\, Esplanade de la Paix\n	\n		\n		Caen\,\n\n\n	14000\n\n	France\n\n\n Prévention et secours civique de niveau 1 (PSC1)Envie de sauver des vies ? Inscrivez-vous à la formation PSC1.  \n\n   					12 novembre 2024 - 14 novembre 2024Caen · Campus 1 · Bâtiment D · Salle du Belvédère\, \n\nCentre de recherche en sciences de l'éducation\, Esplanade de la Paix\n	\n		\n		Caen\,\n\n\n	14000\n\n	France\n\n\n Prévention et secours civique de niveau 1 (PSC1)Comment prévenir les secours ? Comment protéger une victime ? Quels gestes effectuer en attendant l’arrivée des secours ? La formation Prévention et secours civique de niveau 1 (PSC1) vous permettra d’apprendre des gestes simples à travers des mises en situation. Elle ne nécessite aucune formation préalable. \n\n   					2 décembre 2024 - 4 décembre 2024Caen · Campus 1 · Bâtiment D · Salle du Belvédère\, \n\nCentre de recherche en sciences de l'éducation\, Esplanade de la Paix\n	\n		\n		Caen\,\n\n\n	14000\n\n	France\n\n\n Prévention et secours civique de niveau 1 (PSC1)Comment prévenir les secours ? Comment protéger une victime ? Quels gestes effectuer en attendant l’arrivée des secours ? La formation Prévention et secours civique de niveau 1 (PSC1) vous permettra d’apprendre des gestes simples à travers des mises en situation. Elle ne nécessite aucune formation préalable. \n\n   					27 janvier 2025 - 29 janvier 2025Caen · Campus 1 · Bâtiment D · Salle du Belvédère\, \n\nCentre de recherche en sciences de l'éducation\, Esplanade de la Paix\n	\n		\n		Caen\,\n\n\n	14000\n\n	France\n\n\n Prévention et secours civique de niveau 1 (PSC1)Comment prévenir les secours ? Comment protéger une victime ? Quels gestes effectuer en attendant l’arrivée des secours ? La formation Prévention et secours civique de niveau 1 (PSC1) vous permettra d’apprendre des gestes simples à travers des mises en situation. Elle ne nécessite aucune formation préalable. \n\n   					24 février 2025 - 26 février 2025Caen · Campus 1 · Bâtiment D · Salle du Belvédère\, \n\nCentre de recherche en sciences de l'éducation\, Esplanade de la Paix\n	\n		\n		Caen\,\n\n\n	14000\n\n	France\n\n\n Prévention et secours civique de niveau 1 (PSC1)Comment prévenir les secours ? Comment protéger une victime ? Quels gestes effectuer en attendant l’arrivée des secours ? La formation Prévention et secours civique de niveau 1 (PSC1) vous permettra d’apprendre des gestes simples à travers des mises en situation. Elle ne nécessite aucune formation préalable. \n\n   					10 mars 2025 - 12 mars 2025Caen · Campus 1 · Bâtiment D · Salle du Belvédère\, \n\nCentre de recherche en sciences de l'éducation\, Esplanade de la Paix\n	\n		\n		Caen\,\n\n\n	14000\n\n	France\n\n\n Prévention et secours civique de niveau 1 (PSC1)Comment prévenir les secours ? Comment protéger une victime ? Quels gestes effectuer en attendant l’arrivée des secours ? La formation Prévention et secours civique de niveau 1 (PSC1) vous permettra d’apprendre des gestes simples à travers des mises en situation. Elle ne nécessite aucune formation préalable. \n\n   					22 avril 2025 - 24 avril 2025Caen · Campus 1 · Bâtiment D · Salle du Belvédère\, \n\nCentre de recherche en sciences de l'éducation\, Esplanade de la Paix\n	\n		\n		Caen\,\n\n\n	14000\n\n	France\n\n\n Prévention et secours civique de niveau 1 (PSC1)Comment prévenir les secours ? Comment protéger une victime ? Quels gestes effectuer en attendant l’arrivée des secours ? La formation Prévention et secours civique de niveau 1 (PSC1) vous […] \n\n   					12Go to the next page
URL:https://www.unicaen.fr/evenement/prevention-et-secours-civique-de-niveau-1-psc1-avril-2024/
LOCATION:Caen · Campus 1 · Bâtiment D · Salle du Belvédère\, Centre de recherche en sciences de l'éducation\, Esplanade de la Paix\, Caen\, 14000\, France
CATEGORIES:Santé,Vie de campus
ATTACH;FMTTYPE=image/jpeg:https://www.unicaen.fr/wp-content/uploads/2021/10/Formations_PSC1.jpg
END:VEVENT
BEGIN:VEVENT
DTSTART;TZID=Europe/Paris:20240408T000000
DTEND;TZID=Europe/Paris:20240413T235959
DTSTAMP:20260420T075713
CREATED:20240222T221237Z
LAST-MODIFIED:20240223T151910Z
UID:59995-1712534400-1713052799@www.unicaen.fr
SUMMARY:TURFU Festival
DESCRIPTION:Le TURFU festival revient pour une 8e édition ! Ce festival\, dédié aux sciences et recherches participatives\, invite les publics à interroger\, éclairer et concevoir le monde de demain.  \n\n\n\nCette année\, le TURFU Festival est résolument tourné vers le vivant. Il s’agira de s’entretenir : entretenir son corps\, sa santé\, l’environnement mais surtout s’entretenir les uns avec les autres pour produire de la connaissance et des pistes de solutions. Autour de notre grand thème du vivant\, gravitent des ateliers sur la santé et l’environnement\, mais aussi sur l’urbanisme\, la biodiversité\, l’intelligence artificielle\, la transition énergétique\, la culture/science\, la mobilité\, les jeux vidéos… Pour chaque préférence\, une alternative à explorer ! \n\n\n\nLe festival s’étend hors des murs du Dôme et de l’université de Caen Normandie\, et met les voiles à Rouen pour une série d’ateliers pilotés par l’INSA de Rouen et au MIX. D’autres lieux de l’agglomération caennaise comme le Théâtre des Cordes ou le Café des Images\, accueilleront des ateliers. \n\n\n\nLes inscriptions sont ouvertes ! \n\n\n\n\n\nUn événement organisé par Le Dôme et l’université de Caen Normandie
URL:https://www.unicaen.fr/evenement/turfu-festival/
CATEGORIES:Recherche,Vie de campus
ATTACH;FMTTYPE=image/jpeg:https://www.unicaen.fr/wp-content/uploads/2024/02/TURFU-Festival-.jpg
END:VEVENT
BEGIN:VEVENT
DTSTART;TZID=Europe/Paris:20240409T180000
DTEND;TZID=Europe/Paris:20240409T223000
DTSTAMP:20260420T075713
CREATED:20240308T143200Z
LAST-MODIFIED:20250523T075820Z
UID:61023-1712685600-1712701800@www.unicaen.fr
SUMMARY:Soirée Recherche participative et Santé - 120 Battements par minute
DESCRIPTION:Soirée proposée dans le cadre du TURFU Festival\n\n\n\nPremière partie de soirée \n\n\n\nPour cette soirée de lancement de la deuxième édition du TURFU festival à l’université de Caen Normandie\, en compagnie de Bruno Spire (médecin épidémiologiste\, directeur de recherche INSERM\, ancien président d’honneur de AIDES)\, Hélène Beaunieux (professeur de neuropsychologie à l’université de Caen Normandie\, responsable scientifique du programme NeuroAddict) et Eliot Sévricourt (psychologue et formateur au Centre LGBTI de Normandie) nous vous proposons un échange autour des recherches participatives en santé publique\, animé par Philippe Legueltel\, journaliste et correspondant Les Echos.Comment se font aujourd’hui les recherches en santé communautaire ? Comment les populations concernées peuvent participer ?Collecte de données\, travail avec les patients\, co-construction de questions de recherche… Les recherches participatives englobent des démarches diverses mais avec un point commun : penser la recherche ensemble pour produire des connaissances ensemble.Entrée gratuite sur inscription en ligne \n\n\n\nDeuxième partie de soirée\n\n\n\nProjection à 20h à l’amphi Pierre Daure (avec sous-titrage en anglais) du film 120 Battements par minute de Robin Campillo par le Café des images. En introduction\, une présentation de ce film qui évoque le rôle clé que jouent les patients et leurs proches dans la transmission de connaissances expertes autour de la maladie\, sera proposée par Bruno Spire (médecin épidémiologiste\, directeur de recherche Inserm\, ancien président d’honneur de AIDES) et Eliot Sévricourt (psycholoque et formateur au Centre LGBTI de Normandie). \n\n\n\nSynopsis : Début des années 90. Alors que le sida tue depuis près de dix ans\, les militants d’Act Up-Paris multiplient les actions pour lutter contre l’indifférence générale. Nouveau venu dans le groupe\, Nathan va être bouleversé par la radicalité de Sean. \n\n\n\nTarifs : \n\n\n\n\nTarif étudiant UNICAEN : 2 € grâce à la Contribution de vie étudiante et de campus\n\n\n\nTarif réduit : 4€50\n\n\n\nTarif plein : 5€50\n\n\n\n\nVous pouvez\, dès à présent\, acheter vos billets en ligne. \n\n\n\nEnglish description\n\n\n\nThe Café des images\, UNICAEN and the Dôme are joining forces to launch the TURFU Festival with an evening on community health and by screening the film BPM (Beats per minute) with english subtitles\, by Robin Campillo and presented by Bruno Spire and Eliot Sévricourt.Synopsis : Early 1990s. With AIDS having already claimed countless lives for nearly ten years\, Act up-Paris activists multiply actions to fight general indifference. Nathan\, a newcomer to the group\, has his world shaken up by Sean\, a radical militant\, who throws his last bits of strength into the struggle. \n\n\n\nOnline ticketing
URL:https://www.unicaen.fr/evenement/soiree-recherche-participative-et-sante-120-battements-par-minute/
LOCATION:Caen · Campus 1 · Bâtiment P · Aula Magna\, Aula Magna\, Esplanade de la Paix\, Caen\, 14000\, France
CATEGORIES:Festival,Projection - Cinéma,Recherche
ATTACH;FMTTYPE=image/jpeg:https://www.unicaen.fr/wp-content/uploads/2024/02/TURFU-Festival-.jpg
END:VEVENT
END:VCALENDAR