BEGIN:VCALENDAR
VERSION:2.0
PRODID:-//Université de Caen Normandie - ECPv6.15.18//NONSGML v1.0//EN
CALSCALE:GREGORIAN
METHOD:PUBLISH
X-ORIGINAL-URL:https://www.unicaen.fr
X-WR-CALDESC:Évènements pour Université de Caen Normandie
REFRESH-INTERVAL;VALUE=DURATION:PT1H
X-Robots-Tag:noindex
X-PUBLISHED-TTL:PT1H
BEGIN:VTIMEZONE
TZID:Europe/Paris
BEGIN:DAYLIGHT
TZOFFSETFROM:+0100
TZOFFSETTO:+0200
TZNAME:CEST
DTSTART:20230326T010000
END:DAYLIGHT
BEGIN:STANDARD
TZOFFSETFROM:+0200
TZOFFSETTO:+0100
TZNAME:CET
DTSTART:20231029T010000
END:STANDARD
BEGIN:DAYLIGHT
TZOFFSETFROM:+0100
TZOFFSETTO:+0200
TZNAME:CEST
DTSTART:20240331T010000
END:DAYLIGHT
BEGIN:STANDARD
TZOFFSETFROM:+0200
TZOFFSETTO:+0100
TZNAME:CET
DTSTART:20241027T010000
END:STANDARD
BEGIN:DAYLIGHT
TZOFFSETFROM:+0100
TZOFFSETTO:+0200
TZNAME:CEST
DTSTART:20250330T010000
END:DAYLIGHT
BEGIN:STANDARD
TZOFFSETFROM:+0200
TZOFFSETTO:+0100
TZNAME:CET
DTSTART:20251026T010000
END:STANDARD
END:VTIMEZONE
BEGIN:VEVENT
DTSTART;TZID=Europe/Paris:20240304T000000
DTEND;TZID=Europe/Paris:20240326T203000
DTSTAMP:20260421T211732
CREATED:20240304T145617Z
LAST-MODIFIED:20240304T151647Z
UID:60690-1709510400-1711485000@www.unicaen.fr
SUMMARY:Élection des représentants étudiants au conseil des sports
DESCRIPTION:Le SUAPS organise les élections de ses représentants étudiants au Conseil des sports. \n\n\n\nSi vous êtes étudiant de l’Université\, inscrit au SUAPS et que vous souhaitez vous porter candidat pour représenter le collège étudiant au Conseil des sports\, venez aux bureaux du SUAPS déposer votre lettre de candidature. \n\n\n\nNe peuvent se présenter et voter que les étudiants de l’UNICAEN inscrits au SUAPS en 2023/246 postes sont à pourvoir – Scrutin plurinominal à un tourLes candidatures sont individuelles [ possibilité de transmettre votre candidature par dépôt physique ausecrétariat du SUAPS Campus 1 ou bien par courriel à l’attention de suaps@unicaen.fr à partir du 4 mars 2024] \n\n\n\nDate limite de dépôt de candidatures : jeudi 21 mars 2024 à 12H. \n\n\n\nTrois bureaux de vote seront ouverts le mardi 26 mars : \n\n\n\n\nCampus CAEN :  secrétariat\, Rez de chaussée du bâtiment principal du SUAPS\, Campus 1\, de 11H à 20h30;  Président du bureau de vote Caen : Olivier THENAISY.\n\n\n\n\n\nCampus Alençon : au bureau du SUAPS du Pôle Universitaire d’Alençon\, Bâtiment les Colonnades ( Restaurant Universitaire) de 11H à 14H. Président du bureau de vote Alençon Hervé LE MERLE\n\n\n\n\n\nCampus Cherbourg Manche : au centre sportif universitaire de Cherbourg\, chemin de la crespinière\, Campus Cherbourg Manche de 16H à 20H30. Président du bureau de vote Cherbourg : Olivier GOSSELIN
URL:https://www.unicaen.fr/evenement/election-des-representants-etudiants-au-conseil-des-sports/
CATEGORIES:Sport,Vie de campus
ATTACH;FMTTYPE=image/jpeg:https://www.unicaen.fr/wp-content/uploads/2022/12/Elections_istock_1000x400-scaled-e1670499844814.jpg
ORGANIZER;CN="Service universitaire des activit%C3%A9s physiques et sportives (SUAPS)":MAILTO:suaps.evenement@unicaen.fr
END:VEVENT
BEGIN:VEVENT
DTSTART;TZID=Europe/Paris:20240305T080000
DTEND;TZID=Europe/Paris:20240318T170000
DTSTAMP:20260421T211732
CREATED:20240223T143108Z
LAST-MODIFIED:20240228T084615Z
UID:60080-1709625600-1710781200@www.unicaen.fr
SUMMARY:Portraits de femmes
DESCRIPTION:Exposition de 14 portraits de femmes artistes\, scientifiques\, sportives et / ou militantes. Cette exposition illustrée présente sous forme de fiche synthétique le parcours exceptionnel de ces femmes. \n\n\n\nExposition réalisée par le Crous.
URL:https://www.unicaen.fr/evenement/portraits-de-femmes-2/
LOCATION:Alençon · Campus universitaire · Maison de l’étudiant (MDE)\, Site Universitaire de Montfoulon\, Damigny\, 61250\, France
CATEGORIES:Exposition
ATTACH;FMTTYPE=image/jpeg:https://www.unicaen.fr/wp-content/uploads/2024/02/exposition-CROUS-portraits-femmes.jpg
END:VEVENT
BEGIN:VEVENT
DTSTART;TZID=Europe/Paris:20240307T000000
DTEND;TZID=Europe/Paris:20240419T235959
DTSTAMP:20260421T211732
CREATED:20240311T143154Z
LAST-MODIFIED:20240327T113311Z
UID:61137-1709769600-1713571199@www.unicaen.fr
SUMMARY:Travailleurs portugais et espagnols dans le IIIe Reich (1940-1945)
DESCRIPTION:L’Holocauste et les horreurs de la Seconde Guerre mondiale sont aujourd’hui des événements majeurs de la mémoire européenne. L’un des aspects les moins connus de ce conflit est la question du travail forcé. Les victimes portugaises et espagnoles ont été négligées en raison de la neutralité de leurs pays et de l’idée généralisée que les deux peuples ont été épargnés par la guerre. Cette exposition leur rend hommage en proposant des histoires de vie de travailleurs portugais et espagnols\, immigrés et exilés en France ou recrutés en Espagne. Elle retrace les voies qui ont conduit ces étrangers au travail dans le Reich\, les contraintes de leur séjour\, le quotidien en pays ennemi\, le rapatriement… et témoigne de leur impuissance face à l’arbitraire de Vichy et à la violence du régime nazi. \n\n\n\nDès 1940\, l’effort de guerre allemand exige l’emploi d’une main d’œuvre nombreuse. Des millions de personnes sont contraintes à travailler pour l’économie allemande\, notamment dans des usines de guerre\, dans le Reich ou dans les pays occupés. Le début de l’offensive à l’Est fait augmenter les besoins de main d’œuvre. \n\n\n\nEn France\, le recrutement de travailleurs pour l’Allemagne débute dès l’armistice de juin 1940. \n\n\n\nLe gouvernement de Vichy\, cédant à la pression allemande\, met en place la Relève\, puis le Service du Travail Obligatoire (STO)\, et n’hésite pas à employer la contrainte. Lorsque le nombre de travailleurs est insuffisant\, les contingents sont complétés par des rafles dans les groupes de travailleurs étrangers. Parmi ces travailleurs\, des Portugais et des Espagnols\, immigrés économiques et réfugiés\, qui sont pris dans la tourmente de la guerre malgré la neutralité de l’Espagne et du Portugal. \n\n\n\n\n\nVernissage de l’exposition le jeudi 14 mars à 18hPrésentation de l’exposition par Helena da Silva\, historienne (Institut d’histoire contemporaine de Lisbonne\, IHC — NOVA FCSH / IN2PAST) \n\n\n\n\n\n\n\nVisites guidées possibles. Prendre RDV : georges.dacosta@unicaen.fr \n\n\n\n\n\nExposition créée dans le cadre du projet Forced (LER\, IHC\, ISOR\, Arolson Archives\, APH et Fondation Solidaritat/Eurom) financé par le programme européen Europe for Citizens.
URL:https://www.unicaen.fr/evenement/travailleurs-portugais-et-espagnols-dans-le-iiie-reich-1940-1945/
LOCATION:Caen · Campus 1 · Bâtiment G · BU Tove-Jansson\, Bibliothèque Universitaire Tove Jansson\, Centre de formation aux carrières des bibliothèques de Caen\, Caen\, 14000\, France
CATEGORIES:Exposition,Vie de campus
ATTACH;FMTTYPE=image/jpeg:https://www.unicaen.fr/wp-content/uploads/2024/03/Exposition-travail-force-WW2.jpg
END:VEVENT
BEGIN:VEVENT
DTSTART;TZID=Europe/Paris:20240311T000000
DTEND;TZID=Europe/Paris:20240317T235959
DTSTAMP:20260421T211732
CREATED:20240221T113838Z
LAST-MODIFIED:20240223T151954Z
UID:59800-1710115200-1710719999@www.unicaen.fr
SUMMARY:Semaine du cerveau
DESCRIPTION:La Société des Neurosciences\, qui regroupe près de 2 200 scientifiques\, coordonne chaque année la Semaine du Cerveau. En France\, cette manifestation est organisée simultanément dans plus de 100 villes et a pour but de sensibiliser le grand public à l’importance de la recherche sur le cerveau. C’est l’occasion pour de nombreux chercheurs\, médecins et étudiants bénévoles de rencontrer le public et de partager les avancées obtenues dans les laboratoires de recherche en neurosciences\, d’en présenter les enjeux pour la connaissance du cerveau et les implications pour notre société. \n\n\n\nOpération Comete\n\n\n\nJeu de piste grandeur nature dans Caen mêlant neurosciences et devoir de mémoire. Réalisé à l’occasion du quatre vingtième anniversaire du débarquement des alliés en Normandie\, vous débutez votre périple en récupérant un kit de départ à l’office du tourisme de Caen. Une récompense est prévue pour les 200 premiers participants qui finissent le jeu de piste. \n\n\n\n\n\ndu 11 au 31 marskit à récupérer à l’office du tourisme de Caen \n\n\n\n\n\nQu’apportent les neurosciences à la compréhension des rêves ?\n\n\n\n\nGéraldine Rauchs\, (DR Inserm U1237 PhIND)Dans cette conférence\, Géraldine Rauchs\, présentera des travaux récents de neurosciences permettant d’expliquer quand les rêves sont produits\, quelles sont leurs caractéristiques et leurs bases cérébrales. Elle abordera également les différentes fonctions du rêve\, notamment dans les processus de mémorisation et de régulation émotionnelle. \n\n\n\n\n\nmercredi 13 mars · 17h30amphithéâtre du MoHo · 16 bis quai de l’amiral Hamelin · Caen \n\n\n\n\n\nTout pour être heureux ? Un voyage inédit au cœur des familles\n\n\n\nDans ce film Jérôme  part à la rencontre de ceux que l’on entend rarement : les sœurs et les frères des personnes dépendantes. De la Champagne à la Normandie\, de Paris à New York et Barcelone\, sa quête va l’entraîner dans un voyage qui libère la parole… un voyage inédit au cœur des familles.Ciné-débat sur l’addiction en compagnie de Nicolas Cabé\, MCU-PH Université de Caen Normandie et CHU de Caen\, Anne-Lise Pitel\, MCU Université de Caen Normandie et chercheure au sein de l’équipe Neuroprésage de l’UMR-S 1237 PhIND\, Côme Lemière\, CCA\, Université de Caen Normandie et CHU de Caen. \n\n\n\n\n\njeudi 14 mars · 20h30Cinéma LUX · 6 avenue Ste Thérèse · Caen \n\n\n\n\n\nJournée du sommeil\n\n\n\nStands d’information\, conférences-débatAteliers d’activité physique adaptée sur inscription par mail en précisant l’horaire choisi (12h ou 12h30 ou 13h ou 13h30) à maison-sport-sante@chu-caen.fr (places limitées à 12 personnes) \n\n\n\n\n\nvendredi 15 mars CHU de Caen Normandie \n\n\n\n\n\nComment entretenir et développer sa mémoire à tous les âges de la vie ?\n\n\n\npar Elisabeth de Sainte Lorette (enseignante)\, Benoit Dupuy (neurologue) et Francis Eustache\, (neuropsychologue)Découvrez le potentiel de votre cerveau et les ressorts de votre mémoire à tout âge. Une conférence interactive accessible à tous pour comprendre les dernières avancées scientifiques et remettre en question certaines idées reçues. Une conférence accessible à tous qui fera suite à l’inauguration du festival « Femmes dans la Ville » qui a lieu à 18h dans la même salle. \n\n\n\n\n\nvendredi 15 mars à 20h00salle des fêtes de Cherbourg · rue Grande Rue · Cherbourg en Cotentin
URL:https://www.unicaen.fr/evenement/semaine-du-cerveau-2/
CATEGORIES:Recherche
END:VEVENT
BEGIN:VEVENT
DTSTART;TZID=Europe/Paris:20240311T180000
DTEND;TZID=Europe/Paris:20240315T190000
DTSTAMP:20260421T211732
CREATED:20240208T141249Z
LAST-MODIFIED:20250306T125539Z
UID:59276-1710180000-1710529200@www.unicaen.fr
SUMMARY:Fête du droit 2024
DESCRIPTION:Sous l’égide de la Conférence des doyens de droit et de science politique (CDDSP)\, avec le soutien du Ministère de l’enseignement supérieur et de la recherche \n\n\n\n\nLe 11/03 · Conférence « Le jeu dans l’histoire » en Amphi Oresme de 18h à 20h\, bâtiment D\, campus 1\, animée par\n\n\n\nTyphaine Haziza : « La face cachée du jeu dans l’Antiquité gréco-romaine : condamnation et régulation des “mauvais jeux” » \n\n\n\nBlandine Hervouët : « Au Moyen Age\, le jeu de Papegault peut rapporter gros » \n\n\n\nJérôme Pigeon : « La monarchie et le jeu : entre interdiction et laisser-faire » \n\n\n\nAlix Profit : « La création des casinos sous Napoléon : une dérogation à l’interdiction des jeux de hasard » \n\n\n\nJérôme Legrix-Pagès\, « La genèse des jeux de société » \n\n\n\nEntrée gratuite sur inscription \n\n\n\n\n\nLes 12 et 13/03\, Escape Game\, en salle Paul Didier DR112\, bâtiment D\, campus 1\n\n\n\nDécouverte de la profession de notaire \n\n\n\nSur inscription (événement réservé aux étudiants) \n\n\n\n\n\nLe 14/03 · Conférence « Le jeu : encadrement et protection juridique des joueurs » en Amphi Demolombe de 18h à 20h\, bâtiment D\, campus 1\, animée par\n\n\n\nAurore Catherine\, maîtresse de conférences en droit privé\, Mathias Couturier et Théo Scherer\, maîtres de conférences en droit privé \n\n\n\nDr Nicolas Cabé\, Praticien hospitalier MD-PhD\, service d’addictologie CHU de Caen \n\n\n\nUn Directeur d’établissement de jeux (sous réserve) \n\n\n\nEntrée gratuite sur inscription \n\n\n\n\n\nLe 15/03 · Quiz juridique\, en Amphi Demolombe à partir de 17h15\, organisé par\n\n\n\nArmelle Gosselin-Gorand et Elenora Bottini\, professeures de droit privé et directrices du collège d’excellence\, Théo Scherer\, maître de conférences en droit privé et Alexandre Morin\, doctorant en sciences juridiques \n\n\n\nSur inscription (événement réservé aux étudiants)
URL:https://www.unicaen.fr/evenement/fete-du-droit-2024/
CATEGORIES:Conférence
ATTACH;FMTTYPE=image/jpeg:https://www.unicaen.fr/wp-content/uploads/2024/02/2024-03-11-au-15_Fete-du-Droit.jpg
END:VEVENT
BEGIN:VEVENT
DTSTART;TZID=Europe/Paris:20240313T100000
DTEND;TZID=Europe/Paris:20240313T170000
DTSTAMP:20260421T211732
CREATED:20240222T110653Z
LAST-MODIFIED:20240305T164943Z
UID:59915-1710324000-1710349200@www.unicaen.fr
SUMMARY:Devenir acteur de sa santé pour vieillir heureux
DESCRIPTION:10hPrésentation de la journéeProjection de micros-trottoirs réalisés par les étudiants auprès de différents habitants du Havre11hTable ronde sur la santé mentale et la gestion du stress par les personnes âgées\, avec :– M. Emmanuel DE VAINS\, responsable relations extérieures sociales Normandie AGIRC-ARRCO ;– Marine ROBBES\, Chef de projet – Plateforme des métiers de l’autonomie – Orne au sein de l’association MCE-M3S ;– Olivier SAVIER\, Directeur Général de la fédération ADMR de Seine-Maritime ;– Sébastien PAYRE\, Maître de conférences en Sciences de Gestion – Université Caen Normandie.13h30 – 16h3 visites sont proposées pour des groupes limités à 10 personnes maximum :– l’EHPAD « Les Colibris » ;– la résidence seniors de Montgeon ;– la maison DAHLIA.14h50 – 16hcafé-débat sera proposé à la fabrique ATRIUM sur la prise en charge de sa santé physique et mentale en tant que personne âgée.– Camille ROMANO\, coordonnatrice développement social\, Les Petits Frères des Pauvres ;– Marie BERNARD\, responsable locale\, Les Petits Frères des Pauvres ;– Géraldine BAYEUX\, animatrice\, Résidence les Jardins d’Élodie.\n\n\n\nDes mises en scène théâtrales réalisées par les étudiants seront aussi proposées au cours de l’après.
URL:https://www.unicaen.fr/evenement/devenir-acteur-de-sa-sante-pour-vieillir-heureux-2/
END:VEVENT
BEGIN:VEVENT
DTSTART;TZID=Europe/Paris:20240313T100000
DTEND;TZID=Europe/Paris:20240313T180000
DTSTAMP:20260421T211732
CREATED:20240226T143606Z
LAST-MODIFIED:20250307T085224Z
UID:60198-1710324000-1710352800@www.unicaen.fr
SUMMARY:Invitation à la 8e édition des Rencontres Handivalides 2024
DESCRIPTION:Les étudiants et étudiantes du master 1 activité physique adaptée et santé ont le plaisir de vous convier à la 8e édition des Rencontres Handivalides !  \n\n\n\nCette journée est dédiée à la promotion du parasport et à l’inclusion à travers l’activité physique adaptée. C’est l’occasion de découvrir\, d’apprendre et de mettre le parasport en avant ! Différentes initiations seront proposées ainsi qu’une table ronde durant laquelle des parasportifs viendront partager leurs expériences et échanger sur leurs parcours.  \n\n\n\nProgramme\n\n\n\n\n10h -12h : Initiations à divers parasports (athlétisme\, tennis de table\, volley assis\, cécifoot\, boccia\, kinball\, handbike) \n\n\n\n12h – 13h30 : Repas en situation de handicap \n\n\n\n13h30 – 15h30 : Initiation à divers parasports (basket fauteuil\, tir à l’arc\, badminton\, judo\, torball\, boccia\, kinball\, handbike) \n\n\n\n16h – 17h30 : Table ronde “Para-sportifs : des voix inspirantes du dépassement” \n\n\n\n17h30 – 18h : Pot de clôture \n\n\n\n\nInformations pratiques\n\n\n\nN’hésitez plus et chaussez vos baskets\, l’événement est gratuit et ouvert à toutes et tous ! \n\n\n\n\n\nrencontres.handivalides2024  \n\n\n\n\n\nRencontres Handivalides 
URL:https://www.unicaen.fr/evenement/invitation-a-la-8e-edition-des-rencontres-handivalides-2024/
LOCATION:Caen · Campus 2 · Gymnase Étienne Jules Marey (UFR STAPS)\, Gymnase UFR STAPS\, Boulevard Maréchal Juin\, Caen\, 14000\, France
CATEGORIES:Rencontre,Sport,Vie de campus
ATTACH;FMTTYPE=image/png:https://www.unicaen.fr/wp-content/uploads/2024/02/banniere-unicaen-1000x400-1.png
END:VEVENT
BEGIN:VEVENT
DTSTART;TZID=Europe/Paris:20240313T100000
DTEND;TZID=Europe/Paris:20240313T120000
DTSTAMP:20260421T211732
CREATED:20240305T101506Z
LAST-MODIFIED:20240425T152244Z
UID:60722-1710324000-1710331200@www.unicaen.fr
SUMMARY:Atelier Projet Master
DESCRIPTION:Projet Master\nModalités\n\nà distance\nDurée : 2h\nPublic : Licence 3e année\n\nObjectifs\n\nClarifier son projet\nBien utiliser le portail national « Mon Master » pour cibler les formations\nRepérer ses principaux atouts et préparer CV-Lettre
URL:https://www.unicaen.fr/evenement/atelier-projet-master-4/
LOCATION:Caen · Campus 1 · Bâtiment B · Espace Orientation Insertion (EOI)\, Bâtiment B\, Esplanade de la Paix\, Caen\, 14000\, France
CATEGORIES:Orientation
ORGANIZER;CN="Espace orientation insertion (EOI)":MAILTO:orientationinsertion@unicaen.fr
END:VEVENT
BEGIN:VEVENT
DTSTART;TZID=Europe/Paris:20240313T170000
DTEND;TZID=Europe/Paris:20240313T190000
DTSTAMP:20260421T211732
CREATED:20240223T150616Z
LAST-MODIFIED:20240311T144007Z
UID:60116-1710349200-1710356400@www.unicaen.fr
SUMMARY:L’IVG en question(s) : où en est-on 50 ans après la loi ? | Conférence gesticulée
DESCRIPTION:Isabelle Asselin\, présidente de l’association Assureipss et ancienne gynécologue propose sa conférence gesticulée sur le thème de l’IVG. Elle reviendra sur l’histoire de l’IVG en France\, mais pas que\, les combats qui ont été menés pour obtenir ce droit et les évolutions actuelles. Elle parlera également de contraception et de médecine. \n\n\n\nAssureipss est l’Association Universitaire de Recherche\, d’Enseignement\, d’Information pour la Promotion de la Santé Sexuelle. Autrefois centrée sur les études de médecine\, elle a vocation à toucher le plus de parcours universitaires. Une fois par mois\, elle propose un Mercredi de la sexualité sur différentes thématiques : chemsex\, contraception\, IVG\, lutte contre les VSS\, …
URL:https://www.unicaen.fr/evenement/livg-en-questions/
LOCATION:Caen · Campus 1 · Bâtiment B · Amphi Michel de Boüard\, Bâtiment B\, Esplanade de la Paix\, Caen\, 14000\, France
CATEGORIES:Conférence
ATTACH;FMTTYPE=image/jpeg:https://www.unicaen.fr/wp-content/uploads/2024/02/ivg_en_question.jpg
END:VEVENT
BEGIN:VEVENT
DTSTART;TZID=Europe/Paris:20240313T170000
DTEND;TZID=Europe/Paris:20240313T190000
DTSTAMP:20260421T211732
CREATED:20240223T151354Z
LAST-MODIFIED:20240228T084336Z
UID:60124-1710349200-1710356400@www.unicaen.fr
SUMMARY:Atelier de craftivism
DESCRIPTION:Il s’agit d’une approche dite ‘gentille’ de l’activisme\, consistant à utiliser les pratiques de l’artisanat dans une démarche féministe. \n\n\n\nQu’est-ce que c’est le craftivisme ? Sarah Corbett a donné sa définition dans son ouvrage de 2016\, mais cette pratique se décline en plusieurs approches. \n\n\n\nL’équipe ERIBIA et son axe création recherche propose un atelier collectif « craftivisme » avec un projet de broderie individuel (kit .pdf fourni\, tous niveaux\, même débutants).  \n\n\n\n\nprésentation (en anglais\, supports en français) du livre How to be a Craftivist : The Art of Gentle Protest\, Sarah Corbett (2016)\n\n\n\natelier collectif « craftivism » – projet de broderie individuel (matériaux fournis\, tous niveaux\, même débutants)\n\n\n\n\n\nAfin de pouvoir organiser les fournitures nécessaires pour l’atelier et de recevoir le lien\, merci de signaler votre présence pour le 1er mars : amy.wells@unicaen.fr \n\n\n\n\n\nCapacité d’accueil de 25 personnes. 
URL:https://www.unicaen.fr/evenement/atelier-de-craftivism/
LOCATION:Caen · Campus 1 · Maison des langues et de l’international (MLI) · Salle 160\, Carré international - Maison des langues et de l'international\, Caen\, 14000\, France
ATTACH;FMTTYPE=image/jpeg:https://www.unicaen.fr/wp-content/uploads/2024/02/craftivisme_ERIBIA_2024.jpg
END:VEVENT
BEGIN:VEVENT
DTSTART;TZID=Europe/Paris:20240313T183000
DTEND;TZID=Europe/Paris:20240313T193000
DTSTAMP:20260421T211732
CREATED:20240222T212243Z
LAST-MODIFIED:20240223T152215Z
UID:59981-1710354600-1710358200@www.unicaen.fr
SUMMARY:Vaisseaux fantômes\, cendres et mystères. La mort de Pline l'Ancien lors de l'éruption du Vésuve (79 ap. J.-C.)
DESCRIPTION:Nocturne du Plan de Rome « invité »\, avec Philippe Mudry\, université de Lausanne (Suisse)  \n\n\n\nLa lettre de Pline le Jeune relatant la mort de son oncle Pline l’Ancien lors de l’éruption du Vésuve qui a enseveli Pompéi et les cités voisines de Stabies et Herculanum a été considérée durant des siècles comme un document historique. Mais depuis quelques décennies des doutes ont été émis sur la réalité de certains aspects de ce témoignage qui tiendrait plus de l’éloge funèbre et d’une volonté d’héroïsation que d’un souci de vérité historique. Nous nous attacherons à quelques-unes des interrogations que soulève ce récit : la disparition totale de la flotte de quadrirèmes censée être partie au secours des victimes\, l’appel au secours de Rectina (une amie de Pline dont la villa était située sur les pentes du volcan)\, le changement de cap décidé par Pline contre l’avis du pilote\, la soirée festive et le sommeil de Pline à Stabies sous la pluie de cendres\, sa mort sur la plage et la découverte de son corps. Autant de mystères que nous tenterons d’éclairer sur la base d’hypothèses nouvelles. \n\n\n\nInformations pratiques\n\n\n\nentrée gratuite · sans réservation \n\n\n\nSuivez l’événement en direct sur la chaîne Youtube Nocturnes du Plan de Rome \n\n\n\n\n\nUn cycle de conférences proposé par l’unité de recherche ERLIS
URL:https://www.unicaen.fr/evenement/vaisseaux-fantomes-cendres-et-mysteres-la-mort-de-pline-lancien-lors-de-leruption-du-vesuve-79-ap-j-c/
LOCATION:Caen · Campus 1 · Bâtiment P · Amphi Pierre Daure\, Amphithéâtre Pierre Daure\, Esplanade de la Paix\, Caen\, 14000\, France
CATEGORIES:Nocturne du Plan de Rome,Recherche
ATTACH;FMTTYPE=image/jpeg:https://www.unicaen.fr/wp-content/uploads/2023/11/Nocturne-Triomphe-Plan-de-Rome.jpg
END:VEVENT
END:VCALENDAR