BEGIN:VCALENDAR
VERSION:2.0
PRODID:-//Université de Caen Normandie - ECPv6.15.18//NONSGML v1.0//EN
CALSCALE:GREGORIAN
METHOD:PUBLISH
X-WR-CALNAME:Université de Caen Normandie
X-ORIGINAL-URL:https://www.unicaen.fr
X-WR-CALDESC:Évènements pour Université de Caen Normandie
REFRESH-INTERVAL;VALUE=DURATION:PT1H
X-Robots-Tag:noindex
X-PUBLISHED-TTL:PT1H
BEGIN:VTIMEZONE
TZID:Europe/Paris
BEGIN:DAYLIGHT
TZOFFSETFROM:+0100
TZOFFSETTO:+0200
TZNAME:CEST
DTSTART:20230326T010000
END:DAYLIGHT
BEGIN:STANDARD
TZOFFSETFROM:+0200
TZOFFSETTO:+0100
TZNAME:CET
DTSTART:20231029T010000
END:STANDARD
BEGIN:DAYLIGHT
TZOFFSETFROM:+0100
TZOFFSETTO:+0200
TZNAME:CEST
DTSTART:20240331T010000
END:DAYLIGHT
BEGIN:STANDARD
TZOFFSETFROM:+0200
TZOFFSETTO:+0100
TZNAME:CET
DTSTART:20241027T010000
END:STANDARD
BEGIN:DAYLIGHT
TZOFFSETFROM:+0100
TZOFFSETTO:+0200
TZNAME:CEST
DTSTART:20250330T010000
END:DAYLIGHT
BEGIN:STANDARD
TZOFFSETFROM:+0200
TZOFFSETTO:+0100
TZNAME:CET
DTSTART:20251026T010000
END:STANDARD
END:VTIMEZONE
BEGIN:VEVENT
DTSTART;TZID=Europe/Paris:20240304T000000
DTEND;TZID=Europe/Paris:20240326T203000
DTSTAMP:20260425T182559
CREATED:20240304T145617Z
LAST-MODIFIED:20240304T151647Z
UID:60690-1709510400-1711485000@www.unicaen.fr
SUMMARY:Élection des représentants étudiants au conseil des sports
DESCRIPTION:Le SUAPS organise les élections de ses représentants étudiants au Conseil des sports. \n\n\n\nSi vous êtes étudiant de l’Université\, inscrit au SUAPS et que vous souhaitez vous porter candidat pour représenter le collège étudiant au Conseil des sports\, venez aux bureaux du SUAPS déposer votre lettre de candidature. \n\n\n\nNe peuvent se présenter et voter que les étudiants de l’UNICAEN inscrits au SUAPS en 2023/246 postes sont à pourvoir – Scrutin plurinominal à un tourLes candidatures sont individuelles [ possibilité de transmettre votre candidature par dépôt physique ausecrétariat du SUAPS Campus 1 ou bien par courriel à l’attention de suaps@unicaen.fr à partir du 4 mars 2024] \n\n\n\nDate limite de dépôt de candidatures : jeudi 21 mars 2024 à 12H. \n\n\n\nTrois bureaux de vote seront ouverts le mardi 26 mars : \n\n\n\n\nCampus CAEN :  secrétariat\, Rez de chaussée du bâtiment principal du SUAPS\, Campus 1\, de 11H à 20h30;  Président du bureau de vote Caen : Olivier THENAISY.\n\n\n\n\n\nCampus Alençon : au bureau du SUAPS du Pôle Universitaire d’Alençon\, Bâtiment les Colonnades ( Restaurant Universitaire) de 11H à 14H. Président du bureau de vote Alençon Hervé LE MERLE\n\n\n\n\n\nCampus Cherbourg Manche : au centre sportif universitaire de Cherbourg\, chemin de la crespinière\, Campus Cherbourg Manche de 16H à 20H30. Président du bureau de vote Cherbourg : Olivier GOSSELIN
URL:https://www.unicaen.fr/evenement/election-des-representants-etudiants-au-conseil-des-sports/
CATEGORIES:Sport,Vie de campus
ATTACH;FMTTYPE=image/jpeg:https://www.unicaen.fr/wp-content/uploads/2022/12/Elections_istock_1000x400-scaled-e1670499844814.jpg
ORGANIZER;CN="Service universitaire des activit%C3%A9s physiques et sportives (SUAPS)":MAILTO:suaps.evenement@unicaen.fr
END:VEVENT
BEGIN:VEVENT
DTSTART;TZID=Europe/Paris:20240305T080000
DTEND;TZID=Europe/Paris:20240318T170000
DTSTAMP:20260425T182559
CREATED:20240223T143108Z
LAST-MODIFIED:20240228T084615Z
UID:60080-1709625600-1710781200@www.unicaen.fr
SUMMARY:Portraits de femmes
DESCRIPTION:Exposition de 14 portraits de femmes artistes\, scientifiques\, sportives et / ou militantes. Cette exposition illustrée présente sous forme de fiche synthétique le parcours exceptionnel de ces femmes. \n\n\n\nExposition réalisée par le Crous.
URL:https://www.unicaen.fr/evenement/portraits-de-femmes-2/
LOCATION:Alençon · Campus universitaire · Maison de l’étudiant (MDE)\, Site Universitaire de Montfoulon\, Damigny\, 61250\, France
CATEGORIES:Exposition
ATTACH;FMTTYPE=image/jpeg:https://www.unicaen.fr/wp-content/uploads/2024/02/exposition-CROUS-portraits-femmes.jpg
END:VEVENT
BEGIN:VEVENT
DTSTART;TZID=Europe/Paris:20240307T000000
DTEND;TZID=Europe/Paris:20240419T235959
DTSTAMP:20260425T182559
CREATED:20240311T143154Z
LAST-MODIFIED:20240327T113311Z
UID:61137-1709769600-1713571199@www.unicaen.fr
SUMMARY:Travailleurs portugais et espagnols dans le IIIe Reich (1940-1945)
DESCRIPTION:L’Holocauste et les horreurs de la Seconde Guerre mondiale sont aujourd’hui des événements majeurs de la mémoire européenne. L’un des aspects les moins connus de ce conflit est la question du travail forcé. Les victimes portugaises et espagnoles ont été négligées en raison de la neutralité de leurs pays et de l’idée généralisée que les deux peuples ont été épargnés par la guerre. Cette exposition leur rend hommage en proposant des histoires de vie de travailleurs portugais et espagnols\, immigrés et exilés en France ou recrutés en Espagne. Elle retrace les voies qui ont conduit ces étrangers au travail dans le Reich\, les contraintes de leur séjour\, le quotidien en pays ennemi\, le rapatriement… et témoigne de leur impuissance face à l’arbitraire de Vichy et à la violence du régime nazi. \n\n\n\nDès 1940\, l’effort de guerre allemand exige l’emploi d’une main d’œuvre nombreuse. Des millions de personnes sont contraintes à travailler pour l’économie allemande\, notamment dans des usines de guerre\, dans le Reich ou dans les pays occupés. Le début de l’offensive à l’Est fait augmenter les besoins de main d’œuvre. \n\n\n\nEn France\, le recrutement de travailleurs pour l’Allemagne débute dès l’armistice de juin 1940. \n\n\n\nLe gouvernement de Vichy\, cédant à la pression allemande\, met en place la Relève\, puis le Service du Travail Obligatoire (STO)\, et n’hésite pas à employer la contrainte. Lorsque le nombre de travailleurs est insuffisant\, les contingents sont complétés par des rafles dans les groupes de travailleurs étrangers. Parmi ces travailleurs\, des Portugais et des Espagnols\, immigrés économiques et réfugiés\, qui sont pris dans la tourmente de la guerre malgré la neutralité de l’Espagne et du Portugal. \n\n\n\n\n\nVernissage de l’exposition le jeudi 14 mars à 18hPrésentation de l’exposition par Helena da Silva\, historienne (Institut d’histoire contemporaine de Lisbonne\, IHC — NOVA FCSH / IN2PAST) \n\n\n\n\n\n\n\nVisites guidées possibles. Prendre RDV : georges.dacosta@unicaen.fr \n\n\n\n\n\nExposition créée dans le cadre du projet Forced (LER\, IHC\, ISOR\, Arolson Archives\, APH et Fondation Solidaritat/Eurom) financé par le programme européen Europe for Citizens.
URL:https://www.unicaen.fr/evenement/travailleurs-portugais-et-espagnols-dans-le-iiie-reich-1940-1945/
LOCATION:Caen · Campus 1 · Bâtiment G · BU Tove-Jansson\, Bibliothèque Universitaire Tove Jansson\, Centre de formation aux carrières des bibliothèques de Caen\, Caen\, 14000\, France
CATEGORIES:Exposition,Vie de campus
ATTACH;FMTTYPE=image/jpeg:https://www.unicaen.fr/wp-content/uploads/2024/03/Exposition-travail-force-WW2.jpg
END:VEVENT
BEGIN:VEVENT
DTSTART;TZID=Europe/Paris:20240307T100000
DTEND;TZID=Europe/Paris:20240307T120000
DTSTAMP:20260425T182559
CREATED:20240222T153440Z
LAST-MODIFIED:20240429T143528Z
UID:59962-1709805600-1709812800@www.unicaen.fr
SUMMARY:Atelier Rebondir
DESCRIPTION:Réorientation\nModalités\n\nDurée : 2h\nPublic : licence 1\, DUT 1\, CPGE 1\n\nObjectifs\n\nFaire le bilan de ses expériences et de son arrivée à l’université ;\nAmorcer une réflexion autour du projet d’orientation ;\nS’approprier les différentes possibilités d’études supérieures et les procédures de candidature pour y parvenir\n\nInscription\nInscription obligatoire en ligne sur le career center  \nNombre de places limité \nProchaines dates\njeudi 13 juin 2024 – 10h 12h \nmercredi 19 juin 2024 – 10h 12h \nmardi 25 juin 2024 – 14h 16h
URL:https://www.unicaen.fr/evenement/atelier-rebondir-36/
LOCATION:Caen · Campus 1 · Bâtiment B · Espace Orientation Insertion (EOI)\, Bâtiment B\, Esplanade de la Paix\, Caen\, 14000\, France
CATEGORIES:Orientation
ORGANIZER;CN="Espace orientation insertion (EOI)":MAILTO:orientationinsertion@unicaen.fr
END:VEVENT
BEGIN:VEVENT
DTSTART;TZID=Europe/Paris:20240307T100000
DTEND;TZID=Europe/Paris:20240307T113000
DTSTAMP:20260425T182559
CREATED:20210302T071742Z
LAST-MODIFIED:20240412T122650Z
UID:11928-1709805600-1709811000@www.unicaen.fr
SUMMARY:Atelier Recherche d'entreprises
DESCRIPTION:Stage & alternance\nModalités\n\nAtelier  prévu campus 1 Bâtiment B . Salle communiquée ultérieurement \nDurée : 1h30\nPublic : tous les étudiants\n\nObjectifs\n\n1. Acquérir quelques bases sur les acteurs de l’emploi\n2. Clarifier mon projet pour adapter mes recherches\n3 .Cibler une entreprise\n4. Découvrir des outils professionnels d’information\n\nInscription\n\nInscription obligatoire en ligne via le Career center\nRépondre obligatoirement au questionnaire reçu par mail suite à votre inscription\nNombre de places limité\n\nProchaines dates\n\nmercredi 3 avril  – 10h 11h30 \nmercredi 10 avril – 10h 11h30 \nmercredi 13 mai  – 14h 15h30
URL:https://www.unicaen.fr/evenement/atelier_recherche_dentreprises/
LOCATION:Caen · Campus 1 · Bâtiment B · Espace Orientation Insertion (EOI)\, Bâtiment B\, Esplanade de la Paix\, Caen\, 14000\, France
CATEGORIES:Orientation
ATTACH;FMTTYPE=image/jpeg:https://www.unicaen.fr/wp-content/uploads/2020/10/Stage_Alternance.jpg
ORGANIZER;CN="Espace orientation insertion (EOI)":MAILTO:orientationinsertion@unicaen.fr
END:VEVENT
BEGIN:VEVENT
DTSTART;TZID=Europe/Paris:20240307T200000
DTEND;TZID=Europe/Paris:20240307T200000
DTSTAMP:20260425T182559
CREATED:20240229T085956Z
LAST-MODIFIED:20240719T141832Z
UID:60428-1709841600-1709841600@www.unicaen.fr
SUMMARY:Soirée-débat : L'avenir de l'Europe se joue-t-il en Ukraine ?
DESCRIPTION:Soirée-débat animée par Bertrand BADIE\, Professeur émérite de Science Po Paris et spécialiste des relations internationales. \n\n\n\nDepuis le 24 février 2022\, le conflit russo-ukrainien a profondément changé. Alors que l’invasion russe pouvait apparaître comme un retour à des formes de guerre classiques\, la guerre qui s’éternise a révélé des modes d’action et des formes inattendues\, peut-être nouvelles.Comment comprendre les origines – multiples – et les transformations de ce phénomène ? Quelle est la part de la nouveauté et de la permanence\, à la fois dans les facteurs qui ont entraîné cette guerre\, dans la manière dont elle est menée et dans la façon dont elle s’intègre dans l’ordre international ? Quelles interactions est-il possible d’observer entre cette guerre et le processus de construction européenne\, non moins complexe ? Entre volonté d’élargissement\, voire d’approfondissement\, aide militaire et humanitaire\, crispations identitaires et inconstance populiste de certains de ses membres\, quel est l’impact du conflit sur une Union Européenne hétérogène ? \n\n\n\nEntrée libre et gratuite
URL:https://www.unicaen.fr/evenement/soiree-debat-lavenir-de-leurope-se-joue-t-il-en-ukraine/
LOCATION:Caen · Campus 1 · Bâtiment T · Amphi Alexis de Tocqueville\, Amphi Alexis de Tocqueville\, Esplanade de la Paix\, Caen\, 14000\, France
CATEGORIES:Conférence,Recherche,Vie de campus
ATTACH;FMTTYPE=image/png:https://www.unicaen.fr/wp-content/uploads/2024/02/banniere-unicaen-1000x400soiree-debat.png
END:VEVENT
END:VCALENDAR