BEGIN:VCALENDAR
VERSION:2.0
PRODID:-//Université de Caen Normandie - ECPv6.15.18//NONSGML v1.0//EN
CALSCALE:GREGORIAN
METHOD:PUBLISH
X-ORIGINAL-URL:https://www.unicaen.fr
X-WR-CALDESC:Évènements pour Université de Caen Normandie
REFRESH-INTERVAL;VALUE=DURATION:PT1H
X-Robots-Tag:noindex
X-PUBLISHED-TTL:PT1H
BEGIN:VTIMEZONE
TZID:Europe/Paris
BEGIN:DAYLIGHT
TZOFFSETFROM:+0100
TZOFFSETTO:+0200
TZNAME:CEST
DTSTART:20220327T010000
END:DAYLIGHT
BEGIN:STANDARD
TZOFFSETFROM:+0200
TZOFFSETTO:+0100
TZNAME:CET
DTSTART:20221030T010000
END:STANDARD
BEGIN:DAYLIGHT
TZOFFSETFROM:+0100
TZOFFSETTO:+0200
TZNAME:CEST
DTSTART:20230326T010000
END:DAYLIGHT
BEGIN:STANDARD
TZOFFSETFROM:+0200
TZOFFSETTO:+0100
TZNAME:CET
DTSTART:20231029T010000
END:STANDARD
BEGIN:DAYLIGHT
TZOFFSETFROM:+0100
TZOFFSETTO:+0200
TZNAME:CEST
DTSTART:20240331T010000
END:DAYLIGHT
BEGIN:STANDARD
TZOFFSETFROM:+0200
TZOFFSETTO:+0100
TZNAME:CET
DTSTART:20241027T010000
END:STANDARD
END:VTIMEZONE
BEGIN:VEVENT
DTSTART;TZID=Europe/Paris:20231106T090000
DTEND;TZID=Europe/Paris:20231222T170000
DTSTAMP:20260421T211707
CREATED:20231027T082406Z
LAST-MODIFIED:20231102T110740Z
UID:54864-1699261200-1703264400@www.unicaen.fr
SUMMARY:Le jeu vidéo échappe-t-il à la question du genre ?
DESCRIPTION:Explorez l’interaction entre les jeux vidéo et les notions de genre à travers les décennies\, depuis les années 1970 jusqu’à nos jours\, dans cette exposition innovante organisée dans le hall du CEMU. \n\n\n\nIntitulée « Le jeu vidéo échappe-t-il à la question du genre ? »\, l’exposition ambitionne de stimuler une réflexion sur la manière dont les jeux vidéo véhiculent des représentations liées au genre\, aux identités et aux orientations sexuelles\, et vise également à promouvoir l’éducation à l’image et l’analyse critique des productions culturelles. \n\n\n\nL’exposition\, à travers 15 affiches informatives\, met en avant différents éléments des jeux vidéo\, incluant les consoles\, les manettes\, les jaquettes\, et les personnages\, ainsi que les stratégies marketing associées\, depuis les années 70 jusqu’à aujourd’hui. En analysant ces éléments\, l’exposition pose la question de savoir si et comment les représentations genrées sont véhiculées à travers les jeux vidéo\, et si des évolutions notables peuvent être observées au fil du temps. Les visiteurs sont encouragés à interagir avec l’exposition en scannant les QR codes présents sur les posters pour accéder à des informations complémentaires ou partager\, de manière anonyme\, leurs réflexions sur les questions soulevées. \n\n\n\nCe projet est l’initiative de Julian Alvarez\, professeur-chercheur associé à l’Université de Lille et affilié à l’INSPÉ Lille HdF\, où il contribue à la mission d’enseignement. L’exposition est le fruit d’une collaboration étroite avec le service recherche et développement\, la mission partenariats et culture\, le service communication de l’INSPÉ Lille HdF\, ainsi que le service audiovisuel de la DOSIMA de l’Université de Lille. Elle vise à soutenir les professionnels de l’éducation dans leur exploration et appropriation de la ludopédagogie.
URL:https://www.unicaen.fr/evenement/exposition-le-jeu-video-echappe-t-il-a-la-question-du-genre/
LOCATION:Caen · Campus 1 · Bâtiment B · CEMU\, CEMU\, Esplanade de la Paix\, Caen\, 14000\, France
CATEGORIES:Exposition
ATTACH;FMTTYPE=image/png:https://www.unicaen.fr/wp-content/uploads/2023/11/expo-jeu-genre.png
END:VEVENT
BEGIN:VEVENT
DTSTART;TZID=Europe/Paris:20231106T090000
DTEND;TZID=Europe/Paris:20231221T180000
DTSTAMP:20260421T211707
CREATED:20231106T080233Z
LAST-MODIFIED:20231114T094530Z
UID:55438-1699261200-1703181600@www.unicaen.fr
SUMMARY:Exposition "Commun voyage"
DESCRIPTION:Clémence Leconte\, diplômée de l’IAE Caen Normandie\, a réalisé les portraits de demandeurs d’asile faisant étape au Centre d’accueil et d’examen des situations 2ChosesLune sur la presqu’île de Caen. De ces portraits se dégagent les émotions ressenties par des êtres humains au parcours migratoire souvent tourmenté. L’exposition « Commun voyage » est le fruit de ces rencontres. \n\n\n\nVenez écouter Clémence Leconte le jeudi 7 décembre à 14h30 (Amphi Droit du Campus d’Alençon).
URL:https://www.unicaen.fr/evenement/exposition-commun-voyage/
LOCATION:Alençon · BU Olympe-de-Gouges\, Bibliothèque universitaire Olympe-de-Gouges\, Montfoulon\, Damigny\, 61250\, France
CATEGORIES:Conférence,Exposition,Vie de campus
ATTACH;FMTTYPE=image/png:https://www.unicaen.fr/wp-content/uploads/2023/11/RS-_1000x400px_-commun-voyage.png
END:VEVENT
BEGIN:VEVENT
DTSTART;TZID=Europe/Paris:20231211T000000
DTEND;TZID=Europe/Paris:20231214T235959
DTSTAMP:20260421T211707
CREATED:20231128T134812Z
LAST-MODIFIED:20240322T090959Z
UID:56276-1702252800-1702598399@www.unicaen.fr
SUMMARY:Prévention et secours civique de niveau 1 (PSC1)
DESCRIPTION:Comment prévenir les secours ? Comment protéger une victime ? Quels gestes effectuer en attendant l’arrivée des secours ? La formation Prévention et secours civique de niveau 1 (PSC1) vous permettra d’apprendre des gestes simples à travers des mises en situation. Elle ne nécessite aucune formation préalable. \n\n\n\nIl y aura 7 sessions sont prévues au cours de l’année. Chaque session comprend  3 soirées de formation de 17h à 20h. La présence aux 3 soirées est obligatoire pour pouvoir valider la formation  \n\n\n\nLe nombre d’inscriptions est limité à 14 par session. \n\n\n\n\nInscription\n\n\n\n\n\n\nToutes les sessions\n\n\n18 mars 2024 - 21 mars 2024Caen · Campus 1 · Bâtiment D · Salle du Belvédère\, \n\nCentre de recherche en sciences de l'éducation\, Esplanade de la Paix\n	\n		\n		Caen\,\n\n\n	14000\n\n	France\n\n\n Complet — Prévention et secours civique de niveau 1 (PSC1)Envie de sauver des vies ? Inscrivez-vous à la formation PSC1 de mars 2024.  \n\n   					8 avril 2024 - 11 avril 2024Caen · Campus 1 · Bâtiment D · Salle du Belvédère\, \n\nCentre de recherche en sciences de l'éducation\, Esplanade de la Paix\n	\n		\n		Caen\,\n\n\n	14000\n\n	France\n\n\n Complet — Prévention et secours civique de niveau 1 (PSC1)Envie de sauver des vies ? Inscrivez-vous à la formation PSC1 d'avril 2024.  \n\n   					13 mai 2024 - 16 mai 2024Caen · Campus 1 · Bâtiment D · Salle du Belvédère\, \n\nCentre de recherche en sciences de l'éducation\, Esplanade de la Paix\n	\n		\n		Caen\,\n\n\n	14000\n\n	France\n\n\n Prévention et secours civique de niveau 1 (PSC1)Envie de sauver des vies ? Inscrivez-vous à la formation PSC1 de mai 2024.  \n\n   					10 juin 2024 - 13 juin 2024Caen · Campus 1 · Bâtiment D · Salle du Belvédère\, \n\nCentre de recherche en sciences de l'éducation\, Esplanade de la Paix\n	\n		\n		Caen\,\n\n\n	14000\n\n	France\n\n\n Prévention et secours civique de niveau 1 (PSC1)Envie de sauver des vies ? Inscrivez-vous à la formation PSC1.  \n\n   					12 novembre 2024 - 14 novembre 2024Caen · Campus 1 · Bâtiment D · Salle du Belvédère\, \n\nCentre de recherche en sciences de l'éducation\, Esplanade de la Paix\n	\n		\n		Caen\,\n\n\n	14000\n\n	France\n\n\n Prévention et secours civique de niveau 1 (PSC1)Comment prévenir les secours ? Comment protéger une victime ? Quels gestes effectuer en attendant l’arrivée des secours ? La formation Prévention et secours civique de niveau 1 (PSC1) vous permettra d’apprendre des gestes simples à travers des mises en situation. Elle ne nécessite aucune formation préalable. \n\n   					2 décembre 2024 - 4 décembre 2024Caen · Campus 1 · Bâtiment D · Salle du Belvédère\, \n\nCentre de recherche en sciences de l'éducation\, Esplanade de la Paix\n	\n		\n		Caen\,\n\n\n	14000\n\n	France\n\n\n Prévention et secours civique de niveau 1 (PSC1)Comment prévenir les secours ? Comment protéger une victime ? Quels gestes effectuer en attendant l’arrivée des secours ? La formation Prévention et secours civique de niveau 1 (PSC1) vous permettra d’apprendre des gestes simples à travers des mises en situation. Elle ne nécessite aucune formation préalable. \n\n   					27 janvier 2025 - 29 janvier 2025Caen · Campus 1 · Bâtiment D · Salle du Belvédère\, \n\nCentre de recherche en sciences de l'éducation\, Esplanade de la Paix\n	\n		\n		Caen\,\n\n\n	14000\n\n	France\n\n\n Prévention et secours civique de niveau 1 (PSC1)Comment prévenir les secours ? Comment protéger une victime ? Quels gestes effectuer en attendant l’arrivée des secours ? La formation Prévention et secours civique de niveau 1 (PSC1) vous permettra d’apprendre des gestes simples à travers des mises en situation. Elle ne nécessite aucune formation préalable. \n\n   					24 février 2025 - 26 février 2025Caen · Campus 1 · Bâtiment D · Salle du Belvédère\, \n\nCentre de recherche en sciences de l'éducation\, Esplanade de la Paix\n	\n		\n		Caen\,\n\n\n	14000\n\n	France\n\n\n Prévention et secours civique de niveau 1 (PSC1)Comment prévenir les secours ? Comment protéger une victime ? Quels gestes effectuer en attendant l’arrivée des secours ? La formation Prévention et secours civique de niveau 1 (PSC1) vous permettra d’apprendre des gestes simples à travers des mises en situation. Elle ne nécessite aucune formation préalable. \n\n   					10 mars 2025 - 12 mars 2025Caen · Campus 1 · Bâtiment D · Salle du Belvédère\, \n\nCentre de recherche en sciences de l'éducation\, Esplanade de la Paix\n	\n		\n		Caen\,\n\n\n	14000\n\n	France\n\n\n Prévention et secours civique de niveau 1 (PSC1)Comment prévenir les secours ? Comment protéger une victime ? Quels gestes effectuer en attendant l’arrivée des secours ? La formation Prévention et secours civique de niveau 1 (PSC1) vous permettra d’apprendre des gestes simples à travers des mises en situation. Elle ne nécessite aucune formation préalable. \n\n   					22 avril 2025 - 24 avril 2025Caen · Campus 1 · Bâtiment D · Salle du Belvédère\, \n\nCentre de recherche en sciences de l'éducation\, Esplanade de la Paix\n	\n		\n		Caen\,\n\n\n	14000\n\n	France\n\n\n Prévention et secours civique de niveau 1 (PSC1)Comment prévenir les secours ? Comment protéger une victime ? Quels gestes effectuer en attendant l’arrivée des secours ? La formation Prévention et secours civique de niveau 1 (PSC1) vous […] \n\n   					19 mai 2025 - 21 mai 2025Caen · Campus 1 · Bâtiment D · Salle du Belvédère\, \n\nCentre de recherche en sciences de l'éducation\, Esplanade de la Paix\n	\n		\n		Caen\,\n\n\n	14000\n\n	France\n\n\n Prévention et secours civique de niveau 1 (PSC1)Comment prévenir les secours ? Comment protéger une victime ? Quels gestes effectuer en attendant l’arrivée des secours ? La formation Prévention et secours civique de niveau 1 (PSC1) vous permettra d’apprendre des gestes simples à travers des mises en situation. Elle ne nécessite aucune formation préalable. \n\n   					16 juin 2025 - 18 juin 2025Caen · Campus 1 · Bâtiment D · Salle du Belvédère\, \n\nCentre de recherche en sciences de l'éducation\, Esplanade de la Paix\n	\n		\n		Caen\,\n\n\n	14000\n\n	France\n\n\n Prévention et secours civique de niveau 1 (PSC1)Comment prévenir les secours ? Comment protéger une victime ? Quels gestes effectuer en attendant l’arrivée des secours ? La formation Prévention et secours civique de niveau 1 (PSC1) vous permettra d’apprendre des gestes simples à travers des mises en situation. Elle ne nécessite aucune formation préalable. \n
URL:https://www.unicaen.fr/evenement/prevention-et-secours-civique-de-niveau-1-%c2%b7-psc1/
LOCATION:Caen · Campus 1 · Bâtiment D · Salle du Belvédère\, Centre de recherche en sciences de l'éducation\, Esplanade de la Paix\, Caen\, 14000\, France
CATEGORIES:Santé,Vie de campus
ATTACH;FMTTYPE=image/jpeg:https://www.unicaen.fr/wp-content/uploads/2021/10/Formations_PSC1.jpg
END:VEVENT
BEGIN:VEVENT
DTSTART;TZID=Europe/Paris:20231213T140000
DTEND;TZID=Europe/Paris:20231213T160000
DTSTAMP:20260421T211707
CREATED:20231206T104917Z
LAST-MODIFIED:20240719T141833Z
UID:56634-1702476000-1702483200@www.unicaen.fr
SUMMARY:Les arts à Cuba : une autre histoire de l'île
DESCRIPTION:En conviant un graphiste spécialiste de l’affiche cubaine\, un historien spécialiste de la révolution cubaine et un conservateur du patrimoine\, il s’agit de croiser les regards et les analyses sur l’art de narrer l’identité nationale à Cuba à l’époque contemporaine\, entre récit officiel et contre récits dans les arts. Ou comment les arts\, alors outils de propagande\, sont-ils devenus un espace de contestation ? \n\n\n\nUn événement organisé par l’Equipe de Recherche sur les Littératures\, les Imaginaires et les Sociétés (ERLIS) dans le cadre de l’exposition Cuba : une histoire gravée. \n\n\n\nAvec les interventions de \n\n\n\n\nDugudus\, graphiste\, illustrateur et street-artiste\, auteur de l’ouvrage Cuba Gráfica : histoire de l’affiche cubaine (Les Editions L’échapée)\n\n\n\nRafael Pedemonte\, MCF en études latino-américaines (Université de Poitiers\, CRLA-Archivos) \n\n\n\nFrançois Coulon\, conservateur du patrimoine (Musée des Beaux-Arts de Rennes)\n\n\n\n\nResponsable scientifique : Solenne Derigond · solenne.derigond@unicaen.fr
URL:https://www.unicaen.fr/evenement/les-arts-a-cuba-une-autre-histoire-de-lile/
LOCATION:Caen · Campus 1 · Maison de la recherche en sciences humaines (MRSH) · Amphi\, Campus 1\, Maison de la recherche en sciences humaines (MRSH)\, 1 Esplanade de la Paix\, Caen\, 14000\, France
CATEGORIES:Conférence,Recherche,Sciences humaines et sociales
ATTACH;FMTTYPE=image/jpeg:https://www.unicaen.fr/wp-content/uploads/2023/12/cuba-table-ronde.png.jpg
END:VEVENT
END:VCALENDAR