BEGIN:VCALENDAR
VERSION:2.0
PRODID:-//Université de Caen Normandie - ECPv6.15.18//NONSGML v1.0//EN
CALSCALE:GREGORIAN
METHOD:PUBLISH
X-ORIGINAL-URL:https://www.unicaen.fr
X-WR-CALDESC:Évènements pour Université de Caen Normandie
REFRESH-INTERVAL;VALUE=DURATION:PT1H
X-Robots-Tag:noindex
X-PUBLISHED-TTL:PT1H
BEGIN:VTIMEZONE
TZID:Europe/Paris
BEGIN:DAYLIGHT
TZOFFSETFROM:+0100
TZOFFSETTO:+0200
TZNAME:CEST
DTSTART:20220327T010000
END:DAYLIGHT
BEGIN:STANDARD
TZOFFSETFROM:+0200
TZOFFSETTO:+0100
TZNAME:CET
DTSTART:20221030T010000
END:STANDARD
BEGIN:DAYLIGHT
TZOFFSETFROM:+0100
TZOFFSETTO:+0200
TZNAME:CEST
DTSTART:20230326T010000
END:DAYLIGHT
BEGIN:STANDARD
TZOFFSETFROM:+0200
TZOFFSETTO:+0100
TZNAME:CET
DTSTART:20231029T010000
END:STANDARD
BEGIN:DAYLIGHT
TZOFFSETFROM:+0100
TZOFFSETTO:+0200
TZNAME:CEST
DTSTART:20240331T010000
END:DAYLIGHT
BEGIN:STANDARD
TZOFFSETFROM:+0200
TZOFFSETTO:+0100
TZNAME:CET
DTSTART:20241027T010000
END:STANDARD
END:VTIMEZONE
BEGIN:VEVENT
DTSTART;TZID=Europe/Paris:20231106T090000
DTEND;TZID=Europe/Paris:20231222T170000
DTSTAMP:20260421T211725
CREATED:20231027T082406Z
LAST-MODIFIED:20231102T110740Z
UID:54864-1699261200-1703264400@www.unicaen.fr
SUMMARY:Le jeu vidéo échappe-t-il à la question du genre ?
DESCRIPTION:Explorez l’interaction entre les jeux vidéo et les notions de genre à travers les décennies\, depuis les années 1970 jusqu’à nos jours\, dans cette exposition innovante organisée dans le hall du CEMU. \n\n\n\nIntitulée « Le jeu vidéo échappe-t-il à la question du genre ? »\, l’exposition ambitionne de stimuler une réflexion sur la manière dont les jeux vidéo véhiculent des représentations liées au genre\, aux identités et aux orientations sexuelles\, et vise également à promouvoir l’éducation à l’image et l’analyse critique des productions culturelles. \n\n\n\nL’exposition\, à travers 15 affiches informatives\, met en avant différents éléments des jeux vidéo\, incluant les consoles\, les manettes\, les jaquettes\, et les personnages\, ainsi que les stratégies marketing associées\, depuis les années 70 jusqu’à aujourd’hui. En analysant ces éléments\, l’exposition pose la question de savoir si et comment les représentations genrées sont véhiculées à travers les jeux vidéo\, et si des évolutions notables peuvent être observées au fil du temps. Les visiteurs sont encouragés à interagir avec l’exposition en scannant les QR codes présents sur les posters pour accéder à des informations complémentaires ou partager\, de manière anonyme\, leurs réflexions sur les questions soulevées. \n\n\n\nCe projet est l’initiative de Julian Alvarez\, professeur-chercheur associé à l’Université de Lille et affilié à l’INSPÉ Lille HdF\, où il contribue à la mission d’enseignement. L’exposition est le fruit d’une collaboration étroite avec le service recherche et développement\, la mission partenariats et culture\, le service communication de l’INSPÉ Lille HdF\, ainsi que le service audiovisuel de la DOSIMA de l’Université de Lille. Elle vise à soutenir les professionnels de l’éducation dans leur exploration et appropriation de la ludopédagogie.
URL:https://www.unicaen.fr/evenement/exposition-le-jeu-video-echappe-t-il-a-la-question-du-genre/
LOCATION:Caen · Campus 1 · Bâtiment B · CEMU\, CEMU\, Esplanade de la Paix\, Caen\, 14000\, France
CATEGORIES:Exposition
ATTACH;FMTTYPE=image/png:https://www.unicaen.fr/wp-content/uploads/2023/11/expo-jeu-genre.png
END:VEVENT
BEGIN:VEVENT
DTSTART;TZID=Europe/Paris:20231106T090000
DTEND;TZID=Europe/Paris:20231221T180000
DTSTAMP:20260421T211725
CREATED:20231106T080233Z
LAST-MODIFIED:20231114T094530Z
UID:55438-1699261200-1703181600@www.unicaen.fr
SUMMARY:Exposition "Commun voyage"
DESCRIPTION:Clémence Leconte\, diplômée de l’IAE Caen Normandie\, a réalisé les portraits de demandeurs d’asile faisant étape au Centre d’accueil et d’examen des situations 2ChosesLune sur la presqu’île de Caen. De ces portraits se dégagent les émotions ressenties par des êtres humains au parcours migratoire souvent tourmenté. L’exposition « Commun voyage » est le fruit de ces rencontres. \n\n\n\nVenez écouter Clémence Leconte le jeudi 7 décembre à 14h30 (Amphi Droit du Campus d’Alençon).
URL:https://www.unicaen.fr/evenement/exposition-commun-voyage/
LOCATION:Alençon · BU Olympe-de-Gouges\, Bibliothèque universitaire Olympe-de-Gouges\, Montfoulon\, Damigny\, 61250\, France
CATEGORIES:Conférence,Exposition,Vie de campus
ATTACH;FMTTYPE=image/png:https://www.unicaen.fr/wp-content/uploads/2023/11/RS-_1000x400px_-commun-voyage.png
END:VEVENT
BEGIN:VEVENT
DTSTART;TZID=Europe/Paris:20231211T000000
DTEND;TZID=Europe/Paris:20231214T235959
DTSTAMP:20260421T211725
CREATED:20231128T134812Z
LAST-MODIFIED:20240322T090959Z
UID:56276-1702252800-1702598399@www.unicaen.fr
SUMMARY:Prévention et secours civique de niveau 1 (PSC1)
DESCRIPTION:Comment prévenir les secours ? Comment protéger une victime ? Quels gestes effectuer en attendant l’arrivée des secours ? La formation Prévention et secours civique de niveau 1 (PSC1) vous permettra d’apprendre des gestes simples à travers des mises en situation. Elle ne nécessite aucune formation préalable. \n\n\n\nIl y aura 7 sessions sont prévues au cours de l’année. Chaque session comprend  3 soirées de formation de 17h à 20h. La présence aux 3 soirées est obligatoire pour pouvoir valider la formation  \n\n\n\nLe nombre d’inscriptions est limité à 14 par session. \n\n\n\n\nInscription\n\n\n\n\n\n\nToutes les sessions\n\n\n18 mars 2024 - 21 mars 2024Caen · Campus 1 · Bâtiment D · Salle du Belvédère\, \n\nCentre de recherche en sciences de l'éducation\, Esplanade de la Paix\n	\n		\n		Caen\,\n\n\n	14000\n\n	France\n\n\n Complet — Prévention et secours civique de niveau 1 (PSC1)Envie de sauver des vies ? Inscrivez-vous à la formation PSC1 de mars 2024.  \n\n   					8 avril 2024 - 11 avril 2024Caen · Campus 1 · Bâtiment D · Salle du Belvédère\, \n\nCentre de recherche en sciences de l'éducation\, Esplanade de la Paix\n	\n		\n		Caen\,\n\n\n	14000\n\n	France\n\n\n Complet — Prévention et secours civique de niveau 1 (PSC1)Envie de sauver des vies ? Inscrivez-vous à la formation PSC1 d'avril 2024.  \n\n   					13 mai 2024 - 16 mai 2024Caen · Campus 1 · Bâtiment D · Salle du Belvédère\, \n\nCentre de recherche en sciences de l'éducation\, Esplanade de la Paix\n	\n		\n		Caen\,\n\n\n	14000\n\n	France\n\n\n Prévention et secours civique de niveau 1 (PSC1)Envie de sauver des vies ? Inscrivez-vous à la formation PSC1 de mai 2024.  \n\n   					10 juin 2024 - 13 juin 2024Caen · Campus 1 · Bâtiment D · Salle du Belvédère\, \n\nCentre de recherche en sciences de l'éducation\, Esplanade de la Paix\n	\n		\n		Caen\,\n\n\n	14000\n\n	France\n\n\n Prévention et secours civique de niveau 1 (PSC1)Envie de sauver des vies ? Inscrivez-vous à la formation PSC1.  \n\n   					12 novembre 2024 - 14 novembre 2024Caen · Campus 1 · Bâtiment D · Salle du Belvédère\, \n\nCentre de recherche en sciences de l'éducation\, Esplanade de la Paix\n	\n		\n		Caen\,\n\n\n	14000\n\n	France\n\n\n Prévention et secours civique de niveau 1 (PSC1)Comment prévenir les secours ? Comment protéger une victime ? Quels gestes effectuer en attendant l’arrivée des secours ? La formation Prévention et secours civique de niveau 1 (PSC1) vous permettra d’apprendre des gestes simples à travers des mises en situation. Elle ne nécessite aucune formation préalable. \n\n   					2 décembre 2024 - 4 décembre 2024Caen · Campus 1 · Bâtiment D · Salle du Belvédère\, \n\nCentre de recherche en sciences de l'éducation\, Esplanade de la Paix\n	\n		\n		Caen\,\n\n\n	14000\n\n	France\n\n\n Prévention et secours civique de niveau 1 (PSC1)Comment prévenir les secours ? Comment protéger une victime ? Quels gestes effectuer en attendant l’arrivée des secours ? La formation Prévention et secours civique de niveau 1 (PSC1) vous permettra d’apprendre des gestes simples à travers des mises en situation. Elle ne nécessite aucune formation préalable. \n\n   					27 janvier 2025 - 29 janvier 2025Caen · Campus 1 · Bâtiment D · Salle du Belvédère\, \n\nCentre de recherche en sciences de l'éducation\, Esplanade de la Paix\n	\n		\n		Caen\,\n\n\n	14000\n\n	France\n\n\n Prévention et secours civique de niveau 1 (PSC1)Comment prévenir les secours ? Comment protéger une victime ? Quels gestes effectuer en attendant l’arrivée des secours ? La formation Prévention et secours civique de niveau 1 (PSC1) vous permettra d’apprendre des gestes simples à travers des mises en situation. Elle ne nécessite aucune formation préalable. \n\n   					24 février 2025 - 26 février 2025Caen · Campus 1 · Bâtiment D · Salle du Belvédère\, \n\nCentre de recherche en sciences de l'éducation\, Esplanade de la Paix\n	\n		\n		Caen\,\n\n\n	14000\n\n	France\n\n\n Prévention et secours civique de niveau 1 (PSC1)Comment prévenir les secours ? Comment protéger une victime ? Quels gestes effectuer en attendant l’arrivée des secours ? La formation Prévention et secours civique de niveau 1 (PSC1) vous permettra d’apprendre des gestes simples à travers des mises en situation. Elle ne nécessite aucune formation préalable. \n\n   					10 mars 2025 - 12 mars 2025Caen · Campus 1 · Bâtiment D · Salle du Belvédère\, \n\nCentre de recherche en sciences de l'éducation\, Esplanade de la Paix\n	\n		\n		Caen\,\n\n\n	14000\n\n	France\n\n\n Prévention et secours civique de niveau 1 (PSC1)Comment prévenir les secours ? Comment protéger une victime ? Quels gestes effectuer en attendant l’arrivée des secours ? La formation Prévention et secours civique de niveau 1 (PSC1) vous permettra d’apprendre des gestes simples à travers des mises en situation. Elle ne nécessite aucune formation préalable. \n\n   					22 avril 2025 - 24 avril 2025Caen · Campus 1 · Bâtiment D · Salle du Belvédère\, \n\nCentre de recherche en sciences de l'éducation\, Esplanade de la Paix\n	\n		\n		Caen\,\n\n\n	14000\n\n	France\n\n\n Prévention et secours civique de niveau 1 (PSC1)Comment prévenir les secours ? Comment protéger une victime ? Quels gestes effectuer en attendant l’arrivée des secours ? La formation Prévention et secours civique de niveau 1 (PSC1) vous […] \n\n   					19 mai 2025 - 21 mai 2025Caen · Campus 1 · Bâtiment D · Salle du Belvédère\, \n\nCentre de recherche en sciences de l'éducation\, Esplanade de la Paix\n	\n		\n		Caen\,\n\n\n	14000\n\n	France\n\n\n Prévention et secours civique de niveau 1 (PSC1)Comment prévenir les secours ? Comment protéger une victime ? Quels gestes effectuer en attendant l’arrivée des secours ? La formation Prévention et secours civique de niveau 1 (PSC1) vous permettra d’apprendre des gestes simples à travers des mises en situation. Elle ne nécessite aucune formation préalable. \n\n   					16 juin 2025 - 18 juin 2025Caen · Campus 1 · Bâtiment D · Salle du Belvédère\, \n\nCentre de recherche en sciences de l'éducation\, Esplanade de la Paix\n	\n		\n		Caen\,\n\n\n	14000\n\n	France\n\n\n Prévention et secours civique de niveau 1 (PSC1)Comment prévenir les secours ? Comment protéger une victime ? Quels gestes effectuer en attendant l’arrivée des secours ? La formation Prévention et secours civique de niveau 1 (PSC1) vous permettra d’apprendre des gestes simples à travers des mises en situation. Elle ne nécessite aucune formation préalable. \n
URL:https://www.unicaen.fr/evenement/prevention-et-secours-civique-de-niveau-1-%c2%b7-psc1/
LOCATION:Caen · Campus 1 · Bâtiment D · Salle du Belvédère\, Centre de recherche en sciences de l'éducation\, Esplanade de la Paix\, Caen\, 14000\, France
CATEGORIES:Santé,Vie de campus
ATTACH;FMTTYPE=image/jpeg:https://www.unicaen.fr/wp-content/uploads/2021/10/Formations_PSC1.jpg
END:VEVENT
BEGIN:VEVENT
DTSTART;TZID=Europe/Paris:20231212T090000
DTEND;TZID=Europe/Paris:20231212T100000
DTSTAMP:20260421T211725
CREATED:20230822T075818Z
LAST-MODIFIED:20231114T082238Z
UID:55423-1702371600-1702375200@www.unicaen.fr
SUMMARY:Ateliers Rédiger un plan de gestion de données
DESCRIPTION:Depuis plusieurs années\, les chercheurs ont l’obligation de fournir un « plan de gestion de données » (appelé également Data Management Plan) dans le cadre de leur projet financé (ANR\, Horizon Europe…).  \n\n\n\nCette obligation tend à se généraliser depuis le décret sur « l’intégrité scientifique » publié le 3 décembre 2021.  \n\n\n\n\nMais qu’est-ce qu’un plan de gestion de données ? \n\n\n\nQuelles sont les obligations qui y sont liées ? \n\n\n\nQuelles sont les recommandations de l’université de Caen Normandie en matière de gestion des données ? \n\n\n\nComment le rédiger facilement avec l’outil en ligne DMP-Opidor et être accompagné dans sa rédaction ? \n\n\n\n\nC’est à toutes ces questions que répondent les ateliers « Rédiger un plan de gestion de données ». Des séances en présentiel et en ligne sont proposées de septembre 2023 à juin 2024. \n\n\n\nDurée : 1h \n\n\n\nS’inscrire à un atelier \n\n\n\nPlus d’information sur l’élaboration des plans de gestion de données
URL:https://www.unicaen.fr/evenement/ateliers-rediger-un-plan-de-gestion-de-donnees-10/
CATEGORIES:Science ouverte
ATTACH;FMTTYPE=image/jpeg:https://www.unicaen.fr/wp-content/uploads/2023/11/UNICAEN_SCD_AteliersPGD-bis_1000-400.jpg
END:VEVENT
BEGIN:VEVENT
DTSTART;TZID=Europe/Paris:20231212T183000
DTEND;TZID=Europe/Paris:20231212T193000
DTSTAMP:20260421T211725
CREATED:20231129T112901Z
LAST-MODIFIED:20231129T112902Z
UID:56328-1702405800-1702409400@www.unicaen.fr
SUMMARY:Restitution de l'atelier d'écriture
DESCRIPTION:Restitution de l’atelier d’écriture sur le thème du corps proposé dans le cadre des ateliers de pratiques artistiques et culturelles du SUAC. \n\n\n\nUn groupe d’étudiants et étudiantes de tous horizons s’est penché durant quelques séances sur la vaste question du corps\, accompagnés par une autrice et une danseuse de la compagnie Ultrabutane 12.14.Ils ont pu expérimenter l’écriture de textes à incarner\, mais quoi de plus naturel sur ce thème du corps…Le public est amené à se questionner avec sincérité : que se passe-t-il là\, sous la peau ? Comment dire l’intime en groupe ? Faut-il garder la face ou fendre l’armure ? Comment aimer ce corps ? \n\n\n\nLa restitution durera environ 30 minutes et pourra être suivie d’un échange avec le public.
URL:https://www.unicaen.fr/evenement/restitution-de-latelier-decriture/
LOCATION:Caen · Campus 1 · Maison de l’étudiant (MDE)\, Maison de l'étudiant Université de Caen\, Rue Colonel Usher\, Caen\, 14000\, France
CATEGORIES:Vie de campus
ATTACH;FMTTYPE=image/jpeg:https://www.unicaen.fr/wp-content/uploads/2023/11/restitution_atelier_ecriture.jpg
END:VEVENT
BEGIN:VEVENT
DTSTART;TZID=Europe/Paris:20231212T200000
DTEND;TZID=Europe/Paris:20231212T200000
DTSTAMP:20260421T211725
CREATED:20231110T153834Z
LAST-MODIFIED:20231127T131336Z
UID:55302-1702411200-1702411200@www.unicaen.fr
SUMMARY:Borgo
DESCRIPTION:Projection du film Borgo en avant-première suivie d’une rencontre exceptionnelle avec le réalisateur Stéphane Demoustier. \n\n\n\nDe Stéphane Demoustier | Avec Hafsia Herzi\, Moussa Mansaly\, Florence Loiret-Caille | Drame  \n\n\n\nSynopsis\n\n\n\nMelissa\, 32 ans\, surveillante pénitentiaire expérimentée\, s’installe en Corse avec ses deux jeunes enfants et son mari. L’occasion d’un nouveau départ. Elle intègre les équipes d’un centre pénitentiaire pas tout à fait comme les autres. Ici\, on dit que ce sont les prisonniers qui surveillent les gardiens. L’intégration de Melissa est facilitée par Saveriu\, un jeune détenu qui semble influent et la place sous sa protection. Mais une fois libéré\, Saveriu reprend contact avec Melissa. Il a un service à lui demander… Une mécanique pernicieuse se met en marche. \n\n\n\nTarifs\n\n\n\n\nTarif étudiant UNICAEN : 2 € grâce à la Contribution de vie étudiante et de campus\n\n\n\nTarif réduit : 4€50\n\n\n\nTarif plein : 5€50\n\n\n\n\nVous pouvez\, dès à présent\, acheter vos billets en ligne. \n\n\n\n\n\nDans le cadre du Plan Vigipirate « Urgence attentat »\, un contrôle visuel des sacs sera effectué à l’entrée du bâtiment. Merci de faciliter ces opérations en vous présentant en avance\, afin que le début de la projection ne soit pas retardé.
URL:https://www.unicaen.fr/evenement/borgo/
LOCATION:Caen · Campus 1 · Bâtiment P · Amphi Pierre Daure\, Amphithéâtre Pierre Daure\, Esplanade de la Paix\, Caen\, 14000\, France
CATEGORIES:Projection - Cinéma,Vie de campus
ATTACH;FMTTYPE=image/jpeg:https://www.unicaen.fr/wp-content/uploads/2023/11/borgo.jpg
END:VEVENT
BEGIN:VEVENT
DTSTART;TZID=Europe/Paris:20231212T200000
DTEND;TZID=Europe/Paris:20231212T200000
DTSTAMP:20260421T211725
CREATED:20231128T101154Z
LAST-MODIFIED:20250225T085447Z
UID:56245-1702411200-1702411200@www.unicaen.fr
SUMMARY:L'innocence
DESCRIPTION:Projection du film L’innocence en avant-première (sortie prévue le 27 décembre). \n\n\n\nDe Hirokazu Kore-eda | Avec Sakura Andô\, Eita Nagayama\, Soya Kurokawa | Drame\, Thriller | 2h06min \n\n\n\nSynopsis\n\n\n\nLe comportement du jeune Minato est de plus en plus préoccupant. Sa mère\, qui l’élève seule depuis la mort de son époux\, décide de confronter l’équipe éducative de l’école de son fils. Tout semble désigner le professeur de Minato comme responsable des problèmes rencontrés par le jeune garçon. Mais au fur et à mesure que l’histoire se déroule à travers les yeux de la mère\, du professeur et de l’enfant\, la vérité se révèle bien plus complexe et nuancée que ce que chacun avait anticipé au départ… \n\n\n\nTarifs\n\n\n\n\nTarif étudiant UNICAEN : 2 € grâce à la Contribution de vie étudiante et de campus\n\n\n\nTarif réduit : 4€50\n\n\n\nTarif plein : 5€50\n\n\n\n\nVous pouvez\, dès à présent\, acheter vos billets en ligne \n\n\n\n\n\nDans le cadre du Plan Vigipirate “Urgence attentat”\, un contrôle visuel des sacs sera effectué à l’entrée du bâtiment. Merci de faciliter ces opérations en vous présentant en avance\, afin que le début de la projection ne soit pas retardé.
URL:https://www.unicaen.fr/evenement/linnocence/
LOCATION:Caen · Campus 1 · Bâtiment P · Amphi Pierre Daure\, Amphithéâtre Pierre Daure\, Esplanade de la Paix\, Caen\, 14000\, France
CATEGORIES:Projection - Cinéma,Vie de campus
ATTACH;FMTTYPE=image/jpeg:https://www.unicaen.fr/wp-content/uploads/2023/11/l_innocence.jpg
END:VEVENT
END:VCALENDAR