BEGIN:VCALENDAR
VERSION:2.0
PRODID:-//Université de Caen Normandie - ECPv6.15.18//NONSGML v1.0//EN
CALSCALE:GREGORIAN
METHOD:PUBLISH
X-ORIGINAL-URL:https://www.unicaen.fr
X-WR-CALDESC:Évènements pour Université de Caen Normandie
REFRESH-INTERVAL;VALUE=DURATION:PT1H
X-Robots-Tag:noindex
X-PUBLISHED-TTL:PT1H
BEGIN:VTIMEZONE
TZID:Europe/Paris
BEGIN:DAYLIGHT
TZOFFSETFROM:+0100
TZOFFSETTO:+0200
TZNAME:CEST
DTSTART:20220327T010000
END:DAYLIGHT
BEGIN:STANDARD
TZOFFSETFROM:+0200
TZOFFSETTO:+0100
TZNAME:CET
DTSTART:20221030T010000
END:STANDARD
BEGIN:DAYLIGHT
TZOFFSETFROM:+0100
TZOFFSETTO:+0200
TZNAME:CEST
DTSTART:20230326T010000
END:DAYLIGHT
BEGIN:STANDARD
TZOFFSETFROM:+0200
TZOFFSETTO:+0100
TZNAME:CET
DTSTART:20231029T010000
END:STANDARD
BEGIN:DAYLIGHT
TZOFFSETFROM:+0100
TZOFFSETTO:+0200
TZNAME:CEST
DTSTART:20240331T010000
END:DAYLIGHT
BEGIN:STANDARD
TZOFFSETFROM:+0200
TZOFFSETTO:+0100
TZNAME:CET
DTSTART:20241027T010000
END:STANDARD
END:VTIMEZONE
BEGIN:VEVENT
DTSTART;TZID=Europe/Paris:20231106T090000
DTEND;TZID=Europe/Paris:20231222T170000
DTSTAMP:20260421T211746
CREATED:20231027T082406Z
LAST-MODIFIED:20231102T110740Z
UID:54864-1699261200-1703264400@www.unicaen.fr
SUMMARY:Le jeu vidéo échappe-t-il à la question du genre ?
DESCRIPTION:Explorez l’interaction entre les jeux vidéo et les notions de genre à travers les décennies\, depuis les années 1970 jusqu’à nos jours\, dans cette exposition innovante organisée dans le hall du CEMU. \n\n\n\nIntitulée « Le jeu vidéo échappe-t-il à la question du genre ? »\, l’exposition ambitionne de stimuler une réflexion sur la manière dont les jeux vidéo véhiculent des représentations liées au genre\, aux identités et aux orientations sexuelles\, et vise également à promouvoir l’éducation à l’image et l’analyse critique des productions culturelles. \n\n\n\nL’exposition\, à travers 15 affiches informatives\, met en avant différents éléments des jeux vidéo\, incluant les consoles\, les manettes\, les jaquettes\, et les personnages\, ainsi que les stratégies marketing associées\, depuis les années 70 jusqu’à aujourd’hui. En analysant ces éléments\, l’exposition pose la question de savoir si et comment les représentations genrées sont véhiculées à travers les jeux vidéo\, et si des évolutions notables peuvent être observées au fil du temps. Les visiteurs sont encouragés à interagir avec l’exposition en scannant les QR codes présents sur les posters pour accéder à des informations complémentaires ou partager\, de manière anonyme\, leurs réflexions sur les questions soulevées. \n\n\n\nCe projet est l’initiative de Julian Alvarez\, professeur-chercheur associé à l’Université de Lille et affilié à l’INSPÉ Lille HdF\, où il contribue à la mission d’enseignement. L’exposition est le fruit d’une collaboration étroite avec le service recherche et développement\, la mission partenariats et culture\, le service communication de l’INSPÉ Lille HdF\, ainsi que le service audiovisuel de la DOSIMA de l’Université de Lille. Elle vise à soutenir les professionnels de l’éducation dans leur exploration et appropriation de la ludopédagogie.
URL:https://www.unicaen.fr/evenement/exposition-le-jeu-video-echappe-t-il-a-la-question-du-genre/
LOCATION:Caen · Campus 1 · Bâtiment B · CEMU\, CEMU\, Esplanade de la Paix\, Caen\, 14000\, France
CATEGORIES:Exposition
ATTACH;FMTTYPE=image/png:https://www.unicaen.fr/wp-content/uploads/2023/11/expo-jeu-genre.png
END:VEVENT
BEGIN:VEVENT
DTSTART;TZID=Europe/Paris:20231106T090000
DTEND;TZID=Europe/Paris:20231221T180000
DTSTAMP:20260421T211746
CREATED:20231106T080233Z
LAST-MODIFIED:20231114T094530Z
UID:55438-1699261200-1703181600@www.unicaen.fr
SUMMARY:Exposition "Commun voyage"
DESCRIPTION:Clémence Leconte\, diplômée de l’IAE Caen Normandie\, a réalisé les portraits de demandeurs d’asile faisant étape au Centre d’accueil et d’examen des situations 2ChosesLune sur la presqu’île de Caen. De ces portraits se dégagent les émotions ressenties par des êtres humains au parcours migratoire souvent tourmenté. L’exposition « Commun voyage » est le fruit de ces rencontres. \n\n\n\nVenez écouter Clémence Leconte le jeudi 7 décembre à 14h30 (Amphi Droit du Campus d’Alençon).
URL:https://www.unicaen.fr/evenement/exposition-commun-voyage/
LOCATION:Alençon · BU Olympe-de-Gouges\, Bibliothèque universitaire Olympe-de-Gouges\, Montfoulon\, Damigny\, 61250\, France
CATEGORIES:Conférence,Exposition,Vie de campus
ATTACH;FMTTYPE=image/png:https://www.unicaen.fr/wp-content/uploads/2023/11/RS-_1000x400px_-commun-voyage.png
END:VEVENT
BEGIN:VEVENT
DTSTART;TZID=Europe/Paris:20231113T000000
DTEND;TZID=Europe/Paris:20231208T235959
DTSTAMP:20260421T211746
CREATED:20231107T102040Z
LAST-MODIFIED:20231107T171449Z
UID:55044-1699833600-1702079999@www.unicaen.fr
SUMMARY:L'Eau dans tous ses états
DESCRIPTION:La bibliothèque universitaire et le Caen photo club Le Conquérant sont heureux de vous présenter une exposition sur le thème de l’eau\, « L’Eau dans tous ses états ». \n\n\n\n\nL’eau\, cet élément indispensable à la vie sur terre\, est issue de la nature.Elle se présente sous différentes formes : eau minérale\, eau de source\, eau du robinet et sous différents états : solide (glace\, neige\, givre\, grêle …) \, liquide (eau des océans\, des mers\, des lacs\, des rivières\, des nuages\, des brouillards\, de la rosée…) ou encore gazeux (vapeur d’eau).L’eau est aussi une ressource indispensable pour notre santé\, notre économie et nos écosystèmes\, que nous devons préserver pour les générations futures.Tout comme le bruit de l’eau qui coule\, nous espérons que ces images vous apporteront une forme de sérénité. \nCaen photo club Le Conquérant\n\n\n\nLe Caen photo club Le Conquérant est une association regroupant des photographes amateurs de tous horizons. Hébergée au Centre d’Animation de La Prairie à Caen\, elle a pour objectif la diffusion de la technique ainsi que la pratique de l’art photographique par le biais de cours\, réunions\, sorties\, participation à des concours\, expositions\, etc.
URL:https://www.unicaen.fr/evenement/leau-dans-tous-ses-etats/
LOCATION:Caen · Campus 5 · BU Madeleine-Brès\, BU Madeleine-Brès\, 2 Rue des Rochambelles\, Caen\, 14000\, France
CATEGORIES:Exposition
ATTACH;FMTTYPE=image/png:https://www.unicaen.fr/wp-content/uploads/2023/11/LEau-dans-tous-ses-etats_bandeau.png
END:VEVENT
BEGIN:VEVENT
DTSTART;TZID=Europe/Paris:20231120T000000
DTEND;TZID=Europe/Paris:20231130T235959
DTSTAMP:20260421T211746
CREATED:20231113T111732Z
LAST-MODIFIED:20231114T105004Z
UID:55338-1700438400-1701388799@www.unicaen.fr
SUMMARY:Grand Challenge ENDONORA
DESCRIPTION:L’université de Caen Normandie\, en partenariat avec Endonora\, vous invite à bouger et à relever un défi unique : le Challenge Sportif Endonora !  \n\n\n\nDu 20 au 30 novembre\, découvrez les parcours sportifs audio-coachés Endonora et tentez de remporter des cadeaux offerts par UNICAEN. \n\n\n\n\nParticipation gratuite et ouverte à tous les étudiants et personnels de l’université de Caen Normandie. \n\n\n\n🚀 Endonora\, comment ça marche ?\n\n\n\n\nDécouvrez et téléchargez l’application Endonora. Rendez-vous sur un point de départ et choisissez un des parcours sportif proposés par UNICAEN : \n\n\n\n\nCaen \n\n\n\n\nCampus 1 : depuis l’arche de l’université Caen Stadium\n\n\n\nCampus 2 : départ bibliothèque\n\n\n\nCampus 3 : entrée IUT \n\n\n\n\n\n\nAlençon \n\n\n\n\nCampus de Damigny : départs depuis fontaine devant bâtiment IUT\n\n\n\n\n\n\nVire \n\n\n\n\nCampus de Vire depuis entrée du bâtiment de l’IUT\n\n\n\n\n\n\nComplétez le parcours à votre rythme\, en suivant l’itinéraire et en réalisant les ateliers sportifs. \n\n\n\n🏆 Comment participer au challenge ? \n\n\n\nPour participer\, il suffit de terminer un parcours sur la période du challenge ! Un parcours est “terminé” si l’utilisateur a suivi l’itinéraire dans sa totalité\, et qu’il à réalisé l’ensemble des ateliers sportifs proposés sur le parcours choisi.Les gagnants seront tirés au sort parmi les participants ayant complété à minima un parcours Endonora proposé par UNICAEN. \n\n\n\nEndonora contactera par email (email renseigné lors de la création du compte Endonora par le participant) chaque gagnant entre le 1/12/2023 et le 7/12/2023. \n\n\n\nUne chance d’être l’un des 10 gagnants tirés au sort\, mais tous les participants seront des gagnants en matière de bien-être et de forme physique ! \n\n\n\n📲 Prêt à relever le défi ? \n\n\n\nVoici comment commencer : \n\n\n\n\nTéléchargez l’application Endonora\n\n\n\nCréez votre compte.\n\n\n\nTrouvez le parcours qui vous inspire\, et parcourez le entre le 20 et le 30 novembre 2023.\n\n\n\n\nNe manquez pas cette occasion de découvrir des parcours conçus spécialement pour la communauté UNICAEN et de vous amuser tout en prenant soin de votre santé. \n\n\n\nEnsemble\, faisons de l’activité physique un pilier de notre quotidien ! \n\n\n\nÀ bientôt sur vos parcours !
URL:https://www.unicaen.fr/evenement/grand-challenge-endonora/
CATEGORIES:Sport,Vie de campus
ATTACH;FMTTYPE=image/png:https://www.unicaen.fr/wp-content/uploads/2023/11/endonora-web.png
ORGANIZER;CN="Service universitaire des activit%C3%A9s physiques et sportives (SUAPS)":MAILTO:suaps.evenement@unicaen.fr
END:VEVENT
BEGIN:VEVENT
DTSTART;TZID=Europe/Paris:20231122T140000
DTEND;TZID=Europe/Paris:20231124T160000
DTSTAMP:20260421T211746
CREATED:20230720T150612Z
LAST-MODIFIED:20231122T084022Z
UID:50370-1700661600-1700841600@www.unicaen.fr
SUMMARY:Recherches participatives : connaissances et reconnaissances
DESCRIPTION:Dans le cadre de leur projet commun de labellisation SAPS\, l’université de Caen Normandie et Le Dôme ont choisi de mettre l’accent sur le développement de programmes de recherche participative\, dans lesquels des citoyennes et citoyens\, des étudiantes et étudiantes\, des publics non scientifiques de tous horizons\, sont invités à participer à différentes phases de programmes de recherche scientifique auprès d’équipes de l’université. Mais que sont exactement ces recherches participatives\, dans leur diversité ? Quels types de sciences\, ou de connaissances\, produisent-elles ? Quelles sont leurs méthodes peut-être spécifiques ? Comment favoriser l’émergence de recherches participatives qui s’articulent aux préoccupations d’une population\, d’un territoire\, avec les méthodes et objectifs propres aux chercheurs et chercheuses ? Quel peut être l’impact de ce type de recherches sur l’action publique et collective ? \n\n\n\nCe premier colloque sur les programmes de recherche participative à l’université de Caen ambitionne d’aborder ces questions en réunissant des chercheurs et chercheuses qui étudient le phénomène de la participation aux sciences et des chercheurs\, chercheuses et acteurs\, actrices engagé·es dans des programmes de recherche participative. Pour cette première édition\, le colloque propose en particulier\, d’interroger les conceptions épistémologiques qui sous tendent les dispositifs de recherches participatives. \n\n\n\nL’inscription au colloque est libre et gratuite. \n\n\n\nProgramme détaillé du colloque (pdf · 168 Ko)Télécharger (pdf · 168 Ko)
URL:https://www.unicaen.fr/evenement/recherches-participatives-connaissances-et-reconnaissances/
LOCATION:Caen · Campus 1 · Bâtiment B · Amphi Daniel Huet\, Bâtiment B\, Esplanade de la Paix\, Caen\, 14000\, France
CATEGORIES:Congrès - Colloque,Recherche,Sciences humaines et sociales
ATTACH;FMTTYPE=image/jpeg:https://www.unicaen.fr/wp-content/uploads/2023/07/2023-11-22_colloque_SAPS_bandeau_web.jpg
END:VEVENT
BEGIN:VEVENT
DTSTART;TZID=Europe/Paris:20231123T100000
DTEND;TZID=Europe/Paris:20231123T120000
DTSTAMP:20260421T211746
CREATED:20230919T125325Z
LAST-MODIFIED:20240307T162857Z
UID:52620-1700733600-1700740800@www.unicaen.fr
SUMMARY:Atelier Rebondir
DESCRIPTION:Réorientation\nModalités\n\nDurée : 2h\nPublic : licence 1\, DUT 1\, CPGE 1\n\nObjectifs\n\nFaire le bilan de ses expériences et de son arrivée à l’université ;\nAmorcer une réflexion autour du projet d’orientation ;\nS’approprier les différentes possibilités d’études supérieures et les procédures de candidature pour y parvenir\n\nInscription\nInscription obligatoire en ligne \nNombre de places limité \n 
URL:https://www.unicaen.fr/evenement/atelier-rebondir-31/
LOCATION:Caen · Campus 1 · Bâtiment B · Espace Orientation Insertion (EOI)\, Bâtiment B\, Esplanade de la Paix\, Caen\, 14000\, France
CATEGORIES:Orientation
ORGANIZER;CN="Espace orientation insertion (EOI)":MAILTO:orientationinsertion@unicaen.fr
END:VEVENT
BEGIN:VEVENT
DTSTART;TZID=Europe/Paris:20231123T170000
DTEND;TZID=Europe/Paris:20231123T190000
DTSTAMP:20260421T211746
CREATED:20231030T102936Z
LAST-MODIFIED:20231117T100554Z
UID:54666-1700758800-1700766000@www.unicaen.fr
SUMMARY:Café Lecture : "Anatomie de l'intime\, question d'hier et d'aujourd'hui"
DESCRIPTION:En partenariat avec l’IMEC\, le projet Inédi vous propose un café-débat atour des textes de Leïla Sebbar : \n\n\n\nCafé Lecture : Les femmes dans la maison\, textes de Leïla Sebbar \n\n\n\nPublié en 1981 sous le titre Des femmes dans la maison\, anatomie de la vie domestique aux éditions Fernand Nathan\, cet ouvrage imposant est la restitution d’une large enquête sur la vie intime des femmes et la manière dont elles investissent leur intérieur\, basé sur un questionnaire très précis\, les autrices explorent tous les aspects de « la vie domestique » au travers de témoignages et de photos en noir et blanc.Lors de cet atelier vous serez toutes et tous invités à lire ces textes reflétant la réalité de ces femmes des années 80\, l’occasion d’interroger notre propre rapport à l’intimité domestique et ses questions contemporaines. \n\n\n\nÀ propos des autrices\n\n\n\nLeïla Sebbar est une écrivaine franco-algérienne\, elle a écrit de nombreux ouvrages sur son rapport à l’Algérie et les questions d’immigration. Membre du MLF dans les années 70\, elle s’intéresse particulièrement aux trajectoires de femmes. Lors de ses années de militantisme\, elle a co-fondé le journal Histoires d’Elles et écrit deux ouvrages dénonçant les violences faites aux petites filles et la pédophilie : On tue les petites filles (1978) et Le Pédophile et la maman (1981).Les co-autrices de cet ouvrage ont toutes participé au journal Histoires d’Elles\, notamment sur la maquette. Dominique Pujebet collaborait à l’époque au Magazine Littéraire\, Luce Pénot et Dominique Doan sont graphistes\, elles travaillaient aux éditions Textuelles. \n\n\n\nGratuit \n\n\n\nContact\n\n\n\nclara.besnouin@unicaen.fr | jeremie.damamme@unicaen.fr \n\n\n\n\nJe m’inscris
URL:https://www.unicaen.fr/evenement/cafe-lecture-anatomie-de-lintime-question-dhier-et-daujourdhui/
LOCATION:Caen · Campus 1 · Maison de l’étudiant (MDE)\, Maison de l'étudiant Université de Caen\, Rue Colonel Usher\, Caen\, 14000\, France
CATEGORIES:Vie de campus
ATTACH;FMTTYPE=image/jpeg:https://www.unicaen.fr/wp-content/uploads/2023/10/cafe-debat.jpg
END:VEVENT
BEGIN:VEVENT
DTSTART;TZID=Europe/Paris:20231123T180000
DTEND;TZID=Europe/Paris:20231123T200000
DTSTAMP:20260421T211746
CREATED:20231030T142027Z
LAST-MODIFIED:20240719T080801Z
UID:54717-1700762400-1700769600@www.unicaen.fr
SUMMARY:Deeptech Afterwork 2
DESCRIPTION:Bpifrance\, Normandie Université et les acteurs du Programme universitaire innovant (PUI) Normandie organisent un deuxième Deeptech Afterwork jeudi 23 novembre de 18h00 à 20h00 à la Cité Numérique au havre. \n\n\n\nChercheuses et chercheurs\, doctorantes et doctorants\, étudiantes et étudiants\, vos publications\, vos (futurs) travaux de recherche\, votre thèse\, vos idées\, peuvent déboucher sur une startup à forte intensité technologique\, capable de changer notre société\, nos modes de consommation\, de déplacement\, de communication\, d’alimentation… \n\n\n\nCette dynamique\, c’est la Deeptech ! \n\n\n\nProfitez d’un moment de convivialité pour rencontrer celles et ceux qui se sont lancés. Au programme : retours d’expériences et échanges autour d’un apéritif dînatoire ! \n\n\n\nInformations et inscriptions en ligne
URL:https://www.unicaen.fr/evenement/deeptech-afterwork-2/
LOCATION:Le Havre · Cité Numérique\, Cité Numérique\, 20 Quai Frissard\, Le Havre\, 76600\, France
CATEGORIES:Recherche,Rencontre
ATTACH;FMTTYPE=image/jpeg:https://www.unicaen.fr/wp-content/uploads/2023/10/Deeptech-afterwork.jpg
END:VEVENT
BEGIN:VEVENT
DTSTART;TZID=Europe/Paris:20231123T180000
DTEND;TZID=Europe/Paris:20231123T200000
DTSTAMP:20260421T211746
CREATED:20231115T114332Z
LAST-MODIFIED:20231117T115702Z
UID:55530-1700762400-1700769600@www.unicaen.fr
SUMMARY:"Les antibiotiques\, c'est pas automatique"
DESCRIPTION:À l’occasion de la semaine mondiale pour un bon usage des antimicrobiens organisée par l’Organisation mondiale de la santé\, l’université de Caen Normandie\, les unités de recherche CBSA et Dynamicure et le réseau scientifique AntibioDEAL\, vous proposent une soirée-débat précédée de la projection d’un documentaire sur la thématique de la résistance aux antibiotiques. Venez comprendre les enjeux sociétaux face à la recrudescence des infections bactériennes résistantes aux antibiotiques.  \n\n\n\nAvant la projection\, aidez l’équipe du CBSA à découvrir de nouveaux antibiotiques à travers un atelier de science participative. \n\n\n\nProgramme :  \n\n\n\n\n18h00 : Atelier participatif \n\n\n\n18h30 : Projection du documentaire « Résistance aux antibiotiques : à la recherche de nouvelles molécules » de Bruce Mohun (Dreamfilm Productions · 2015)\n\n\n\n19h15-20h : Temps de discussion/débat autour du documentaire en présence de membres du CBSA et de Dynamicure\, Dr. Florie Desriac\, Dr. Eliette Riboulet-Bisson et Pr. Simon Le Hello.\n\n\n\n\nNous vous attendons nombreux pour échanger et débattre sur l’une des menaces majeures pour notre santé à laquelle l’humanité fait face.
URL:https://www.unicaen.fr/evenement/les-antibiotiques-cest-pas-automatique/
LOCATION:Caen · Campus 5 · PFRS · Auditorium\, UFR Santé\, 2 Rue des Rochambelles\, Caen\, 14032\, France
CATEGORIES:Projection - Cinéma,Vie de campus
ATTACH;FMTTYPE=image/jpeg:https://www.unicaen.fr/wp-content/uploads/2023/11/soiree_antibioresistance.jpg
END:VEVENT
BEGIN:VEVENT
DTSTART;TZID=Europe/Paris:20231123T200000
DTEND;TZID=Europe/Paris:20231123T220000
DTSTAMP:20260421T211746
CREATED:20231030T101538Z
LAST-MODIFIED:20231117T131637Z
UID:54659-1700769600-1700776800@www.unicaen.fr
SUMMARY:Projection des films "C'est gratuit pour les filles"\, "The Soloist" et "Good Girl"
DESCRIPTION:À l’occasion de la Semaine de lutte contre les Violences Sexistes et Sexuelles organisée par l’Université de Caen\, InÉDi vous propose une soirée de projection autour des violences. À travers trois courts-métrages sélectionnés par un Jury d’étudiant.es dans le cadre du festival international du film d’éducation du CEMEA\, nous vous offrons l’opportunité d’échanger et de débattre au travers de films qui interroge les interdictions\, la violence ordinaires et toutes les interrogations posées par les violences faites aux femmes.À l’issue de chaque projection\, vous serez conviés à participer à des animations pour vous permettre de réagir sur les différentes thématiques abordées dans les films. \n\n\n\nSynopsisC’est gratuit pour les filles : Dans quelques jours\, Laetitia obtiendra son brevet professionnel de coiffure. Elle et sa meilleure amie Yeliz pourront concrétiser leur rêve : ouvrir un salon ensemble. Mais avant de passer son examen\, Laetitia veut aller à une fête.Réalisé par Claire BURGER et Marie AMACHOUKELIE\, 2009 \n\n\n\nThe Soloists : Dans un petit village régi par des lois ridicules\, trois sœurs chanteuses et leur chien répètent pour le festival annuel d’automne. Mais un événement inattendu va bouleverser leurs plans.Réalisé par Celeste JAMNECK\, Feben ELIAS WOLDEHAWARIAT\, Metirnaz ABDOLLAHINIA\, Razahk ISSAKA\, Yi LIU\, 2022 \n\n\n\nGood Girl : Après avoir été récompensée par son père pour avoir été une bonne fille\, une petite fille naïve apprend ce que cela signifie vraiment d’en être une.Réalisé par Merja MAIJANEN\, 2020 \n\n\n\nAccès gratuit \n\n\n\nInscription à la soirée \n\n\n\n\n\n\nDans le cadre du Plan Vigipirate « Urgence attentat »\, un contrôle visuel des sacs sera effectué à l’entrée du bâtiment. Merci de faciliter ces opérations en vous présentant en avance\, afin que le début de la projection ne soit pas retardé. \n\n\n\n\n\n\nContact : jeremie.damamme@unicaen.fr
URL:https://www.unicaen.fr/evenement/projection-des-films-cest-gratuit-pour-les-filles-the-soloist-et-good-girl/
LOCATION:Caen · Campus 1 · Bâtiment P · Amphi Pierre Daure\, Amphithéâtre Pierre Daure\, Esplanade de la Paix\, Caen\, 14000\, France
CATEGORIES:Projection - Cinéma,Vie de campus
ATTACH;FMTTYPE=image/png:https://www.unicaen.fr/wp-content/uploads/2023/10/banniere-unicaen-1000x400-1.png
END:VEVENT
END:VCALENDAR