BEGIN:VCALENDAR
VERSION:2.0
PRODID:-//Université de Caen Normandie - ECPv6.15.18//NONSGML v1.0//EN
CALSCALE:GREGORIAN
METHOD:PUBLISH
X-WR-CALNAME:Université de Caen Normandie
X-ORIGINAL-URL:https://www.unicaen.fr
X-WR-CALDESC:Évènements pour Université de Caen Normandie
REFRESH-INTERVAL;VALUE=DURATION:PT1H
X-Robots-Tag:noindex
X-PUBLISHED-TTL:PT1H
BEGIN:VTIMEZONE
TZID:Europe/Paris
BEGIN:DAYLIGHT
TZOFFSETFROM:+0100
TZOFFSETTO:+0200
TZNAME:CEST
DTSTART:20220327T010000
END:DAYLIGHT
BEGIN:STANDARD
TZOFFSETFROM:+0200
TZOFFSETTO:+0100
TZNAME:CET
DTSTART:20221030T010000
END:STANDARD
BEGIN:DAYLIGHT
TZOFFSETFROM:+0100
TZOFFSETTO:+0200
TZNAME:CEST
DTSTART:20230326T010000
END:DAYLIGHT
BEGIN:STANDARD
TZOFFSETFROM:+0200
TZOFFSETTO:+0100
TZNAME:CET
DTSTART:20231029T010000
END:STANDARD
BEGIN:DAYLIGHT
TZOFFSETFROM:+0100
TZOFFSETTO:+0200
TZNAME:CEST
DTSTART:20240331T010000
END:DAYLIGHT
BEGIN:STANDARD
TZOFFSETFROM:+0200
TZOFFSETTO:+0100
TZNAME:CET
DTSTART:20241027T010000
END:STANDARD
END:VTIMEZONE
BEGIN:VEVENT
DTSTART;TZID=Europe/Paris:20231003T090000
DTEND;TZID=Europe/Paris:20231103T180000
DTSTAMP:20260422T184118
CREATED:20230927T105507Z
LAST-MODIFIED:20231222T144814Z
UID:54000-1696323600-1699034400@www.unicaen.fr
SUMMARY:Science ou science-fiction ? - Exposition BU Blanche-Maupas (Cherbourg-en-Cotentin)
DESCRIPTION:Exposition dans le cadre de la fête de la science\n\n\n\nQuelle distance Gandalf (dans Le seigneur des anneaux) parcourt-il pendant sa chute ?Serait-il possible de devenir vert\, tel Hulk lorsqu’il est en colère ?Chaque panneau de cette exposition propose un focus sur un film\, une série\, un jeu vidéo… avec l’objectif de montrer ce qui relève de la science ou de la science-fiction.L’exposition est réalisée par des étudiants de la licence 3 de physique et chimie à l’université de Caen Normandie\, dans le cadre de leurs cours d’anglais avec Madame Legrix-Pagès. \n\n\n\nD’autres événements pour la fête de la science\n\n\n\nBU Rosalind-Franklin – campus 2 – Caen \n\n\n\nBU Blanche-Maupas – Cherbourg-en-Cotentin \n\n\n\nVillages des sciences Caen et Cherbourg-en-cotentin
URL:https://www.unicaen.fr/evenement/science-ou-science-fiction-exposition-bu-blanche-maupas-cherbourg/
LOCATION:Cherbourg-en-Cotentin · BU Blanche-Maupas\, Bibliothèque Universitaire Blanche Maupas\, Rue Max Pol Fouchet\, Cherbourg-en-Cotentin\, 50130\, France
CATEGORIES:Exposition,Fête de la science,Vie de campus
ATTACH;FMTTYPE=image/jpeg:https://www.unicaen.fr/wp-content/uploads/2023/10/expo-science-BUBM.jpg
END:VEVENT
BEGIN:VEVENT
DTSTART;TZID=Europe/Paris:20231006T000000
DTEND;TZID=Europe/Paris:20231016T235959
DTSTAMP:20260422T184118
CREATED:20230911T092143Z
LAST-MODIFIED:20230919T072855Z
UID:51896-1696550400-1697500799@www.unicaen.fr
SUMMARY:Aux sports citoyens !
DESCRIPTION:Sport\, société et nation en France au 20e siècle à travers les archives du Calvados \n\n\n\nÀ travers des archives inédites originales\, documents publics ou privés en partie issus des collectes réalisées auprès des clubs locaux et des particuliers\, cette exposition offre non seulement une plongée dans le sport et sur l’histoire du mouvement sportif\, mais elle revient sur l’évolution de la société dans son ensemble : des pratiques aristocratiques de la fin du 19e siècle\, aux grands événements sportifs populaires\, le chemin aura été long vers la complète démocratisation du sport et de l’accès au sport pour tous. \n\n\n\nCette exposition s’inscrit dans le cadre de la mobilisation du Département du Calvados labellisé Terre de Jeux 2024. Les Jeux Olympiques et Paralympiques de 2024 sont en effet une occasion exceptionnelle de célébrer le sport et de retracer son rôle essentiel comme vecteur de lien social\, de liberté individuelle et bien sûr\, de santé et d’épanouissement. \n\n\n\n\nLa BU Rosalind Franklin propose des visites guidées de l’exposition les 14 & 15 octobre (10h-18h) à l’occasion de la Fête de la science.
URL:https://www.unicaen.fr/evenement/aux-sports-citoyens/
LOCATION:Caen · Campus 2 · BU Rosalind-Franklin\, BU Rosalind-Franklin\, Campus 2\, Côte de Nacre\, Boulevard Maréchal Juin\, Caen\, 14032\, France
CATEGORIES:Festival,Fête de la science,Recherche
ATTACH;FMTTYPE=image/jpeg:https://www.unicaen.fr/wp-content/uploads/2023/09/FDS-2023.jpg
END:VEVENT
BEGIN:VEVENT
DTSTART;TZID=Europe/Paris:20231012T000000
DTEND;TZID=Europe/Paris:20231025T235959
DTSTAMP:20260422T184118
CREATED:20230901T132911Z
LAST-MODIFIED:20230928T133650Z
UID:51328-1697068800-1698278399@www.unicaen.fr
SUMMARY:Soudain toujours
DESCRIPTION:Une installation artistique esthétique installée sur le village des sciences de Caen et invitant à la contemplation et l’interrogation. \n\n\n\nL’œuvre de Guillaume Cousin « Soudain toujours » sera exposée sur le village des sciences de Caen pour inviter les visiteurs à une découverte esthétique parfois éloignée des schémas traditionnels véhiculés par les activités scientifiques. \n\n\n\nEn complément\, l’artiste sera présent pour une conférence autour de la création. Un enseignant-chercheur\, spécialiste de la mécanique des fluides\, viendra épauler le discours artistique. \n\n\n\nEn collaboration avec l’association « station mir » et le réseau obliques.
URL:https://www.unicaen.fr/evenement/soudain-toujours-fete-de-la-science-2023/
LOCATION:Caen · Campus 2\, Campus 2\, Avenue de la Côte de Nacre\, Caen\, 14000\, France
CATEGORIES:Festival,Fête de la science,Recherche,Vie de campus
ATTACH;FMTTYPE=image/jpeg:https://www.unicaen.fr/wp-content/uploads/2023/09/FDS-2023.jpg
END:VEVENT
BEGIN:VEVENT
DTSTART;TZID=Europe/Paris:20231013T000000
DTEND;TZID=Europe/Paris:20231115T235959
DTSTAMP:20260422T184118
CREATED:20231017T144327Z
LAST-MODIFIED:20231017T144328Z
UID:54156-1697155200-1700092799@www.unicaen.fr
SUMMARY:L'expo enfumée
DESCRIPTION:Exposition organisée par Lilit Letourneur\, étudiante de l’École Supérieure d’Arts & Médias de Caen/Cherbourg dans le cadre du mois sans tabac 2023 et avec le soutien du Service Universitaire de Santé Etudiante (SSE) et du Service Universitaire de I’Action Culturelle (SUAC) de l’université de Caen Normandie ainsi que le soutien du Service culture et vie de campus du CROUS Normandie. \n\n\n\nVenez découvrir 21 affiches de sensibilisation\, sélectionnées parmi les réalisations graphiques des étudiants et étudiantes et anciens étudiants et étudiantes de l’ESAM. \n\n\n\nLe vernissage de l’exposition aura lieu le jeudi 26 octobre à 18h\, avant le spectacle « Complètement Fumé » de Mathieu Ducrez qui débutera à 18h30. \n\n\n\nHoraires : du lundi au jeudi de 8h30 à 15h30 et le vendredi de 8h30 à 14h.
URL:https://www.unicaen.fr/evenement/lexpo-enfumee/
LOCATION:Caen · Campus 1 · Maison de l’étudiant (MDE)\, Maison de l'étudiant Université de Caen\, Rue Colonel Usher\, Caen\, 14000\, France
CATEGORIES:Exposition,Vie de campus
ATTACH;FMTTYPE=image/jpeg:https://www.unicaen.fr/wp-content/uploads/2023/10/expo_enfumee.jpg
END:VEVENT
BEGIN:VEVENT
DTSTART;TZID=Europe/Paris:20231016T000000
DTEND;TZID=Europe/Paris:20231020T235959
DTSTAMP:20260422T184118
CREATED:20231006T100044Z
LAST-MODIFIED:20250307T090659Z
UID:53662-1697414400-1697846399@www.unicaen.fr
SUMMARY:Formation à la maîtrise d'usage : "Faire société avec la Terre"
DESCRIPTION:L’association Démosthène propose\, en collaboration avec l’université de Caen Normandie et Sciences-Po Rennes\, une semaine de formation à la maîtrise d’usage : « Faire société avec la Terre »\, centrée sur la basse vallée de l’Orne (de la forêt de Grimbosq à l’estuaire de l’Orne).  \n\n\n\nEnjeux :  \n\n\n\n\n Penser\, échanger\, agir ensemble du local au global\n\n\n\nComprendre le jeu d’acteurs à l’échelle locale\n\n\n\nApprendre et comprendre la diversité et la complexité de l’action publique\n\n\n\nPorter soin et attention ici et à l’ailleurs\n\n\n\nAppréhender les effets du changement climatique sur la région urbaine de Caen\n\n\n\n\nLa semaine de formation à la maîtrise d’usage est gratuite et ouverte à l’ensemble des habitantes et habitants intéressés. Renseignements et inscriptions : Anne-Marie Fixot (annemariefixot@wanadoo.fr) \n\n\n\nProgramme de la semaine de formation à la maîtrise d’usage (pdf · 178 Ko)Télécharger (pdf · 178 Ko)
URL:https://www.unicaen.fr/evenement/formation-a-la-maitrise-dusage-faire-societe-avec-la-terre/
CATEGORIES:Vie de campus
END:VEVENT
BEGIN:VEVENT
DTSTART;TZID=Europe/Paris:20231016T180000
DTEND;TZID=Europe/Paris:20231016T193000
DTSTAMP:20260422T184118
CREATED:20230911T094754Z
LAST-MODIFIED:20230911T094756Z
UID:51907-1697479200-1697484600@www.unicaen.fr
SUMMARY:L’humain face aux défis de demain
DESCRIPTION:Explorez les capacités du corps humain avec l’équipe scientifique des expéditions “Deep Climate » et la nageuse de l’extrême\, Marion Joffle. \n\n\n\nDérèglements climatiques\, nouveaux équilibres géopolitiques\, essor des nouvelles technologies : notre monde se transforme à grande vitesse et nous contraint à évoluer avec lui. Pourtant\, nous en savons encore très peu sur les capacités d’adaptation de notre corps et sur la manière de nous y préparer. \n\n\n\nCette question est au coeur des travaux de “Vertige Extrême” (VERTEX)\, une jeune unité de recherche de l’université de Caen Normandie menée par Stéphane Besnard\, également directeur scientifique de “Deep Climate”\, un triptyque d’expéditions exceptionnelles dans les forêts chaudes et humides de Guyane\, le froid polaire de Laponie septentrionale et le désert aride d’Arabie saoudite destiné à étudier l’impact de ces climats dits “extrêmes” sur notre corps\, notre comportement en groupe et notre capacité d’adaptation dans des conditions difficiles. \n\n\n\nProgramme \n\n\n\nStéphane Besnard nous dévoilera les premiers enseignements de ces expéditions lors de la soirée de clôture de cette 32e Fête de la Science en Normandie proposée par Epopea – Science & Innovation Park. Il sera accompagné de Benoît Mauvieux\, chronobiologiste à l’université de Caen Normandie et fondateur de l’ultra-trail scientifique de Clécy\, et Fanny Boissée\, porteuse du projet “Vestia Connect”. La Caennaise et nageuse de l’extrême Marion Joffle\, première Française à avoir parcouru 1 000 mètres en eau glacée\, sera également présente pour nous partager son expérience. \n\n\n\nCette rencontre sera précédée des présentations de trois jeunes chercheurs et chercheuses en doctorat et sera suivie de la remise du Prix “Epopea”\, qui récompense un projet innovant né sur le Science & Innovation Park EPOPEA.
URL:https://www.unicaen.fr/evenement/lhumain-face-aux-defis-de-demain/
LOCATION:Caen · Campus 2 · École nationale supérieure d’ingénieurs de Caen (ENSICAEN)\, École nationale supérieure d'ingénieurs de Caen (ENSICAEN)\, 6 Boulevard Maréchal Juin\, Caen\, 14000\, France
CATEGORIES:Festival,Fête de la science,Recherche
ATTACH;FMTTYPE=image/jpeg:https://www.unicaen.fr/wp-content/uploads/2023/09/FDS-2023.jpg
END:VEVENT
BEGIN:VEVENT
DTSTART;TZID=Europe/Paris:20231016T200000
DTEND;TZID=Europe/Paris:20231016T200000
DTSTAMP:20260422T184118
CREATED:20230929T084915Z
LAST-MODIFIED:20250225T085407Z
UID:53199-1697486400-1697486400@www.unicaen.fr
SUMMARY:The Old Oak
DESCRIPTION:Projection en avant-première. \n\n\n\nDe Ken Loach | Avec Dave Turner\, Ebla Mari\, Claire Rodgerson \n\n\n\nSynopsis\n\n\n\nTJ Ballantyne est le propriétaire du « Old Oak »\, un pub situé dans une petite bourgade du nord de l’Angleterre. Il y sert quotidiennement les mêmes habitués désœuvrés pour qui l’endroit est devenu le dernier lieu où se retrouver. L’arrivée de réfugiés syriens va créer des tensions dans le village. TJ va cependant se lier d’amitié avec Yara\, une jeune migrante passionnée par la photographie. Ensemble\, ils vont tenter de redonner vie à la communauté locale en développant une cantine pour les plus démunis\, quelles que soient leurs origines. \n\n\n\nTarifs\n\n\n\n\nTarif étudiant UNICAEN : 2 € grâce à la Contribution de vie étudiante et de campus\n\n\n\nTarif réduit : 4€50\n\n\n\nTarif plein : 5€50\n\n\n\n\nVous pouvez\, dès à présent\, acheter vos billets au tarif étudiant ainsi que vos billets au tarif réduit et tarif plein.
URL:https://www.unicaen.fr/evenement/the-old-oak/
LOCATION:Caen · Campus 1 · Bâtiment P · Amphi Pierre Daure\, Amphithéâtre Pierre Daure\, Esplanade de la Paix\, Caen\, 14000\, France
CATEGORIES:Projection - Cinéma,Vie de campus
ATTACH;FMTTYPE=image/jpeg:https://www.unicaen.fr/wp-content/uploads/2023/09/the_old_oak.jpg
END:VEVENT
END:VCALENDAR