BEGIN:VCALENDAR
VERSION:2.0
PRODID:-//Université de Caen Normandie - ECPv6.15.18//NONSGML v1.0//EN
CALSCALE:GREGORIAN
METHOD:PUBLISH
X-WR-CALNAME:Université de Caen Normandie
X-ORIGINAL-URL:https://www.unicaen.fr
X-WR-CALDESC:Évènements pour Université de Caen Normandie
REFRESH-INTERVAL;VALUE=DURATION:PT1H
X-Robots-Tag:noindex
X-PUBLISHED-TTL:PT1H
BEGIN:VTIMEZONE
TZID:Europe/Paris
BEGIN:DAYLIGHT
TZOFFSETFROM:+0100
TZOFFSETTO:+0200
TZNAME:CEST
DTSTART:20220327T010000
END:DAYLIGHT
BEGIN:STANDARD
TZOFFSETFROM:+0200
TZOFFSETTO:+0100
TZNAME:CET
DTSTART:20221030T010000
END:STANDARD
BEGIN:DAYLIGHT
TZOFFSETFROM:+0100
TZOFFSETTO:+0200
TZNAME:CEST
DTSTART:20230326T010000
END:DAYLIGHT
BEGIN:STANDARD
TZOFFSETFROM:+0200
TZOFFSETTO:+0100
TZNAME:CET
DTSTART:20231029T010000
END:STANDARD
BEGIN:DAYLIGHT
TZOFFSETFROM:+0100
TZOFFSETTO:+0200
TZNAME:CEST
DTSTART:20240331T010000
END:DAYLIGHT
BEGIN:STANDARD
TZOFFSETFROM:+0200
TZOFFSETTO:+0100
TZNAME:CET
DTSTART:20241027T010000
END:STANDARD
END:VTIMEZONE
BEGIN:VEVENT
DTSTART;TZID=Europe/Paris:20230905T000000
DTEND;TZID=Europe/Paris:20231013T235959
DTSTAMP:20260421T045352
CREATED:20230907T145242Z
LAST-MODIFIED:20230907T145243Z
UID:51653-1693872000-1697241599@www.unicaen.fr
SUMMARY:Villes Développées
DESCRIPTION:Exposition photographique de Milan Bergin\n\n\n\nVenez découvrir dès maintenant à la MDE\, l’exposition « Villes développées » de Milan Bergin\, lauréat du festival pluri-artistique Younivers. Entre architecture et portraits\, 16 œuvres vous attendent dans la cafet’. \n\n\n\nLe vernissage de l’artiste aura lieu le mardi 3 octobre à 18h30 lors de la soirée de rentrée culturelle de la Maison de l’Etudiant. \n\n\n\nHoraires : du lundi au jeudi de 8h30 à 15h30 et le vendredi de 8h30 à 14h.Contact : 02 31 56 60 96
URL:https://www.unicaen.fr/evenement/villes-developpees/
LOCATION:Caen · Campus 1 · Maison de l’étudiant (MDE)\, Maison de l'étudiant Université de Caen\, Rue Colonel Usher\, Caen\, 14000\, France
CATEGORIES:Exposition,Vie de campus
ATTACH;FMTTYPE=image/jpeg:https://www.unicaen.fr/wp-content/uploads/2023/09/expo_MilanBergin.jpg
END:VEVENT
BEGIN:VEVENT
DTSTART;TZID=Europe/Paris:20231003T090000
DTEND;TZID=Europe/Paris:20231103T180000
DTSTAMP:20260421T045352
CREATED:20230927T105507Z
LAST-MODIFIED:20231222T144814Z
UID:54000-1696323600-1699034400@www.unicaen.fr
SUMMARY:Science ou science-fiction ? - Exposition BU Blanche-Maupas (Cherbourg-en-Cotentin)
DESCRIPTION:Exposition dans le cadre de la fête de la science\n\n\n\nQuelle distance Gandalf (dans Le seigneur des anneaux) parcourt-il pendant sa chute ?Serait-il possible de devenir vert\, tel Hulk lorsqu’il est en colère ?Chaque panneau de cette exposition propose un focus sur un film\, une série\, un jeu vidéo… avec l’objectif de montrer ce qui relève de la science ou de la science-fiction.L’exposition est réalisée par des étudiants de la licence 3 de physique et chimie à l’université de Caen Normandie\, dans le cadre de leurs cours d’anglais avec Madame Legrix-Pagès. \n\n\n\nD’autres événements pour la fête de la science\n\n\n\nBU Rosalind-Franklin – campus 2 – Caen \n\n\n\nBU Blanche-Maupas – Cherbourg-en-Cotentin \n\n\n\nVillages des sciences Caen et Cherbourg-en-cotentin
URL:https://www.unicaen.fr/evenement/science-ou-science-fiction-exposition-bu-blanche-maupas-cherbourg/
LOCATION:Cherbourg-en-Cotentin · BU Blanche-Maupas\, Bibliothèque Universitaire Blanche Maupas\, Rue Max Pol Fouchet\, Cherbourg-en-Cotentin\, 50130\, France
CATEGORIES:Exposition,Fête de la science,Vie de campus
ATTACH;FMTTYPE=image/jpeg:https://www.unicaen.fr/wp-content/uploads/2023/10/expo-science-BUBM.jpg
END:VEVENT
BEGIN:VEVENT
DTSTART;TZID=Europe/Paris:20231006T000000
DTEND;TZID=Europe/Paris:20231016T235959
DTSTAMP:20260421T045352
CREATED:20230911T092143Z
LAST-MODIFIED:20230919T072855Z
UID:51896-1696550400-1697500799@www.unicaen.fr
SUMMARY:Aux sports citoyens !
DESCRIPTION:Sport\, société et nation en France au 20e siècle à travers les archives du Calvados \n\n\n\nÀ travers des archives inédites originales\, documents publics ou privés en partie issus des collectes réalisées auprès des clubs locaux et des particuliers\, cette exposition offre non seulement une plongée dans le sport et sur l’histoire du mouvement sportif\, mais elle revient sur l’évolution de la société dans son ensemble : des pratiques aristocratiques de la fin du 19e siècle\, aux grands événements sportifs populaires\, le chemin aura été long vers la complète démocratisation du sport et de l’accès au sport pour tous. \n\n\n\nCette exposition s’inscrit dans le cadre de la mobilisation du Département du Calvados labellisé Terre de Jeux 2024. Les Jeux Olympiques et Paralympiques de 2024 sont en effet une occasion exceptionnelle de célébrer le sport et de retracer son rôle essentiel comme vecteur de lien social\, de liberté individuelle et bien sûr\, de santé et d’épanouissement. \n\n\n\n\nLa BU Rosalind Franklin propose des visites guidées de l’exposition les 14 & 15 octobre (10h-18h) à l’occasion de la Fête de la science.
URL:https://www.unicaen.fr/evenement/aux-sports-citoyens/
LOCATION:Caen · Campus 2 · BU Rosalind-Franklin\, BU Rosalind-Franklin\, Campus 2\, Côte de Nacre\, Boulevard Maréchal Juin\, Caen\, 14032\, France
CATEGORIES:Festival,Fête de la science,Recherche
ATTACH;FMTTYPE=image/jpeg:https://www.unicaen.fr/wp-content/uploads/2023/09/FDS-2023.jpg
END:VEVENT
BEGIN:VEVENT
DTSTART;TZID=Europe/Paris:20231009T000000
DTEND;TZID=Europe/Paris:20231015T235959
DTSTAMP:20260421T045352
CREATED:20230911T110458Z
LAST-MODIFIED:20230922T075727Z
UID:51938-1696809600-1697414399@www.unicaen.fr
SUMMARY:La vie d’antan en Normandie… par les fossiles
DESCRIPTION:Circuit chronologique des fossiles du musée de géologie de l’université de Caen : histoire du monde vivant en Normandie depuis 600 millions d’années. \n\n\n\nL’histoire de la planète Terre implique de façon indissociable d’une part l’histoire du monde minéral avec l’activité volcanique\, la tectonique des plaques\, l’édification des chaînes de montagnes\, leur arasement par l’érosion\, le déplacement conséquent des masses d’eau\, les variations climatiques\, et d’autre part l’histoire du monde vivant végétal et animal qui subit toute cette évolution géologique. \n\n\n\nDe ce monde vivant d’antan subsistent des traces\, ce sont les fossiles qu’on trouve mélangés aux roches dans les terrains datant parfois de plusieurs centaines de millions d’années. \n\n\n\nBien plus\, les fossiles sont des marqueurs de l’âge des terrains car l’évolution des espèces vivantes depuis 600 millions d’années est parsemée d’extinctions de masse qui ont vu disparaître telle espèce dominante permettant à d’autres espèces de se développer. L’exemple le plus connu est la disparition des dinosaures il y a 65 millions d’années ce qui a permis aux mammifères\, et parmi eux\, l’espèce humaine\, d’apparaître et se développer. \n\n\n\nC’est ainsi que le calendrier géologique est constitué de périodes délimitées par des événements repérés par des apparitions et extinctions d’espèces vivantes. \n\n\n\nDans les vitrines du musée de géologie de l’université de Caen\, on peut suivre cette chronologie à la fois sur les roches et les fossiles de Normandie. \n\n\n\nAu précambrien\, pas de fossile mais des roches parmi les plus anciennes de France métropolitaine (2 milliards d’années). \n\n\n\nL’ère primaire (paléozoïque) voit apparaître les animaux à coquille et les trilobites\, c’est une période où la plaque Armorica qui supporte la Normandie se situe dans l’hémisphère sud et se déplace vers l’équateur. Vient alors une période de chaleur extrême (carbonifère) ou la végétation prolifère et produit du charbon et des empreintes fossilisées sur des schistes. \n\n\n\nAprès une extinction de masse\, l’ère secondaire (mésozoïque) est marquée d’abord par les poissons au Trias\, puis par les reptiles et dinosaures au Jurassique et au Crétacé. De nombreux fossiles d’animaux marins\, nautiles\, oursins\, huitres d’antan sont aussi présents dans le musée car la partie orientale de la Normandie est alors recouverte par la mer. \n\n\n\nAprès l’extinction des dinosaures vient enfin le cénozoïque (ères tertiaire et quaternaire) marqué par l’évolution des mammifères et de l’humanité. \n\n\n\nProgramme\n\n\n\nLa visite dure environ 1 heure et se fait en mode glissant grâce à un livret-guide distribué à tous les visiteurs. Néanmoins la capacité d’accueil du musée est de 30 personnes si bien qu’à certaines heures\, il peut y avoir un peu d’attente.Les visites auront lieu du lundi 9 au dimanche 15 octobre\, de 17h à 19h en semaine et de 10h à 18h le week-end. \n\n\n\nInformations pratiques\n\n\n\nCette opération de la Fête de la Science 2023 a lieu au campus 1 de l’université de Caen Normandie\, au musée de géologie situé au rez-de-chaussée de la bibliothèque Pierre Sineux (accès indépendant au sud du bâtiment)\, du 9 au 15 octobre 2023. Pendant le week-end des 14 et 15 octobre\, l’ouverture du musée au public est labellisée comme une animation délocalisée au campus 1 (hors les murs) du Village des Sciences de Caen.
URL:https://www.unicaen.fr/evenement/la-vie-dantan-en-normandie-par-les-fossiles/
CATEGORIES:Festival,Fête de la science,Recherche
ATTACH;FMTTYPE=image/jpeg:https://www.unicaen.fr/wp-content/uploads/2023/09/FDS-2023.jpg
END:VEVENT
BEGIN:VEVENT
DTSTART;TZID=Europe/Paris:20231011T000000
DTEND;TZID=Europe/Paris:20231012T235959
DTSTAMP:20260421T045352
CREATED:20230911T102529Z
LAST-MODIFIED:20230911T102531Z
UID:51919-1696982400-1697155199@www.unicaen.fr
SUMMARY:Le LUSAC : visites et découvertes de la recherche scientifique et industrielle
DESCRIPTION:Le LUSAC et le département de formation BUT MT2E proposent des visites de leurs plateformes d’expérimentation scientifiques (domaine science pour l’ingénieur). \n\n\n\n\n10h \n\n\n\n\n\ntout public : entrée libre | scolaires : réservation obligatoire hasna.louahlia@unicaen.fr
URL:https://www.unicaen.fr/evenement/le-lusac-visites-et-decouvertes-de-la-recherche-scientifique-et-industrielle/
LOCATION:Cherbourg-en-Cotentin · LUSAC\, LUSAC\, 145 Chem. de la Crespinière\, Cherbourg-en-Cotentin\, 50130\, France
CATEGORIES:Festival,Fête de la science,Recherche
ATTACH;FMTTYPE=image/jpeg:https://www.unicaen.fr/wp-content/uploads/2023/09/FDS-2023.jpg
END:VEVENT
BEGIN:VEVENT
DTSTART;TZID=Europe/Paris:20231011T090000
DTEND;TZID=Europe/Paris:20231011T170000
DTSTAMP:20260421T045352
CREATED:20230929T121634Z
LAST-MODIFIED:20230929T125308Z
UID:53219-1697014800-1697043600@www.unicaen.fr
SUMMARY:Quels enjeux en éducation et en formation à la durabilité ?
DESCRIPTION:L’INSPÉ Normandie Caen organise une journée de réflexions et d’échanges autour de la question des enjeux de l’éducation et de la formation à la question de la durabilité. \n\n\n\nLa journée comprendra plusieurs conférences autour du développement durable\, des écogestes\, de l’écoféminisme et de la contribution des acteurs de l’éducation aux questions de durabilité. Des moments d’échanges sont également prévus. Dans l’après-midi\, les réflexions se prolongeront dans le cadre d’ateliers.  \n\n\n\nUn goûter normand vous sera offert en fin de journée dans le hall de l’INSPÉ. \n\n\n\nLa participation à la journée est libre mais sur inscription en complétant le formulaire en ligne. \n\n\n\nProgramme détaillé de la journée \n\n\n\nJournée organisée par Anne Quentin (responsable scientifique\, référente développement durable\, INSPÉ Normandie Caen\, doctorante au laboratoire CIRNEF)
URL:https://www.unicaen.fr/evenement/quels-enjeux-en-education-et-en-formation-a-la-durabilite/
LOCATION:Caen · INSPÉ\, INSPÉ Caen Normandie\, 186 Rue de la Délivrande\, Caen\, 14000\, France
CATEGORIES:Développement durable,Journée d'étude
ATTACH;FMTTYPE=image/jpeg:https://www.unicaen.fr/wp-content/uploads/2023/09/2023-09-27_JE_Durabilite_vignette_wordpress.jpg
END:VEVENT
BEGIN:VEVENT
DTSTART;TZID=Europe/Paris:20231011T180000
DTEND;TZID=Europe/Paris:20231011T193000
DTSTAMP:20260421T045352
CREATED:20231002T140329Z
LAST-MODIFIED:20250307T090055Z
UID:53346-1697047200-1697052600@www.unicaen.fr
SUMMARY:Rencontre avec des étudiants entrepreneurs
DESCRIPTION:Venez découvrir le dispositif Pépite Normandie et échanger avec les étudiantes et étudiants entrepreneurs sur le programme d’accompagnement et de formation du Pépite. \n\n\n\nL’équipe du Pépite Normandie vous attend nombreux et nombreuses sur Zoom le mercredi 11 octobre 2023 à 18h00. \n\n\n\nAccès libre\, gratuit et sans inscription \n\n\n\nPépite est un programme gratuit de sensibilisation à l’esprit d’entreprendre et d’accompagnement à l’entrepreneuriat des étudiants et jeunes diplômés. \n\n\n\nEn savoir plus
URL:https://www.unicaen.fr/evenement/rencontre-avec-des-etudiants-entrepreneurs/
CATEGORIES:Rencontre
ATTACH;FMTTYPE=image/jpeg:https://www.unicaen.fr/wp-content/uploads/2023/10/Rencontre-PEPITE.jpg
END:VEVENT
BEGIN:VEVENT
DTSTART;TZID=Europe/Paris:20231011T180000
DTEND;TZID=Europe/Paris:20231011T193000
DTSTAMP:20260421T045352
CREATED:20231004T152339Z
LAST-MODIFIED:20231004T153116Z
UID:53522-1697047200-1697052600@www.unicaen.fr
SUMMARY:Écrire l'histoire de l'avortement volontaire en France à l'époque moderne
DESCRIPTION:avec Laura Tatoueix\, chargée de recherche postdoctorale\, au sein du LabEx Hastec/Archives Nationales \n\n\n\nL’avortement en France à l’époque moderne est une pratique interdite et\, par conséquent\, peu visible dans les sources. Pourtant les contours de cette interdiction sont flous et il fait l’objet d’un travail nouveau de définition à l’époque moderne alors même que les pratiques évoluent et continuent d’échapper à la répression. L’ambition de cette recherche a donc été\, entre normes et pratiques\, d’analyser précisément les enjeux de la définition de l’avortement autant que de mettre au jour les modalités de cette pratique interdite.  \n\n\n\nCette conférence académique\, organisée par l’Association des professeurs d’histoire et de géographie de Basse-Normandie et le laboratoire HisTeMé\, sera suivie d’un temps d’échange avec le public\, en présence de l’association étudiante « Les mains violettes » pour la lutte contre les violences sexistes et sexuelles à l’université.  \n\n\n\n\nentrée libre et gratuite
URL:https://www.unicaen.fr/evenement/ecrire-lhistoire-de-lavortement-volontaire-en-france-a-lepoque-moderne/
LOCATION:Caen · Campus 1 · Bâtiment N · Amphi Nicolas-Louis Vauquelin\, Esplanade de la Paix\, Caen\, 14000\, France
CATEGORIES:Conférence,Recherche,Sciences humaines et sociales
ATTACH;FMTTYPE=image/png:https://www.unicaen.fr/wp-content/uploads/2023/10/conference-avortement.png
END:VEVENT
BEGIN:VEVENT
DTSTART;TZID=Europe/Paris:20231011T184500
DTEND;TZID=Europe/Paris:20231011T193000
DTSTAMP:20260421T045352
CREATED:20230901T094012Z
LAST-MODIFIED:20230911T074014Z
UID:51263-1697049900-1697052600@www.unicaen.fr
SUMMARY:Sports et villégiatures balnéaires en Normandie à la Belle époque (1880-1914)
DESCRIPTION:Une invitation à explorer la « nouvelle offre sportive » des stations balnéaires de la Côte Fleurie et Côte de Nacre et ses enjeux à la Belle Époque. \n\n\n\nLa Normandie est une destination privilégiée des touristes à la fin du XIXe siècle. De Honfleur à Merville-Franceville et de Ouistreham-Riva Bella à Courseulles\, les stations balnéaires de la Côte Fleurie et de la Côte de Nacre se développent et profitent de leurs vastes plages pour attirer une clientèle fortunée. La question des loisirs occupe une place particulière : les casinos\, théâtres\, salles de jeu et autres espaces de sociabilité se multiplient dans les stations. Les activités sportives\, pratiques élitistes à la fin du XIXe siècle\, font partie de ces propositions distractives et prisées par les touristes : concours hippiques\, courses cyclistes\, tir aux pigeons\, meetings aériens et autres courses automobiles animent le quotidien et les saisons balnéaires. La présentation invite à explorer cette « nouvelle offre sportive » balnéaire et ses enjeux à la Belle Époque.
URL:https://www.unicaen.fr/evenement/sports-et-villegiatures-balneaires-en-normandie-a-la-belle-epoque-1880-1914-fete-de-la-science-2023/
LOCATION:Caen · Campus 2 · BU Rosalind-Franklin\, BU Rosalind-Franklin\, Campus 2\, Côte de Nacre\, Boulevard Maréchal Juin\, Caen\, 14032\, France
CATEGORIES:Festival,Fête de la science,Recherche,Vie de campus
ATTACH;FMTTYPE=image/jpeg:https://www.unicaen.fr/wp-content/uploads/2023/09/FDS-2023.jpg
END:VEVENT
BEGIN:VEVENT
DTSTART;TZID=Europe/Paris:20231011T200000
DTEND;TZID=Europe/Paris:20231011T213000
DTSTAMP:20260421T045352
CREATED:20230901T100134Z
LAST-MODIFIED:20240528T123545Z
UID:51282-1697054400-1697059800@www.unicaen.fr
SUMMARY:Dans les coulisses du eSport
DESCRIPTION:Quelles sont les stratégies des clubs et le modèle économique de l’industrie de l’E-Sport professionnel français ? \n\n\n\nL’E-sport devient chaque année de plus en plus populaire et sa croissance s’intensifie. Les compétitions se professionnalisent et sont plus que jamais rendues accessibles au grand public. Grâce au streaming\, les matchs se regardent en ligne.Comment les clubs posent-ils leur modèle économique ? Ce modèle est-il rentable ? Quelles sont les stratégies des investisseurs ?William De Moor\, chercheur à l’université de Caen Normandie au CREM\, vient nous parler de son sujet de thèse. Dans ce cadre\, il analyse les revenus\, dépenses\, profitabilité des clubs et les mécanismes de régulation utilisés par les ligues pour tenter d’agir sur les comportements économiques des clubs et de ces modèles. \n\n\n\n\n\nMédiathèque Jean Marot – 7 Rue des Écoles – Mathieu 02 31 54 57 61
URL:https://www.unicaen.fr/evenement/dans-les-coulisses-du-esport-fete-de-la-science-2023/
CATEGORIES:Festival,Fête de la science,Recherche,Vie de campus
ATTACH;FMTTYPE=image/jpeg:https://www.unicaen.fr/wp-content/uploads/2023/09/FDS-2023.jpg
END:VEVENT
END:VCALENDAR