BEGIN:VCALENDAR
VERSION:2.0
PRODID:-//Université de Caen Normandie - ECPv6.15.18//NONSGML v1.0//EN
CALSCALE:GREGORIAN
METHOD:PUBLISH
X-ORIGINAL-URL:https://www.unicaen.fr
X-WR-CALDESC:Évènements pour Université de Caen Normandie
REFRESH-INTERVAL;VALUE=DURATION:PT1H
X-Robots-Tag:noindex
X-PUBLISHED-TTL:PT1H
BEGIN:VTIMEZONE
TZID:Europe/Paris
BEGIN:DAYLIGHT
TZOFFSETFROM:+0100
TZOFFSETTO:+0200
TZNAME:CEST
DTSTART:20220327T010000
END:DAYLIGHT
BEGIN:STANDARD
TZOFFSETFROM:+0200
TZOFFSETTO:+0100
TZNAME:CET
DTSTART:20221030T010000
END:STANDARD
BEGIN:DAYLIGHT
TZOFFSETFROM:+0100
TZOFFSETTO:+0200
TZNAME:CEST
DTSTART:20230326T010000
END:DAYLIGHT
BEGIN:STANDARD
TZOFFSETFROM:+0200
TZOFFSETTO:+0100
TZNAME:CET
DTSTART:20231029T010000
END:STANDARD
BEGIN:DAYLIGHT
TZOFFSETFROM:+0100
TZOFFSETTO:+0200
TZNAME:CEST
DTSTART:20240331T010000
END:DAYLIGHT
BEGIN:STANDARD
TZOFFSETFROM:+0200
TZOFFSETTO:+0100
TZNAME:CET
DTSTART:20241027T010000
END:STANDARD
END:VTIMEZONE
BEGIN:VEVENT
DTSTART;TZID=Europe/Paris:20230905T000000
DTEND;TZID=Europe/Paris:20231013T235959
DTSTAMP:20260425T125754
CREATED:20230907T145242Z
LAST-MODIFIED:20230907T145243Z
UID:51653-1693872000-1697241599@www.unicaen.fr
SUMMARY:Villes Développées
DESCRIPTION:Exposition photographique de Milan Bergin\n\n\n\nVenez découvrir dès maintenant à la MDE\, l’exposition « Villes développées » de Milan Bergin\, lauréat du festival pluri-artistique Younivers. Entre architecture et portraits\, 16 œuvres vous attendent dans la cafet’. \n\n\n\nLe vernissage de l’artiste aura lieu le mardi 3 octobre à 18h30 lors de la soirée de rentrée culturelle de la Maison de l’Etudiant. \n\n\n\nHoraires : du lundi au jeudi de 8h30 à 15h30 et le vendredi de 8h30 à 14h.Contact : 02 31 56 60 96
URL:https://www.unicaen.fr/evenement/villes-developpees/
LOCATION:Caen · Campus 1 · Maison de l’étudiant (MDE)\, Maison de l'étudiant Université de Caen\, Rue Colonel Usher\, Caen\, 14000\, France
CATEGORIES:Exposition,Vie de campus
ATTACH;FMTTYPE=image/jpeg:https://www.unicaen.fr/wp-content/uploads/2023/09/expo_MilanBergin.jpg
END:VEVENT
BEGIN:VEVENT
DTSTART;TZID=Europe/Paris:20231002T100000
DTEND;TZID=Europe/Paris:20231002T120000
DTSTAMP:20260425T125754
CREATED:20230919T130612Z
LAST-MODIFIED:20230919T130637Z
UID:52627-1696240800-1696248000@www.unicaen.fr
SUMMARY:Atelier CV & lettre - stage
DESCRIPTION:Objectifs\n\nIdentifier les critères clés d’un CV et d’une lettre de motivation efficace\nEchanger pour améliorer ses CV & lettres\n\nModalités\n\nDurée : 2h\nPublic : candidats en recherche de stage \n\nSelon les dates\, l’atelier se déroulera: \n\nen présentiel sur le campus 1 ou 2\nou en distanciel \n\nInscription\nInscription obligatoire en ligne via le Career center.Nombre de places limité. \nProchaines dates\n\nvendredi 6 octobre  2023- 10h 12h – CAMPUS 2\nmardi 10 octobre 2023-  10h 12h – CAMPUS 1\nvendredi 13 octobre 2023 10h 12h – VISIO\nmercredi 18 octobre 2023 – CAMPUS 1
URL:https://www.unicaen.fr/evenement/atelier-cv-lettre-stage/
LOCATION:Caen · Campus 1 · Bâtiment B · Espace Orientation Insertion (EOI)\, Bâtiment B\, Esplanade de la Paix\, Caen\, 14000\, France
CATEGORIES:Orientation
ORGANIZER;CN="Espace orientation insertion (EOI)":MAILTO:orientationinsertion@unicaen.fr
END:VEVENT
BEGIN:VEVENT
DTSTART;TZID=Europe/Paris:20231002T120000
DTEND;TZID=Europe/Paris:20231002T124500
DTSTAMP:20260425T125754
CREATED:20230922T100500Z
LAST-MODIFIED:20240719T141833Z
UID:52984-1696248000-1696250700@www.unicaen.fr
SUMMARY:Les politiques publiques face aux plateformes digitales : exemple de la Normandie
DESCRIPTION:« Airbnb\, Amazon\, UBER… ça vous parle ? » \n\n\n\nTout le monde connait ! Et pourtant\, connaissez-vous l’impact de ces plateformes sur votre environnement au quotidien ? Accès au logement\, mobilité\, adaptation des politiques locales à ces nouveaux modes de consommation : Exemple de la Normandie …«  \n\n\n\nParlons-en avec Mathilde AUBRY\, Enseignant Chercheur en Economie et Entreprenariat à l’Ecole de Management de Normandie et Responsable de la Chaire DIOT « Digitalisation et Innovation dans les Organisations et les Territoires). \n\n\n\nLa Chaire DIOT de l’EM Normandie s’est intéressée à ce sujet d’actualité. Les résultats de leur étude mettent en évidence le paradoxe auquel les acteurs publics sont aujourd’hui confrontés : entre attractivité et nouvelles nuisances\, les acteurs du territoire normand s’adaptent. \n\n\n\n\nClôture des inscriptions le 28/09\n\n\n\nInscription à la conférence (en bas de la page) \n\n\n\n\n\nRetrouvez toutes les conférences scientifiques EPOPEA 2023-2024
URL:https://www.unicaen.fr/evenement/les-politiques-publiques-face-aux-plateformes-digitales-exemple-de-la-normandie-conference-bu-rosalind-franklin/
LOCATION:Caen · Campus 2 · BU Rosalind-Franklin\, BU Rosalind-Franklin\, Campus 2\, Côte de Nacre\, Boulevard Maréchal Juin\, Caen\, 14032\, France
CATEGORIES:Conférence,Recherche
ATTACH;FMTTYPE=image/jpeg:https://www.unicaen.fr/wp-content/uploads/2023/09/conf-EPOPEA.jpg
END:VEVENT
BEGIN:VEVENT
DTSTART;TZID=Europe/Paris:20231002T183000
DTEND;TZID=Europe/Paris:20231002T193000
DTSTAMP:20260425T125754
CREATED:20230925T093434Z
LAST-MODIFIED:20230926T122653Z
UID:53015-1696271400-1696275000@www.unicaen.fr
SUMMARY:Engagement étudiant
DESCRIPTION:Vous êtes bénévole au sein d’une association\, vous êtes sapeur-pompier volontaire\, vous avez une mission de service civique ou une activité professionnelle… les compétences et savoir-faire acquis au cours de votre activité peuvent être validées dans votre cursus d’études.  \n\n\n\nIl existe deux phases de candidature* au cours de l’année : \n\n\n\n\ndu 9 octobre au 10 novembre 2023 sur eCandidat\n\n\n\ndu 12 février au 15 mars 2024\n\n\n\n\n* Les étudiants des UFR Psychologie et Sciences peuvent uniquement candidater sur la première phase. \n\n\n\nRéunion d’information \n\n\n\nAu cours de cette réunion d’information\, qui se déroulera le lundi 2 octobre à 18h30 sur le campus 1 ou à distance\, nous vous présenterons le dispositif\, les différentes formes d’engagement qui peuvent être valorisées et les modalités d’évaluation et de validation. Des étudiantes et étudiants ayant déjà eu recours à l’engagement étudiant viendront également témoigner de leurs expériences. \n\n\n\nCette réunion d’information sera également proposée en direct en visio-conférence (lien de connexion) pour les personnes qui ne pourront pas se déplacer. \n\n\n\n \n\n\n\n\nEngagement étudiant : dispositif\, procédure et modalité
URL:https://www.unicaen.fr/evenement/engagement-etudiant/
LOCATION:Caen · Campus 1 · Bâtiment B · Amphi Daniel Huet\, Bâtiment B\, Esplanade de la Paix\, Caen\, 14000\, France
CATEGORIES:Université
END:VEVENT
END:VCALENDAR