BEGIN:VCALENDAR
VERSION:2.0
PRODID:-//Université de Caen Normandie - ECPv6.15.18//NONSGML v1.0//EN
CALSCALE:GREGORIAN
METHOD:PUBLISH
X-ORIGINAL-URL:https://www.unicaen.fr
X-WR-CALDESC:Évènements pour Université de Caen Normandie
REFRESH-INTERVAL;VALUE=DURATION:PT1H
X-Robots-Tag:noindex
X-PUBLISHED-TTL:PT1H
BEGIN:VTIMEZONE
TZID:Europe/Paris
BEGIN:DAYLIGHT
TZOFFSETFROM:+0100
TZOFFSETTO:+0200
TZNAME:CEST
DTSTART:20220327T010000
END:DAYLIGHT
BEGIN:STANDARD
TZOFFSETFROM:+0200
TZOFFSETTO:+0100
TZNAME:CET
DTSTART:20221030T010000
END:STANDARD
BEGIN:DAYLIGHT
TZOFFSETFROM:+0100
TZOFFSETTO:+0200
TZNAME:CEST
DTSTART:20230326T010000
END:DAYLIGHT
BEGIN:STANDARD
TZOFFSETFROM:+0200
TZOFFSETTO:+0100
TZNAME:CET
DTSTART:20231029T010000
END:STANDARD
BEGIN:DAYLIGHT
TZOFFSETFROM:+0100
TZOFFSETTO:+0200
TZNAME:CEST
DTSTART:20240331T010000
END:DAYLIGHT
BEGIN:STANDARD
TZOFFSETFROM:+0200
TZOFFSETTO:+0100
TZNAME:CET
DTSTART:20241027T010000
END:STANDARD
END:VTIMEZONE
BEGIN:VEVENT
DTSTART;TZID=Europe/Paris:20230424T000000
DTEND;TZID=Europe/Paris:20230616T235959
DTSTAMP:20260423T144541
CREATED:20230420T085654Z
LAST-MODIFIED:20230531T053721Z
UID:47809-1682294400-1686959999@www.unicaen.fr
SUMMARY:Exposition Ex-libris
DESCRIPTION:La bibliothèque universitaire Pierre-Sineux vous propose de découvrir quelques ex-libris\, ex-dono et marques de provenance issus des collections. Cette exposition a été conçue par Simon Dennebouy\, étudiant en Master accueilli en stage à la BU Pierre-Sineux. \nEntrée libre et gratuite aux horaires d’ouverture de la BU Pierre-Sineux.
URL:https://www.unicaen.fr/evenement/exposition-ex-libris/
LOCATION:Caen · Campus 1 · BU Pierre-Sineux\, Bibliothèque Universitaire Pierre-Sineux\, Esplanade de la Paix\, Caen\, 14000\, France
CATEGORIES:Exposition,Vie de campus
ATTACH;FMTTYPE=image/png:https://www.unicaen.fr/wp-content/uploads/2023/05/ex_libris_1000x400.png
END:VEVENT
BEGIN:VEVENT
DTSTART;TZID=Europe/Paris:20230509T000000
DTEND;TZID=Europe/Paris:20230904T235959
DTSTAMP:20260423T144541
CREATED:20230509T100201Z
LAST-MODIFIED:20230905T142718Z
UID:47811-1683590400-1693871999@www.unicaen.fr
SUMMARY:Cabu\, dessinateur-citoyen
DESCRIPTION:Cette exposition qui rend hommage au célèbre caricaturiste\, est l’occasion à travers ses dessins de se pencher sur l’histoire de la caricature et de la liberté de la presse en France. \nRéalisée par Le Musée du Vivant-AgroParisTech\, en partenariat avec Canopé\, La Ligue de l’Enseignement et le Clémi\, cette exposition nous propose de découvrir une facette méconnue de Cabu. \nEn effet Jean Cabut a fait don au Musée du Vivant-AgroParisTech\, premier musée international sur l’écologie et le développement durable\, de plus de 600 dessins originaux sur l’agriculture\, la nature et l’écologie. \nExposition gratuite\, ouverte à toutes et à tous pendant les horaires d’ouverture de la bibliothèque
URL:https://www.unicaen.fr/evenement/cabu-dessinateur-citoyen/
CATEGORIES:Exposition,Vie de campus
ATTACH;FMTTYPE=image/jpeg:https://www.unicaen.fr/wp-content/uploads/2023/05/cabu-1000-400.jpg
END:VEVENT
BEGIN:VEVENT
DTSTART;TZID=Europe/Paris:20230614T100000
DTEND;TZID=Europe/Paris:20230614T120000
DTSTAMP:20260423T144541
CREATED:20221215T153115Z
LAST-MODIFIED:20230918T133459Z
UID:41022-1686736800-1686744000@www.unicaen.fr
SUMMARY:Atelier Rebondir
DESCRIPTION:Réorientation\nObjectifs\n\n 	Faire le bilan de ses expériences et de son arrivée à l’université\n 	Vérifier son projet d’orientation\n 	S’approprier les différentes possibilités d’études supérieures et les procédures de candidature pour y parvenir\n\nModalités\n\n 	Durée : 2h – Il est impératif d’être présent pendant toute la durée de l’atelier\n 	Public : licence 1\, BUT 1\, CPGE 1\n 	Selon les dates\, l’atelier se déroulera en présentiel ou en distanciel\n\nInscription\nInscription obligatoire en ligne via le Career center\nNombre de places limité\nProchaines dates (consulter régulièrement le calendrier pour les prochaines dates)\n\n \n 	jeudi 26 juin 2023 – 10h 12h – en visio\n\n \n\n\n\n
URL:https://www.unicaen.fr/evenement/atelier-rebondir-27/
LOCATION:Caen · Campus 1 · Bâtiment B · Espace Orientation Insertion (EOI)\, Bâtiment B\, Esplanade de la Paix\, Caen\, 14000\, France
CATEGORIES:Formation,Orientation
ORGANIZER;CN="Espace orientation insertion (EOI)":MAILTO:orientationinsertion@unicaen.fr
END:VEVENT
END:VCALENDAR