BEGIN:VCALENDAR
VERSION:2.0
PRODID:-//Université de Caen Normandie - ECPv6.15.18//NONSGML v1.0//EN
CALSCALE:GREGORIAN
METHOD:PUBLISH
X-WR-CALNAME:Université de Caen Normandie
X-ORIGINAL-URL:https://www.unicaen.fr
X-WR-CALDESC:Évènements pour Université de Caen Normandie
REFRESH-INTERVAL;VALUE=DURATION:PT1H
X-Robots-Tag:noindex
X-PUBLISHED-TTL:PT1H
BEGIN:VTIMEZONE
TZID:Europe/Paris
BEGIN:DAYLIGHT
TZOFFSETFROM:+0100
TZOFFSETTO:+0200
TZNAME:CEST
DTSTART:20210328T010000
END:DAYLIGHT
BEGIN:STANDARD
TZOFFSETFROM:+0200
TZOFFSETTO:+0100
TZNAME:CET
DTSTART:20211031T010000
END:STANDARD
BEGIN:DAYLIGHT
TZOFFSETFROM:+0100
TZOFFSETTO:+0200
TZNAME:CEST
DTSTART:20220327T010000
END:DAYLIGHT
BEGIN:STANDARD
TZOFFSETFROM:+0200
TZOFFSETTO:+0100
TZNAME:CET
DTSTART:20221030T010000
END:STANDARD
BEGIN:DAYLIGHT
TZOFFSETFROM:+0100
TZOFFSETTO:+0200
TZNAME:CEST
DTSTART:20230326T010000
END:DAYLIGHT
BEGIN:STANDARD
TZOFFSETFROM:+0200
TZOFFSETTO:+0100
TZNAME:CET
DTSTART:20231029T010000
END:STANDARD
END:VTIMEZONE
BEGIN:VEVENT
DTSTART;TZID=Europe/Paris:20221217T160000
DTEND;TZID=Europe/Paris:20221217T160000
DTSTAMP:20260426T031235
CREATED:20221215T101142Z
LAST-MODIFIED:20221215T101240Z
UID:40943-1671292800-1671292800@www.unicaen.fr
SUMMARY:Cartographie d'une Nuit
DESCRIPTION:Spectacle proposé par Léna Osseyran\, doctorante à l’Université de Caen Normandie (LASLAR) dans le cadre d’une convention de résidence avec la BIBI et le studio Jo Tréhard et du programme doctoral (recherches-créations) Radian.  \nPrésentée par la compagnie LA NUIT SERA FEU \n\n\nSynopsis Cartographie d’une Nuit\n\nComme les chevaux noirs de la grande Histoire qui galopent à tout rompre\, leurs crinières enflammées\, j’arriverai décharnée sur la ligne d’arrivée où je m’effondrai devant le monde. Je veux donner mon corps en exemple\, que partout dans le monde il devienne impossible de l’ignorer. Je veux écrire un poème qui sera une maison. Je veux écrire des vers à habiter\, où vous pourrez souffler un peu\, vous abriter quand le vent est violent et que l’orage fait rage. Si ma maison de papier prend l’eau je la soutiendrai avec ma langue\, avec mes bras\, avec des branches\, je lui inventerais des racines. \n\nCrédits\nMise en scène et dramaturgie : Léna Osseyran \nJeu d’acteur et co-écriture : Camille Dionnet et Mathilde Lê Quang Soulié \nCo-écriture : Goulc’han Lemoine et avec la participation de Judikaël Goater \nConception de l’affiche : Alain Semaan \nCrédit photo : Julie Dudouit \n\n\nDates et lieu\n17 et 18 décembre | 16h | Eglise Saint-Nicolas\, Caen | Gratuit \n 
URL:https://www.unicaen.fr/evenement/cartographie-dune-nuit/
LOCATION:Caen · Église Saint-Nicolas\, Église Saint-Nicolas de Caen\, 23 Rue Saint-Nicolas\, Caen\, 14000\, France
CATEGORIES:Théâtre
ATTACH;FMTTYPE=image/jpeg:https://www.unicaen.fr/wp-content/uploads/2022/12/test3.jpg
END:VEVENT
END:VCALENDAR