BEGIN:VCALENDAR
VERSION:2.0
PRODID:-//Université de Caen Normandie - ECPv6.15.18//NONSGML v1.0//EN
CALSCALE:GREGORIAN
METHOD:PUBLISH
X-ORIGINAL-URL:https://www.unicaen.fr
X-WR-CALDESC:Évènements pour Université de Caen Normandie
REFRESH-INTERVAL;VALUE=DURATION:PT1H
X-Robots-Tag:noindex
X-PUBLISHED-TTL:PT1H
BEGIN:VTIMEZONE
TZID:Europe/Paris
BEGIN:DAYLIGHT
TZOFFSETFROM:+0100
TZOFFSETTO:+0200
TZNAME:CEST
DTSTART:20210328T010000
END:DAYLIGHT
BEGIN:STANDARD
TZOFFSETFROM:+0200
TZOFFSETTO:+0100
TZNAME:CET
DTSTART:20211031T010000
END:STANDARD
BEGIN:DAYLIGHT
TZOFFSETFROM:+0100
TZOFFSETTO:+0200
TZNAME:CEST
DTSTART:20220327T010000
END:DAYLIGHT
BEGIN:STANDARD
TZOFFSETFROM:+0200
TZOFFSETTO:+0100
TZNAME:CET
DTSTART:20221030T010000
END:STANDARD
BEGIN:DAYLIGHT
TZOFFSETFROM:+0100
TZOFFSETTO:+0200
TZNAME:CEST
DTSTART:20230326T010000
END:DAYLIGHT
BEGIN:STANDARD
TZOFFSETFROM:+0200
TZOFFSETTO:+0100
TZNAME:CET
DTSTART:20231029T010000
END:STANDARD
END:VTIMEZONE
BEGIN:VEVENT
DTSTART;VALUE=DATE:20220829
DTEND;VALUE=DATE:20221014
DTSTAMP:20260422T084912
CREATED:20220530T061745Z
LAST-MODIFIED:20220914T074009Z
UID:30768-1661731200-1665705599@www.unicaen.fr
SUMMARY:Le cabas normand
DESCRIPTION:La BU Olympe-de-Gouges vous propose de découvrir l’univers de Patrice Olivier\, photographe passionné. Pour cette exposition Patrice Olivier est parti à la rencontre de producteurs en circuits courts du département de l’Orne. Pour vous faire partager leurs quotidiens\, il a vécu ces rencontres de l’intérieur au rythme de leurs activités. Il a fait le choix de la photo en noir et blanc pour une interprétation de la réalité plus personnelle et plus engagée. Cette approche lui a permis de privilégier l’humain\, son savoir-faire et la précision de ses gestes. \nContact\n bibliotheque@unicaen.fr | ludivine.jehan@unicaen.fr
URL:https://www.unicaen.fr/evenement/le-cabas-normand-2/
LOCATION:Alençon · BU Olympe-de-Gouges\, Bibliothèque universitaire Olympe-de-Gouges\, Montfoulon\, Damigny\, 61250\, France
CATEGORIES:Exposition
ATTACH;FMTTYPE=image/jpeg:https://www.unicaen.fr/wp-content/uploads/2022/05/Photo-de-Patrice-Olivier.jpg
END:VEVENT
BEGIN:VEVENT
DTSTART;VALUE=DATE:20220913
DTEND;VALUE=DATE:20221108
DTSTAMP:20260422T084912
CREATED:20220824T123208Z
LAST-MODIFIED:20221021T135858Z
UID:34229-1663027200-1667865599@www.unicaen.fr
SUMMARY:La fée électricité\, un nouvel éclairage sur les collections de physique
DESCRIPTION:Exposition\nDu 13 septembre au 7 novembre 2022 \nConnaissez-vous La Fée électricité ? Cette fresque monumentale réalisée par Raoul Dufy en 1937 est conservée au Musée d’art moderne de la Ville de Paris\, mais vous pouvez aussi la découvrir à la bibliothèque Rosalind Franklin qui en possède un tirage lithographique exceptionnel. Véritable condensé d’histoire des sciences\, cette œuvre rend hommage aux savants et ingénieurs qui ont contribué à la construction des connaissances scientifiques et à leurs applications. \nEn partenariat avec Résitech\, venez (re)découvrir cette histoire au prisme des collections d’instruments issues de l’INSPE : galvanomètres\, bouteilles de Leyde et machine électrostatique n’auront plus de secrets pour vous ! \nContact\nbu.rosalind-franklin@unicaen.fr | culture@unicaen.fr
URL:https://www.unicaen.fr/evenement/la-fee-electricite-un-nouvel-eclairage-sur-les-collections-de-physique/
LOCATION:Caen · Campus 2 · BU Rosalind-Franklin\, BU Rosalind-Franklin\, Campus 2\, Côte de Nacre\, Boulevard Maréchal Juin\, Caen\, 14032\, France
CATEGORIES:Exposition,Fête de la science
END:VEVENT
BEGIN:VEVENT
DTSTART;VALUE=DATE:20220919
DTEND;VALUE=DATE:20221020
DTSTAMP:20260422T084912
CREATED:20220913T072148Z
LAST-MODIFIED:20240719T090506Z
UID:35014-1663545600-1666223999@www.unicaen.fr
SUMMARY:2984 Big Brother still watching you
DESCRIPTION:2984  » Big Brother Still Watching You  » Adaptation photographique du roman de George Orwell 1984. \nProjet pédagogique mené avec les étudiants de deuxième année en Arts du Spectacle (2LART1-2LART2) sous la direction de Vincent Deslandes\, le but étant d’aborder les thématiques de réalisation d’un long métrage\, repérage des lieux\, installation des décors\, gestion des accessoires et d’approcher au près des conditions réelles du tournage et de la mise en scène. La quasi totalité des prises de vue ont été réalisées sur le site du campus 1 de l’université de Caen\, le principe étant de recontextualiser le lieu dans l’univers de George Orwell. \n2984 CINEXPO est le résultat graphique de ce travail. \nVernissage de l’exposition lundi 19 septembre à 18h\, hall du bâtiment G\, Caen campus 1 \nLe vernissage sera suivi d’un Ciné-Concert réalisé par « The eye of time » projet électro-acoustique du multi-instrumentiste Marc Euvrie à 19h\, dans la salle de spectacle de la Maison de l’étudiant\, Caen campus 1. \n 
URL:https://www.unicaen.fr/evenement/2984-big-brother-still-watching-you/
LOCATION:Caen · Campus 1 · Bâtiment G\, Centre de formation aux carrières des bibliothèques de Caen\, Caen\, 14000\, France
CATEGORIES:Exposition,Musique - Concert,Projection - Cinéma
ATTACH;FMTTYPE=image/jpeg:https://www.unicaen.fr/wp-content/uploads/2022/09/Affiche-2984.jpg
END:VEVENT
BEGIN:VEVENT
DTSTART;VALUE=DATE:20221003
DTEND;VALUE=DATE:20221029
DTSTAMP:20260422T084912
CREATED:20220913T145214Z
LAST-MODIFIED:20220922T092907Z
UID:35126-1664755200-1667001599@www.unicaen.fr
SUMMARY:Sciences en bulles
DESCRIPTION:Découvrez la science en bande dessinée ! 10 doctorants et doctorantes se sont prêtés au jeu de la vulgarisation dessinée pour cette troisième version de Sciences en Bulles : une aventure originale de vulgarisation scientifique. Ils ont réalisé un travail de mise en récit et en image de leur thèse avec les illustrateurs Peb & Fox. \nDes thèses de biomécanique\, sociologie\, virologie\, géologie\, physique\, chimie\, environnement… y sont mises en images avec un ton délibérément décalé. \nEntrée libre (selon les horaires d’ouverture de la Bibliothèque universitaire) \nContact\nbibliotheque@unicaen.fr \nangele.anicot@unicaen.fr \n02 33 01 46 50
URL:https://www.unicaen.fr/evenement/sciences-en-bulles/
LOCATION:Cherbourg-en-Cotentin · BU Blanche-Maupas\, Bibliothèque Universitaire Blanche Maupas\, Rue Max Pol Fouchet\, Cherbourg-en-Cotentin\, 50130\, France
CATEGORIES:Fête de la science
ATTACH;FMTTYPE=image/jpeg:https://www.unicaen.fr/wp-content/uploads/2022/09/EUREKA.jpg
END:VEVENT
BEGIN:VEVENT
DTSTART;VALUE=DATE:20221007
DTEND;VALUE=DATE:20221108
DTSTAMP:20260422T084912
CREATED:20220913T144959Z
LAST-MODIFIED:20220927T173523Z
UID:35121-1665100800-1667865599@www.unicaen.fr
SUMMARY:Exposition "ÉQUATIONS - Un regard sur des femmes scientifiques"
DESCRIPTION:Exposition en plein air · Portraits de 19 chercheuses travaillant dans les secteurs scientifiques traditionnellement les moins féminisés \n  \nNée en 1973\, Olivia Gay a étudié l’histoire de l’art et la photographie. Elle s’est faite connaître avec la série « Les Jineteras » qu’elle réalise en 1997 à La Havane\, Cuba\, auprès de jeunes femmes qui se prostituent pour aider leur famille. Elle exerce le métier de photographe de presse pour Le Monde 2\, Libération\, The New York Times… pendant une dizaine d’années puis se tourne vers une approche plus personnelle de la photographie\, entre journal intime et documentaire. \nL’image et la visibilité des femmes dans l’espace social est au cœur de sa recherche qui s’inscrit depuis septembre 2020 dans le cadre du doctorat recherche et création RADIAN. Aussi a-t-elle été invitée à résider en 2021-2022\, pour une durée d’environ deux mois\, à l’université de Caen Normandie. Cette résidence s’inscrit à la croisée de la politique d’égalité Femmes/Hommes et de la politique Culture de l’université. Il s’est en effet agi pour la photographe\, sous la forme de portraits exposés au plus grand nombre et visibles par toute la communauté universitaire\, de donner toute leur visibilité aux chercheuses travaillant dans les secteurs scientifiques\, qui sont traditionnellement les moins féminisés\, et de s’attarder sur ces femmes qui\, chacune singulière\, illustrent toutes la richesse et la complexité du parcours et du travail de chercheuse à l’université. \n  \nL’université de Caen Normandie vous invite aujourd’hui à découvrir les portraits de 19 femmes chercheuses en sciences réalisés au cours de sa résidence. Cette nouvelle série de photographies de l’artiste intitulée « EQUATIONS » est exposée en plein air\, à l’occasion de la Fête de la Science du 7 octobre au 7 novembre sur le campus 1. \n  \nVernissage \nle vendredi 7 octobre · 16h30\, en présence de l’artiste
URL:https://www.unicaen.fr/evenement/equations/
LOCATION:Caen · Campus 1 · Bâtiment B\, Bâtiment B\, Esplanade de la Paix\, Caen\, 14000\, France
CATEGORIES:Exposition,Fête de la science
ATTACH;FMTTYPE=image/jpeg:https://www.unicaen.fr/wp-content/uploads/2022/05/Olivia-Gay.jpg
END:VEVENT
BEGIN:VEVENT
DTSTART;VALUE=DATE:20221007
DTEND;VALUE=DATE:20221018
DTSTAMP:20260422T084912
CREATED:20220916T163029Z
LAST-MODIFIED:20220916T163052Z
UID:35339-1665100800-1666051199@www.unicaen.fr
SUMMARY:Fête de la science
DESCRIPTION:En famille ou entre amis\, venez à la rencontre de nos chercheurs ! \nLa 31e édition de la Fête de la science se déroule du 7 au 17 octobre 2022. Profitez de ce temps d’échange privilégié avec nos chercheurs pour discuter de l’actualité de la recherche et découvrir les projets de recherche menés sur le territoire ! \nExpositions\, ateliers\, visites\, escape games\, projections\, concerts… La Fête de la science\, ce sont dix jours d’animations gratuites et ouvertes à toutes & tous. 350 animations se tiennent partout en Normandie. \nSur les campus\, dans les laboratoires\, ou hors les murs… Découvrez le programme complet de l’événement sur https://fetedelascience-normandie.fr/ \nLa Fête de la Science est une initiative du ministère de l’Enseignement supérieur et de la Recherche. Elle est coordonnée en Normandie par Le Dôme et Science Action Normandie avec le soutien de l’Etat\, du Rectorat de la région académique Normandie et de la Région Normandie.
URL:https://www.unicaen.fr/evenement/fete-de-la-science/
CATEGORIES:Fête de la science,Recherche
ATTACH;FMTTYPE=image/png:https://www.unicaen.fr/wp-content/uploads/2022/09/Bannière-fete-de-la-science-en-normandie-2022-e1663337709883.png
END:VEVENT
BEGIN:VEVENT
DTSTART;VALUE=DATE:20221007
DTEND;VALUE=DATE:20221018
DTSTAMP:20260422T084912
CREATED:20220930T094517Z
LAST-MODIFIED:20230720T145358Z
UID:36283-1665100800-1666051199@www.unicaen.fr
SUMMARY:Portes ouvertes du Musée de géologie
DESCRIPTION:Ce que nous racontent les pierres normandes \nLes collections de géologie renferment de très nombreux échantillons de fossiles\, de minéraux et de roches. Elles constituent un riche patrimoine scientifique aujourd’hui préservé dans un espace muséologique créé en 2012 où plus de 800 objets exposés dans les vitrines permettent de retracer la longue histoire géologique de la Normandie. Vous pourrez découvrir\, entre autres\, les plus vieilles roches de France métropolitaine (2 milliards d’années)\, la pierre de Caen du Jurassique et la craie du Havre du Crétacé\, la faune et la flore fossilisées qui peuplaient les mers anciennes (trilobites de l’Ordovicien\, ammonites\, empreintes de fougères du Carbonifère\,  poissons du Trias\, reptiles du Jurassique\, algues …) et en particulier les restes du plus ancien dinosaure normand ! \nLa visite est accompagnée d’affiches explicatives sur les différents types de roches\, sur la façon de les dater\, sur la naissance des montagnes\, sur l’évolution des espèces vivantes et leurs extinctions\, sur le calendrier géologique\, sur la dérive des continents. Par exemple\, le sous-sol de la Normandie occidentale fait partie de la plaque tectonique Armorica\, qui se trouvait à l’origine dans l’hémisphère sud et qui a dérivé pendant 500 millions d’années avant de rejoindre sa position actuelle ! \nEn pratique\nrez-de-chaussée de la bibliothèque universitaire Pierre Sineux (campus 1) \nLe musée est ouvert au public sans réservation pendant la Fête de la Science 2022 en fin d’après-midi\, de 17 h à 19h (hors week-end). \nUn livret-guide contenant le plan de circulation dans le musée et des fiches explicatives est remis à chaque visiteur pour lui permettre d’accomplir la visite de façon autonome et à son rythme. Pour une visite complète\, compter une durée d’une heure à une heure et demie.
URL:https://www.unicaen.fr/evenement/portes-ouvertes-du-musee-de-geologie/
LOCATION:Caen · Campus 1 · Musée de géologie\, Esplanade de la Paix\, Caen\, 14000\, France
CATEGORIES:Fête de la science,Recherche
ATTACH;FMTTYPE=image/jpeg:https://www.unicaen.fr/wp-content/uploads/2022/09/Fete_de_la_Science©DircomUnicaen-web-32-1-e1664531029819.jpg
END:VEVENT
BEGIN:VEVENT
DTSTART;VALUE=DATE:20221011
DTEND;VALUE=DATE:20221014
DTSTAMP:20260422T084912
CREATED:20220927T145003Z
LAST-MODIFIED:20221003T151626Z
UID:35832-1665446400-1665705599@www.unicaen.fr
SUMMARY:ANNULÉ - TREMPLIN : 3 jours pour booster votre recherche d'emploi !
DESCRIPTION:MANIFESTATION ANNULÉE \nVous êtes jeune diplômé master de l’université de Caen Normandie et vous recherchez du travail ?\nLes conseillers de l’Espace orientation insertion vous accompagnent dans cette transition. \nAvec le dispositif  « Tremplin« \, notre objectif est de vous aider à booster votre recherche d’emploi. \nObjectifs\nLe dispositif Tremplin se veut ludique et participatif\, alternant des moments formels et informels\, en grand groupe\, en demi-groupes (ou binômes) et en individuel.\nA travers des ateliers\, échanges\, débats\, contenus co-construits\, exercices… les jeunes diplômés travailleront ensemble sur plusieurs thématiques : \n\nleurs compétences\nle CV et la lettre de motivation\nla présentation orale\nl’entretien d’embauche\n\nIls seront outillés pour structurer leur recherche et s’informer sur leur marché de l’emploi. \nProgramme\nMardi 11 octobre : \n\nTravail sur ses compétences : comment les définir\, les identifier et les valoriser ?\nRédaction CV et lettre de motivation\, sous forme d’ateliers participatifs et exercices ludiques.\n\nMercredi 12 octobre : \n\nMatin : l’entretien d’embauche\nLes différentes formes. Comment préparer un pitch efficace ? La méthode STAR.\nAtelier participatif en grand groupe\, avec des échanges/débats\, activités en sous-groupes et exercices individuels.\nAprès-midi : présentation de l’entrepreneuriat par PEPITE puis travail sur le marché de l’emploi. Comment identifier son marché de l’emploi ? Identifier les outils et ressources. Comment structurer efficacement sa recherche ?\n\nJeudi 13 octobre :\njournée sous forme de stands : coaching CV-Lettre\, le pitch\, les forces. \nPratique\n\nSéminaire qui se déroulera du 11 au 13 octobre 2022 à Caen sur le campus 1.\nNombre de places limité\, inscription obligatoire (lien d’inscription).
URL:https://www.unicaen.fr/evenement/tremplin-3-jours-pour-booster-votre-recherche-demploi/
LOCATION:Caen · Campus 1 · Bâtiment B\, Bâtiment B\, Esplanade de la Paix\, Caen\, 14000\, France
CATEGORIES:Orientation
ATTACH;FMTTYPE=image/jpeg:https://www.unicaen.fr/wp-content/uploads/2022/09/Jeunes-Diplomes_web.jpg
ORGANIZER;CN="Espace orientation insertion (EOI)":MAILTO:orientationinsertion@unicaen.fr
END:VEVENT
BEGIN:VEVENT
DTSTART;VALUE=DATE:20221012
DTEND;VALUE=DATE:20221014
DTSTAMP:20260422T084912
CREATED:20220930T161824Z
LAST-MODIFIED:20221021T094914Z
UID:36321-1665532800-1665705599@www.unicaen.fr
SUMMARY:Portes ouvertes du LUSAC
DESCRIPTION:Visite du Hall Technologique et de la plateforme hydrogène et pile à combustible du laboratoire LUSAC\, site de Saint Lô ! \nLe laboratoire LUSAC et le département MT2E (Métiers de la Transition et l’Efficacité Energétiques) ouvrent leurs portes pour la Fête de la science pour une journée\, et proposent une visite des l’ensemble des bancs d’expérimentations sur des systèmes énergétiques innovants. Vous aurez également la possibilité de discuter et d’échanger avec les jeunes chercheurs sur leurs parcours et leurs sujets de recherche. \nLes visites seront faites par des enseignants-chercheurs spécialistes dans la production\, le stockage et la gestion de l’énergie. \nEntrée libre \nContact\nhasna.louahlia@unicaen.fr
URL:https://www.unicaen.fr/evenement/portes-ouvertes-du-lusac/
LOCATION:Saint-Lô\, Saint-Lô\, 50000\, France
CATEGORIES:Fête de la science,Recherche
ATTACH;FMTTYPE=image/png:https://www.unicaen.fr/wp-content/uploads/2022/09/Bannière-fete-de-la-science-en-normandie-2022-e1663337709883.png
END:VEVENT
BEGIN:VEVENT
DTSTART;TZID=Europe/Paris:20221013T180000
DTEND;TZID=Europe/Paris:20221013T180000
DTSTAMP:20260422T084912
CREATED:20220913T132636Z
LAST-MODIFIED:20240719T141903Z
UID:35054-1665684000-1665684000@www.unicaen.fr
SUMMARY:Autour du réchauffement climatique
DESCRIPTION:Soirée en 2 parties\, où le thème sera abordé sous 2 formes et 2 perspectives différentes \n18h – 1re partie : étude de notre comportement face au réchauffement climatique\, avec la diffusion du documentaire de Raphaël Hitier « Climat : mon cerveau fait l’autruche ». \nLes scientifiques sont unanimes : la catastrophe climatique est imminente mais elle est évitable ! Et nous ne réagissons toujours pas. Comment expliquer cette inertie devant l’urgence ? Pourquoi est-ce si compliqué ? Serions-nous programmés pour faire l’autruche devant la menace ? Et si le fonctionnement même de notre cerveau nous détournait des bonnes décisions à prendre ? Les dernières avancées en neuroscience\, psychologie comportementale ou anthropologie éclairent les contradictions et les peurs qui nous habitent quand il s’agit de changer nos habitudes de vie. Avec humour et pédagogie\, notre enquête scientifique décrypte les mécanismes psychiques qui nous empêchent de regarder la situation telle qu’elle est… pour peut-être nous aider à refuser ces mauvais réflexes et à faire enfin les choix qui s’imposent. \n19h – 2ème partie : Pollution atmosphérique et réchauffement climatique\, comment vérifier que l’on ne risque pas l’asphyxie ? avec Baptiste Delaunay\, doctorant en toxicologie du Laboratoire Aliments\, Bioprocédés\, Toxicologie\, Environnement (ABTE) de l’Université de Caen Normandie. \nUtiliser les plantes des villes comme capteurs de la pollution atmosphérique\, est-ce vraiment possible ? Venez découvrir comment les végétaux pourraient nous donner des informations cruciales sur la présence de certains polluants. Cet échange sera aussi l’occasion de briser vos idées reçues sur la pollution de l’air extérieur et intérieur. Les sources ainsi que les impacts de plusieurs polluants sur notre santé et sur le climat n’auront plus de secrets pour vous. \nVenez prendre une bouffée d’air\, frais c’est promis ! \nUn événement organisé dans le cadre de la Fête de la science. \nRéservation conseillée  \nContact\nbibliotheque@unicaen.fr \n02 33 01 46 50 \nhttps://www.unicaen.fr/bu
URL:https://www.unicaen.fr/evenement/autour-du-rechauffement-climatique/
LOCATION:Cherbourg-en-Cotentin · BU Blanche-Maupas\, Bibliothèque Universitaire Blanche Maupas\, Rue Max Pol Fouchet\, Cherbourg-en-Cotentin\, 50130\, France
CATEGORIES:Conférence,Fête de la science,Recherche
END:VEVENT
BEGIN:VEVENT
DTSTART;TZID=Europe/Paris:20221013T190000
DTEND;TZID=Europe/Paris:20221013T230000
DTSTAMP:20260422T084912
CREATED:20220913T140905Z
LAST-MODIFIED:20240719T141903Z
UID:35090-1665687600-1665702000@www.unicaen.fr
SUMMARY:Comment décarboner ?
DESCRIPTION:Une conférence participative\, pour introduire un programme de recherche sur des protocoles citoyens de décarbonation\, avec le CERREV et le CEA. \nUn événement organisé au Dôme dans le cadre de la Fête de la science. \nRéservation conseillée \nContact : fmillet@ledome.info
URL:https://www.unicaen.fr/evenement/comment-decarboner/
LOCATION:Caen · Le Dôme\, Le Dôme\, 3 Esplanade Stéphane Hessel\, Caen\, 14000\, France
CATEGORIES:Conférence,Fête de la science,Recherche
END:VEVENT
END:VCALENDAR