BEGIN:VCALENDAR
VERSION:2.0
PRODID:-//Université de Caen Normandie - ECPv6.15.18//NONSGML v1.0//EN
CALSCALE:GREGORIAN
METHOD:PUBLISH
X-ORIGINAL-URL:https://www.unicaen.fr
X-WR-CALDESC:Évènements pour Université de Caen Normandie
REFRESH-INTERVAL;VALUE=DURATION:PT1H
X-Robots-Tag:noindex
X-PUBLISHED-TTL:PT1H
BEGIN:VTIMEZONE
TZID:Europe/Paris
BEGIN:DAYLIGHT
TZOFFSETFROM:+0100
TZOFFSETTO:+0200
TZNAME:CEST
DTSTART:20210328T010000
END:DAYLIGHT
BEGIN:STANDARD
TZOFFSETFROM:+0200
TZOFFSETTO:+0100
TZNAME:CET
DTSTART:20211031T010000
END:STANDARD
BEGIN:DAYLIGHT
TZOFFSETFROM:+0100
TZOFFSETTO:+0200
TZNAME:CEST
DTSTART:20220327T010000
END:DAYLIGHT
BEGIN:STANDARD
TZOFFSETFROM:+0200
TZOFFSETTO:+0100
TZNAME:CET
DTSTART:20221030T010000
END:STANDARD
BEGIN:DAYLIGHT
TZOFFSETFROM:+0100
TZOFFSETTO:+0200
TZNAME:CEST
DTSTART:20230326T010000
END:DAYLIGHT
BEGIN:STANDARD
TZOFFSETFROM:+0200
TZOFFSETTO:+0100
TZNAME:CET
DTSTART:20231029T010000
END:STANDARD
END:VTIMEZONE
BEGIN:VEVENT
DTSTART;VALUE=DATE:20220705
DTEND;VALUE=DATE:20220710
DTSTAMP:20260425T140850
CREATED:20220530T085451Z
LAST-MODIFIED:20250307T090442Z
UID:31232-1656979200-1657411199@www.unicaen.fr
SUMMARY:Visites des campus 1 et 2 à Caen
DESCRIPTION:Vous êtes futur étudiant à l’université de Caen Normandie\, venez découvrir votre nouveau lieu d’études. \nDu mardi 5 au samedi 9 juillet 2022\, l’université organise des visites guidées de ses campus caennais 1 et 2 ! \nAccompagné par des étudiants\, vous pourrez découvrir les différents espaces afin de mieux vous repérer : formations\, services à l’étudiant\, bibliothèques universitaires\, Maison de l’étudiant\, infrastructures sportives\, restaurant universitaire… \nModalités pratiques\n\ngroupe de 20 personnes maximum\n30 à 45 minutes de visite\ninscription obligatoire\nlieux de rendez-vous : campus 1 | campus 2\n\nAccédez aux différents formulaires d’inscription\n\nCaen – campus 1\nCaen – campus 2
URL:https://www.unicaen.fr/evenement/visites-des-campus-1-et-2-a-caen/
CATEGORIES:Vie de campus
ATTACH;FMTTYPE=image/jpeg:https://www.unicaen.fr/wp-content/uploads/2021/06/IMG_7266.jpg
END:VEVENT
END:VCALENDAR