BEGIN:VCALENDAR
VERSION:2.0
PRODID:-//Université de Caen Normandie - ECPv6.15.18//NONSGML v1.0//EN
CALSCALE:GREGORIAN
METHOD:PUBLISH
X-WR-CALNAME:Université de Caen Normandie
X-ORIGINAL-URL:https://www.unicaen.fr
X-WR-CALDESC:Évènements pour Université de Caen Normandie
REFRESH-INTERVAL;VALUE=DURATION:PT1H
X-Robots-Tag:noindex
X-PUBLISHED-TTL:PT1H
BEGIN:VTIMEZONE
TZID:Europe/Paris
BEGIN:DAYLIGHT
TZOFFSETFROM:+0100
TZOFFSETTO:+0200
TZNAME:CEST
DTSTART:20210328T010000
END:DAYLIGHT
BEGIN:STANDARD
TZOFFSETFROM:+0200
TZOFFSETTO:+0100
TZNAME:CET
DTSTART:20211031T010000
END:STANDARD
BEGIN:DAYLIGHT
TZOFFSETFROM:+0100
TZOFFSETTO:+0200
TZNAME:CEST
DTSTART:20220327T010000
END:DAYLIGHT
BEGIN:STANDARD
TZOFFSETFROM:+0200
TZOFFSETTO:+0100
TZNAME:CET
DTSTART:20221030T010000
END:STANDARD
BEGIN:DAYLIGHT
TZOFFSETFROM:+0100
TZOFFSETTO:+0200
TZNAME:CEST
DTSTART:20230326T010000
END:DAYLIGHT
BEGIN:STANDARD
TZOFFSETFROM:+0200
TZOFFSETTO:+0100
TZNAME:CET
DTSTART:20231029T010000
END:STANDARD
END:VTIMEZONE
BEGIN:VEVENT
DTSTART;VALUE=DATE:20220704
DTEND;VALUE=DATE:20220709
DTSTAMP:20260424T140301
CREATED:20220617T084748Z
LAST-MODIFIED:20220617T084748Z
UID:32649-1656892800-1657324799@www.unicaen.fr
SUMMARY:Vous souhaitez vous perfectionner en anglais ?
DESCRIPTION:Le Carré international vous propose un stage intensif d’une semaine\, du 4 au 8 juillet \nEncore quelques places disponibles ! \nAu programme : \n\n15h de formation en centre réparties en 5 matinées de 3h (de 9h à 12h)\ndes ressources et activités complémentaires sur la plateforme eCampus.\n\nPendant ce stage\, l’accent sera mis sur la communication orale. \nLes inscriptions seront ouvertes à partir du 24 juin 2022. \nCoût du stage : 225 € \n\nLes personnels UNICAEN bénéficient d’un tarif préférentiel de 157\,5 € sur présentation de la Léocarte\nLe tarif étudiant est de 90 €.\n\nContact\nintl.langues.etrangeres@unicaen.fr\n02 31 56 55 28
URL:https://www.unicaen.fr/evenement/vous-souhaitez-vous-perfectionner-en-anglais/
CATEGORIES:Formation
END:VEVENT
BEGIN:VEVENT
DTSTART;VALUE=DATE:20220704
DTEND;VALUE=DATE:20220708
DTSTAMP:20260424T140301
CREATED:20220607T141351Z
LAST-MODIFIED:20251031T153647Z
UID:31317-1656892800-1657238399@www.unicaen.fr
SUMMARY:Troisièmes journées de la Fédération Trauma Suicide Liaison Urgence : "Du mal être... au mieux-être"
DESCRIPTION:Depuis 2011\, la Normandie a montré sa capacité à se mobiliser\, à mettre en place des modes innovants de vigilance autour des conduites suicidaires et du trauma\, et à s’impliquer avec optimisme et dynamisme dans toutes les dimensions du mal-être psychique en présentant de nouveaux modèles de prise en charge multi partenariales. \nDans le cadre de ces troisièmes journées de la Fédération Trauma Suicide Liaison Urgence\, des ateliers plus variés sont proposés\, alliant l’approfondissement des connaissances sur les conduites suicidaires et le trauma\, à des thèmes plus novateurs comme la prévention des risques psychosociaux\, la prise en charge du deuil prolongé ou la sensibilisation à la méditation en pleine conscience.Pour aller « du mal-être au mieux-être »\, de nombreux thèmes seront abordés en présence de conférenciers reconnus.Comment intégrer la mémoire du trauma dans les nouvelles pistes de prise en charge ?Comment comprendre les trajectoires du suicide et quelle prévention déployer face aux souffrances psychiques soignantes ?Comment articuler les soins dans un monde en évolution dans lequel la souffrance psychologique\, souvent marquée par la verbalisation d’idées suicidaires\, est l’un des modes prévalent d’expression ?Sans oublier des sujets actuels tels que les déﬁs posés par les troubles somatoformes\, les prises en charge complexes des urgences psychiatriques et addictologiques\, ou le brûlant et actuel débat de l’émergence d’une revendication d’un droit à mourir. \nAssociations porteuses du projet\n\nFédération Trauma Suicide Liaison Urgences\nGroupement d’études et de prévention du suicide (GEPS)\nAssociation de formation et de recherche des cellules d’urgence médico-psychologiques (AFORCUMP)\nAssociation francophone pour l’étude et la recherche sur les urgences psychiatriques (AFERUP)\nSociété de psychologie médicale et de psychiatrie de liaison\n\nProgramme\nProgramme des ateliers et des conférences : www.ftslucongres.com \nConférence de prestige le mercredi 6 juillet à 18h au Pôle de formations et de recherche en santé (PFRS) de l’université de Caen Normandie à Caen animée par la philosophe et psychanalyste Cynthia FLEURY.Conférence largement et gratuitement ouverte à toute personne intéressée\, sans obligation de s’inscrire au congrès\, sous réserve de l’inscription préalable. \nInformations pratiques\nCongrès du 4 au 7 juillet 2022 au Pôle de formations et de recherche en santé (PFRS) de l’université de Caen Normandie à Caen.Inscription au congrès et aux ateliers obligatoire avant le 17 juin : \n\naccès gratuit pour les étudiants qui suivent des études en santé ou en psychologie\naccès gratuit\, selon le nombre de places disponibles\, pour les enseignants de l’université de Caen Normandie\n\nPrendre contact avec Mme Françoise CHASTANG (chastang-f@chu-caen.fr) ou Mme Anne-Marie JEANNE (jeanne-am@chu-caen.fr).
URL:https://www.unicaen.fr/evenement/troisiemes-journees-de-la-federation-trauma-suicide-liaison-urgence-du-mal-etre-au-mieux-etre/
LOCATION:Caen · Campus 5 · PFRS (Pôle des formations et de recherche en santé)\, UFR Santé\, 2 Rue des Rochambelles\, Caen\, 14032\, France
CATEGORIES:Congrès - Colloque,Santé
ATTACH;FMTTYPE=image/jpeg:https://www.unicaen.fr/wp-content/uploads/2022/06/Congres_Trauma.jpg
END:VEVENT
BEGIN:VEVENT
DTSTART;TZID=Europe/Paris:20220704T180000
DTEND;TZID=Europe/Paris:20220704T180000
DTSTAMP:20260424T140301
CREATED:20220607T150325Z
LAST-MODIFIED:20220608T124148Z
UID:31341-1656957600-1656957600@www.unicaen.fr
SUMMARY:Webinaire Prépa Talents Normands
DESCRIPTION:Fort des succès enregistrés pendant l’année universitaire 2021-2022\, l’UFR de Droit\, AES & Administration publique de l’université de Caen Normandie ouvrira à nouveau dès septembre 2022 une classe préparatoire « Talents du service public »\, plus particulièrement dédiée à la préparation des concours d’attaché d’administration de l’État (IRA) et d’attaché d’administration hospitalière (EHESP). \nCette classe préparatoire\, dénommée Prépa Talents Normands\, est adossée à la 3e année de la Licence Administration publique et portée par l’Institut des Métiers du Droit et de l’Administration (IMDA). \nVenez poser vos questions et vous renseigner lors de la visioconférence organisée le\nlundi 4 juillet 2022 à 18h – Lien de connexion\n\n\n \n\n\nL3 Administration publique\, une formation ouverte pour tous les profils !\nPlus de 25% des inscrits en L3 Administration publique sont issus de formations aussi variées que Philosophie\, Sciences Politiques\, Géographie\, Langues vivantes\, Finances\, Sciences de l’éducation\, Psychologie\, STAPS\, Qualité\, Logistique\, Histoire\, Culture…. \nLe niveau de diplôme est également très diversifié : 32% des étudiants sont titulaires d’une L3\, 31% d’un DUT\, 12% d’un BTS\, 9% d’un Master 2\, 16% autres(L2\, Licence pro\, Master 1…) \nCible\nPrépa ouverte à tous les étudiants boursiers et titulaires au moins d’un bac+2 validé. \nAtouts \n\nPréparation diplômante\nSoutien financier pendant la formation avec une bourse de 4000 euros (sous réserve d’éligibilité)\nSoutien pour le logement et/ou la restauration (CROUS Normandie)\nPossibilité de réaliser une à huit semaines de stage en administration déconcentrée\nTutorat renforcé par un tuteur professionnel\nSuivi individuel par un référent pédagogique\nÉquipe pédagogique formée d’universitaires et de professionnels tant pour les enseignements académiques que pour les enseignements professionnalisants\nPréparation renforcée avec des modules complémentaires à la troisième année de Licence Administration publique comprenant des conférences d’actualité (s’ajoutant aux enseignements de culture générale déjà dispensés)\, des conférences de méthode (s’ajoutant aux enseignements spécifiques de préparation aux concours) et des épreuves d’entrainement supplémentaires aux épreuves d’admissibilité et d’admission des concours visés par la Prépa Talents Normands\nDispositif « Réussite à retardement » (accompagnement poursuivi en année n+1 pour les préparationnaires ne réussissant pas les concours la première année).\n\nCandidature\nLe dossier de candidature à la Prépa Talents Normands est disponible sur la plateforme eCandidat. Candidature à déposer du 25 avril au 8 juillet 2022 sur la plateforme eCandidat.\nLes sélections se feront sous conditions de diplôme et de ressources\, sur la base d’un dossier et d’un entretien. \nRenseignements\nVenez poser vos questions et vous renseigner lors de la visioconférence organisée le lundi 4 juillet 2022 à 18h : lien de connexion.
URL:https://www.unicaen.fr/evenement/webinaire-prepa-talents-normands/
LOCATION:Caen · Campus 1 · Bâtiment B · Espace Orientation Insertion (EOI)\, Bâtiment B\, Esplanade de la Paix\, Caen\, 14000\, France
CATEGORIES:Formation,Orientation
END:VEVENT
END:VCALENDAR