BEGIN:VCALENDAR
VERSION:2.0
PRODID:-//Université de Caen Normandie - ECPv6.15.18//NONSGML v1.0//EN
CALSCALE:GREGORIAN
METHOD:PUBLISH
X-WR-CALNAME:Université de Caen Normandie
X-ORIGINAL-URL:https://www.unicaen.fr
X-WR-CALDESC:Évènements pour Université de Caen Normandie
REFRESH-INTERVAL;VALUE=DURATION:PT1H
X-Robots-Tag:noindex
X-PUBLISHED-TTL:PT1H
BEGIN:VTIMEZONE
TZID:Europe/Paris
BEGIN:DAYLIGHT
TZOFFSETFROM:+0100
TZOFFSETTO:+0200
TZNAME:CEST
DTSTART:20210328T010000
END:DAYLIGHT
BEGIN:STANDARD
TZOFFSETFROM:+0200
TZOFFSETTO:+0100
TZNAME:CET
DTSTART:20211031T010000
END:STANDARD
BEGIN:DAYLIGHT
TZOFFSETFROM:+0100
TZOFFSETTO:+0200
TZNAME:CEST
DTSTART:20220327T010000
END:DAYLIGHT
BEGIN:STANDARD
TZOFFSETFROM:+0200
TZOFFSETTO:+0100
TZNAME:CET
DTSTART:20221030T010000
END:STANDARD
BEGIN:DAYLIGHT
TZOFFSETFROM:+0100
TZOFFSETTO:+0200
TZNAME:CEST
DTSTART:20230326T010000
END:DAYLIGHT
BEGIN:STANDARD
TZOFFSETFROM:+0200
TZOFFSETTO:+0100
TZNAME:CET
DTSTART:20231029T010000
END:STANDARD
END:VTIMEZONE
BEGIN:VEVENT
DTSTART;VALUE=DATE:20220519
DTEND;VALUE=DATE:20220620
DTSTAMP:20260424T092320
CREATED:20220516T080825Z
LAST-MODIFIED:20220520T103007Z
UID:30108-1652918400-1655683199@www.unicaen.fr
SUMMARY:Exposition "ÉQUATIONS - Un regard sur des femmes scientifiques"
DESCRIPTION:par Olivia GAY \nOlivia Gay vous invite à découvrir les portraits de 19 femmes chercheuses en sciences réalisés au cours de sa résidence à l’université de Caen Normandie. Cette nouvelle série de photographies de l’artiste intitulée « ÉQUATIONS » sera exposée à la BU Madeleine-Brès du 19 mai au 19 juin. Rencontre-discussion avec l’artiste le jeudi 19 mai à 18h au 1er étage de la BU Madeleine-Brès. \nInscription au vernissage \nLieu : bibliothèque universitaire Madeleine-Brès | PFRS Caen campus 5 (aux horaires d’ouverture de la bibliothèque)
URL:https://www.unicaen.fr/evenement/exposition-equations-un-regard-sur-des-femmes-scientifiques/
LOCATION:Caen · Campus 5 · PFRS (Pôle des formations et de recherche en santé)\, UFR Santé\, 2 Rue des Rochambelles\, Caen\, 14032\, France
CATEGORIES:Exposition
ATTACH;FMTTYPE=image/jpeg:https://www.unicaen.fr/wp-content/uploads/2022/05/Olivia-Gay.jpg
END:VEVENT
BEGIN:VEVENT
DTSTART;VALUE=DATE:20220615
DTEND;VALUE=DATE:20220619
DTSTAMP:20260424T092320
CREATED:20211026T070639Z
LAST-MODIFIED:20230119T143350Z
UID:22329-1655251200-1655596799@www.unicaen.fr
SUMMARY:Congrès · Modernist Structures
DESCRIPTION:Organisé par la conférence biennale de la société d’études modernistes\, en partenariat avec ERIBIA\, EA2610. \nRésumé :\nLes textes modernistes sont-ils informés par des structures communes (Caroline Levine\, Forms 2015) ? Les structures modernistes et avant-gardistes comprennent des rapports entre : utopie et dystopie\, le mélange des genres\, les contrastes entre les modernismes précoces et tardifs et le structuralisme et le post-structuralisme. Le début de l’ère anthropocène suggère que l’idée même de structures modernistes pourrait aussi inclure la prise en considération du coût de la mécanisation de l’activité humaine. \nProgramme  \nPublic visé : chercheurs et étudiants \nDimension de la manifestation : internationale \nLieu : MRSH – IMEC \nResponsables scientifiques : Jennifer Kilgore-Caradec et Amy Wells \nContacts\nJennifer Kilgore-Caradec et Amy Wells\n06 80 26 47 79 et 06 75 73 79 51\njennifer.kilgore@unicaen.fr | amy.wells@unicaen.fr
URL:https://www.unicaen.fr/evenement/conference-modernist-structures/
CATEGORIES:Congrès - Colloque,Sciences humaines et sociales
END:VEVENT
BEGIN:VEVENT
DTSTART;TZID=Europe/Paris:20220617T133000
DTEND;TZID=Europe/Paris:20220617T170000
DTSTAMP:20260424T092320
CREATED:20220519T141638Z
LAST-MODIFIED:20230119T143355Z
UID:30367-1655472600-1655485200@www.unicaen.fr
SUMMARY:Colloque Santé mentale et assurance
DESCRIPTION:La santé mentale est devenue\, depuis une trentaine d’années\, une préoccupation fondamentale dans les sociétés occidentales. En atteste le développement des psychothérapies et du recours aux dispositifs de soins psychiatriques\, tout comme l’augmentation de la consommation de produits psychoactifs. Le législateur lui-même a consacré\, dans la loi de santé de 2016\, l’existence d’une politique de santé mentale déterminée dans le cadre de territoires pertinents. L’assurance\, qui a vocation a protéger l’individu contre tout type de risque inhérent à son existence\, est alors à son tour interrogée dans ses rapports à cette problématique de la santé mentale. \nQuelles sont les difficultés liées à l’assurance des personnes atteintes de troubles mentaux ? Comment s’organisent les prestations d’assurance et quel est le rôle de l’assureur pour la protection et/ou la restauration d’une meilleure santé mentale de l’assuré ? Quelles sont les effets sur les pratiques assurantielles des politiques publiques en matière de santé mentale ? \nCes questions seront abordées lors du colloque annuel du master Droit des assurances\, organisé sous l’égide de l’Institut caennais de recherche juridique · ICREJ qui réunira universitaires\, avocats\, assureurs et praticiens de la santé mentale. \nProgramme du colloque \nContact\nPénélope COCHENNEC\nICREJ\nResponsable du bureau de la Recherche\ndroit.recherche@unicaen.fr\n02 31 56 51 84
URL:https://www.unicaen.fr/evenement/sante-mentale-et-assurance/
LOCATION:Caen · Campus 1 · Bâtiment D · Amphi Jean Demolombe\, Centre de recherche en sciences de l'éducation\, Esplanade de la Paix\, Caen\, 14000\, France
CATEGORIES:Congrès - Colloque
ATTACH;FMTTYPE=image/jpeg:https://www.unicaen.fr/wp-content/uploads/2022/05/Sante-mentale-et-assurance.jpg
END:VEVENT
END:VCALENDAR