BEGIN:VCALENDAR
VERSION:2.0
PRODID:-//Université de Caen Normandie - ECPv6.15.18//NONSGML v1.0//EN
CALSCALE:GREGORIAN
METHOD:PUBLISH
X-ORIGINAL-URL:https://www.unicaen.fr
X-WR-CALDESC:Évènements pour Université de Caen Normandie
REFRESH-INTERVAL;VALUE=DURATION:PT1H
X-Robots-Tag:noindex
X-PUBLISHED-TTL:PT1H
BEGIN:VTIMEZONE
TZID:Europe/Paris
BEGIN:DAYLIGHT
TZOFFSETFROM:+0100
TZOFFSETTO:+0200
TZNAME:CEST
DTSTART:20210328T010000
END:DAYLIGHT
BEGIN:STANDARD
TZOFFSETFROM:+0200
TZOFFSETTO:+0100
TZNAME:CET
DTSTART:20211031T010000
END:STANDARD
BEGIN:DAYLIGHT
TZOFFSETFROM:+0100
TZOFFSETTO:+0200
TZNAME:CEST
DTSTART:20220327T010000
END:DAYLIGHT
BEGIN:STANDARD
TZOFFSETFROM:+0200
TZOFFSETTO:+0100
TZNAME:CET
DTSTART:20221030T010000
END:STANDARD
BEGIN:DAYLIGHT
TZOFFSETFROM:+0100
TZOFFSETTO:+0200
TZNAME:CEST
DTSTART:20230326T010000
END:DAYLIGHT
BEGIN:STANDARD
TZOFFSETFROM:+0200
TZOFFSETTO:+0100
TZNAME:CET
DTSTART:20231029T010000
END:STANDARD
END:VTIMEZONE
BEGIN:VEVENT
DTSTART;VALUE=DATE:20220519
DTEND;VALUE=DATE:20220620
DTSTAMP:20260423T144543
CREATED:20220516T080825Z
LAST-MODIFIED:20220520T103007Z
UID:30108-1652918400-1655683199@www.unicaen.fr
SUMMARY:Exposition "ÉQUATIONS - Un regard sur des femmes scientifiques"
DESCRIPTION:par Olivia GAY \nOlivia Gay vous invite à découvrir les portraits de 19 femmes chercheuses en sciences réalisés au cours de sa résidence à l’université de Caen Normandie. Cette nouvelle série de photographies de l’artiste intitulée « ÉQUATIONS » sera exposée à la BU Madeleine-Brès du 19 mai au 19 juin. Rencontre-discussion avec l’artiste le jeudi 19 mai à 18h au 1er étage de la BU Madeleine-Brès. \nInscription au vernissage \nLieu : bibliothèque universitaire Madeleine-Brès | PFRS Caen campus 5 (aux horaires d’ouverture de la bibliothèque)
URL:https://www.unicaen.fr/evenement/exposition-equations-un-regard-sur-des-femmes-scientifiques/
LOCATION:Caen · Campus 5 · PFRS (Pôle des formations et de recherche en santé)\, UFR Santé\, 2 Rue des Rochambelles\, Caen\, 14032\, France
CATEGORIES:Exposition
ATTACH;FMTTYPE=image/jpeg:https://www.unicaen.fr/wp-content/uploads/2022/05/Olivia-Gay.jpg
END:VEVENT
BEGIN:VEVENT
DTSTART;TZID=Europe/Paris:20220614T103000
DTEND;TZID=Europe/Paris:20220614T120000
DTSTAMP:20260423T144543
CREATED:20211008T122917Z
LAST-MODIFIED:20211008T122917Z
UID:21689-1655202600-1655208000@www.unicaen.fr
SUMMARY:Atelier Recherche d'entreprises
DESCRIPTION:Stage & alternance\nModalités\n\nEn distanciel\nDurée : 1h30\nPublic : tous les étudiants\n\nObjectifs\n\nRepérer différentes techniques de recherche d’entreprise\nIdentifier et utiliser des annuaires d’entreprises\nContacter une entreprise et se présenter\n\nInscription\n\nInscription obligatoire en ligne via le Career center\nNombre de places limité\n\nProchaine date\n\nLundi 27 juin 2022 – 10h30-12h – En visio
URL:https://www.unicaen.fr/evenement/atelier-recherche-dentreprises-12/
LOCATION:Caen · Campus 1 · Bâtiment B · Espace Orientation Insertion (EOI)\, Bâtiment B\, Esplanade de la Paix\, Caen\, 14000\, France
CATEGORIES:Orientation
ORGANIZER;CN="Espace orientation insertion (EOI)":MAILTO:orientationinsertion@unicaen.fr
END:VEVENT
BEGIN:VEVENT
DTSTART;TZID=Europe/Paris:20220614T200000
DTEND;TZID=Europe/Paris:20220614T220000
DTSTAMP:20260423T144543
CREATED:20220530T063211Z
LAST-MODIFIED:20220628T060901Z
UID:30771-1655236800-1655244000@www.unicaen.fr
SUMMARY:Concert-débat "Chant et santé : apports de la musicothérapie"
DESCRIPTION:L’association Musilience organise un concert-débat qui se déroulera à l’auditorium du PFRS de Caen\, le 14 juin à 20h. La thématique est le « Chant et la santé »\, avec la participation du Choeur et Orchestre Universitaire Régional et de 2 intervenantes en musicothérapie\, Hélène Boros et Rebecca Cheret L’objectif de cet événement est de faire découvrir et d’appréhender les bienfaits du chant sur notre santé. Le public pourra bénéficier d’un concert du COUR puis de l’intervention des musicothérapeutes qui partagerons leur expérience des approches thérapeutiques au travers du chant. \nRéservation en ligne
URL:https://www.unicaen.fr/evenement/concert-debat-chant-et-sante-apports-de-la-musicotherapie/
LOCATION:Caen · Campus 5 · PFRS · Auditorium\, UFR Santé\, 2 Rue des Rochambelles\, Caen\, 14032\, France
CATEGORIES:Musique - Concert
END:VEVENT
END:VCALENDAR