BEGIN:VCALENDAR
VERSION:2.0
PRODID:-//Université de Caen Normandie - ECPv6.15.18//NONSGML v1.0//EN
CALSCALE:GREGORIAN
METHOD:PUBLISH
X-WR-CALNAME:Université de Caen Normandie
X-ORIGINAL-URL:https://www.unicaen.fr
X-WR-CALDESC:Évènements pour Université de Caen Normandie
REFRESH-INTERVAL;VALUE=DURATION:PT1H
X-Robots-Tag:noindex
X-PUBLISHED-TTL:PT1H
BEGIN:VTIMEZONE
TZID:Europe/Paris
BEGIN:DAYLIGHT
TZOFFSETFROM:+0100
TZOFFSETTO:+0200
TZNAME:CEST
DTSTART:20210328T010000
END:DAYLIGHT
BEGIN:STANDARD
TZOFFSETFROM:+0200
TZOFFSETTO:+0100
TZNAME:CET
DTSTART:20211031T010000
END:STANDARD
BEGIN:DAYLIGHT
TZOFFSETFROM:+0100
TZOFFSETTO:+0200
TZNAME:CEST
DTSTART:20220327T010000
END:DAYLIGHT
BEGIN:STANDARD
TZOFFSETFROM:+0200
TZOFFSETTO:+0100
TZNAME:CET
DTSTART:20221030T010000
END:STANDARD
BEGIN:DAYLIGHT
TZOFFSETFROM:+0100
TZOFFSETTO:+0200
TZNAME:CEST
DTSTART:20230326T010000
END:DAYLIGHT
BEGIN:STANDARD
TZOFFSETFROM:+0200
TZOFFSETTO:+0100
TZNAME:CET
DTSTART:20231029T010000
END:STANDARD
END:VTIMEZONE
BEGIN:VEVENT
DTSTART;VALUE=DATE:20220516
DTEND;VALUE=DATE:20220520
DTSTAMP:20260421T030229
CREATED:20210217T090854Z
LAST-MODIFIED:20230119T144412Z
UID:8258-1652659200-1653004799@www.unicaen.fr
SUMMARY:Colloque Français de Chimie du Fluor
DESCRIPTION:Colloque national organisé par le Laboratoire de Chimie Moléculaire et Thioorganique (UMR 6507)\n\nLes laboratoires UMR 6014 COBRA et UMR 6507 LCMT ont le plaisir d’organiser le 3e Colloque Français de Chimie du Fluor\, congrès trisannuel qui se déroulera à Forges-les-Eaux en Seine-Maritime. Le bureau exécutif du GIS Fluor nous a confié l’organisation de ce congrès qui réunira une centaine de participants académiques et industriels travaillant sur toutes les facettes de la chimie du fluor à la fois en sciences fondamentales et appliquées. Cette manifestation scientifique sera l’occasion pour les jeunes chercheurs en cours de formation doctorale d’assister à des conférences délivrées par des conférenciers internationaux et nationaux de prestige.\n\nResponsable scientifique : Thierry Lequeux\n\n\nPublic concerné : spécialistes\, chercheurs et étudiants \nContact\nThierry Lequeux\n02 31 45 28 54\nthierry.lequeux@ensicaen.fr \nLieu\nVVF villages « L’écrin normand » · Forges-les-Eaux (Seine Maritime)
URL:https://www.unicaen.fr/evenement/colloque-francais-de-chimie-du-fluor-cfcf-2020/
CATEGORIES:Congrès - Colloque,Recherche,Sciences et technologies
END:VEVENT
END:VCALENDAR