BEGIN:VCALENDAR
VERSION:2.0
PRODID:-//Université de Caen Normandie - ECPv6.15.18//NONSGML v1.0//EN
CALSCALE:GREGORIAN
METHOD:PUBLISH
X-ORIGINAL-URL:https://www.unicaen.fr
X-WR-CALDESC:Évènements pour Université de Caen Normandie
REFRESH-INTERVAL;VALUE=DURATION:PT1H
X-Robots-Tag:noindex
X-PUBLISHED-TTL:PT1H
BEGIN:VTIMEZONE
TZID:Europe/Paris
BEGIN:DAYLIGHT
TZOFFSETFROM:+0100
TZOFFSETTO:+0200
TZNAME:CEST
DTSTART:20210328T010000
END:DAYLIGHT
BEGIN:STANDARD
TZOFFSETFROM:+0200
TZOFFSETTO:+0100
TZNAME:CET
DTSTART:20211031T010000
END:STANDARD
BEGIN:DAYLIGHT
TZOFFSETFROM:+0100
TZOFFSETTO:+0200
TZNAME:CEST
DTSTART:20220327T010000
END:DAYLIGHT
BEGIN:STANDARD
TZOFFSETFROM:+0200
TZOFFSETTO:+0100
TZNAME:CET
DTSTART:20221030T010000
END:STANDARD
BEGIN:DAYLIGHT
TZOFFSETFROM:+0100
TZOFFSETTO:+0200
TZNAME:CEST
DTSTART:20230326T010000
END:DAYLIGHT
BEGIN:STANDARD
TZOFFSETFROM:+0200
TZOFFSETTO:+0100
TZNAME:CET
DTSTART:20231029T010000
END:STANDARD
END:VTIMEZONE
BEGIN:VEVENT
DTSTART;TZID=Europe/Paris:20220503T153000
DTEND;TZID=Europe/Paris:20220503T170000
DTSTAMP:20260421T211757
CREATED:20211008T124537Z
LAST-MODIFIED:20220314T082118Z
UID:21725-1651591800-1651597200@www.unicaen.fr
SUMMARY:Atelier Candidature "Trouver mon Master"
DESCRIPTION:Trouver mon Master\nModalités\n\nDurée : 1h30\nPublic : Licence 3e année\nSelon les dates\, l’atelier se déroulera en présentiel ou en distanciel (10 mars – 22 mars – 25 mars – 5 avril – 3 mai)\n\nObjectifs\n\nClarifier son projet\nBien utiliser le portail national « Trouver mon Master » pour cibler les formations\nRepérer ses principaux atouts et préparer CV-Lettre\n\nInscription\nInscription obligatoire en ligne via le Career center \nProchaine date\n\nMardi 10 mai 2022 – 10h30-12h
URL:https://www.unicaen.fr/evenement/atelier-candidature-trouver-mon-master-17/
LOCATION:Caen · Campus 1 · Bâtiment B · Espace Orientation Insertion (EOI)\, Bâtiment B\, Esplanade de la Paix\, Caen\, 14000\, France
CATEGORIES:Orientation
ORGANIZER;CN="Espace orientation insertion (EOI)":MAILTO:orientationinsertion@unicaen.fr
END:VEVENT
BEGIN:VEVENT
DTSTART;TZID=Europe/Paris:20220503T170000
DTEND;TZID=Europe/Paris:20220503T180000
DTSTAMP:20260421T211757
CREATED:20220421T203541Z
LAST-MODIFIED:20220421T204122Z
UID:28695-1651597200-1651600800@www.unicaen.fr
SUMMARY:Conférence "LISA : un détecteur spatial pour un nouveau messager\, les ondes gravitationnelles"
DESCRIPTION:LISA : Laser Interferometer Space Antenna \nConférence animée par Yves Lemière\, enseignant-chercheur au Laboratoire de physique corpusculaire\, co-organisée par la Corpo Sciences et la Bibliothèque universitaire Rosalind Franklin. \nInformations pratiques\nLa conférence se déroulera à la Bibliothèque universitaire Rosalind Franklin (salle de conférence · 2e étage) et sera également diffusée en direct.
URL:https://www.unicaen.fr/evenement/lisa-laser-interferometer-space-antenna-un-detecteur-spatial-pour-un-nouveau-messager-les-ondes-gravitationnelles/
LOCATION:Caen · Campus 2 · BU Rosalind-Franklin\, BU Rosalind-Franklin\, Campus 2\, Côte de Nacre\, Boulevard Maréchal Juin\, Caen\, 14032\, France
CATEGORIES:Recherche
END:VEVENT
END:VCALENDAR