BEGIN:VCALENDAR
VERSION:2.0
PRODID:-//Université de Caen Normandie - ECPv6.15.18//NONSGML v1.0//EN
CALSCALE:GREGORIAN
METHOD:PUBLISH
X-WR-CALNAME:Université de Caen Normandie
X-ORIGINAL-URL:https://www.unicaen.fr
X-WR-CALDESC:Évènements pour Université de Caen Normandie
REFRESH-INTERVAL;VALUE=DURATION:PT1H
X-Robots-Tag:noindex
X-PUBLISHED-TTL:PT1H
BEGIN:VTIMEZONE
TZID:Europe/Paris
BEGIN:DAYLIGHT
TZOFFSETFROM:+0100
TZOFFSETTO:+0200
TZNAME:CEST
DTSTART:20210328T010000
END:DAYLIGHT
BEGIN:STANDARD
TZOFFSETFROM:+0200
TZOFFSETTO:+0100
TZNAME:CET
DTSTART:20211031T010000
END:STANDARD
BEGIN:DAYLIGHT
TZOFFSETFROM:+0100
TZOFFSETTO:+0200
TZNAME:CEST
DTSTART:20220327T010000
END:DAYLIGHT
BEGIN:STANDARD
TZOFFSETFROM:+0200
TZOFFSETTO:+0100
TZNAME:CET
DTSTART:20221030T010000
END:STANDARD
BEGIN:DAYLIGHT
TZOFFSETFROM:+0100
TZOFFSETTO:+0200
TZNAME:CEST
DTSTART:20230326T010000
END:DAYLIGHT
BEGIN:STANDARD
TZOFFSETFROM:+0200
TZOFFSETTO:+0100
TZNAME:CET
DTSTART:20231029T010000
END:STANDARD
END:VTIMEZONE
BEGIN:VEVENT
DTSTART;TZID=Europe/Paris:20220429T083000
DTEND;TZID=Europe/Paris:20220429T160000
DTSTAMP:20260425T182509
CREATED:20220330T140813Z
LAST-MODIFIED:20240216T133123Z
UID:27906-1651221000-1651248000@www.unicaen.fr
SUMMARY:Hackathon "Apprenant en 2030\, un défi fantastique"
DESCRIPTION:Et si nous imaginions ensemble l’apprenant de demain ? Quels seront ses nouveaux besoins ? Quelles solutions pourrions-nous inventer pour y répondre ?\nC’est en tout cas le défi fantastique lancé aux JIPN 2022\, les Journées d’Innovations Pédagogiques Normandes qui reviennent cette année sous un format inédit.\n\nParticipez au hackathon « Apprenant en 2030\, un défi fantastique » le vendredi 29 avril de 8h30 à 16h.\n\nL’événement se déroulera sur une journée\, en simultané sur les 3 sites des trois universités : Caen\, Rouen et Le Havre. Les équipes\, composées d’étudiants\, de stagiaires\, de formateurs\, d’enseignants et de professionnels de l’enseignement et de la formation et accompagnées d’un facilitateur\, se challengeront pour résoudre ce défi et faire émerger de nouvelles idées.\n\nQuelques bonnes raisons de participer à cet hackathon :\n\nPour contribuer à l’évolution de la formation.\nPour vivre un moment d’intelligence collective.\nPour s’engager en équipe.\nPour le fun et la convivialité.\n\nNous nous occupons de tout : petit déjeuner\, buffets à volonté toute la journée et vous aurez même droit à un cadeau surprise.\n\nLien d’inscription\n\nToutes les infos sur le site des JIPN
URL:https://www.unicaen.fr/evenement/hackathon-apprenant-en-2030-un-defi-fantastique/
CATEGORIES:Vie de campus
ATTACH;FMTTYPE=image/png:https://www.unicaen.fr/wp-content/uploads/2022/03/Bandeau@2x.png
END:VEVENT
END:VCALENDAR