BEGIN:VCALENDAR
VERSION:2.0
PRODID:-//Université de Caen Normandie - ECPv6.15.18//NONSGML v1.0//EN
CALSCALE:GREGORIAN
METHOD:PUBLISH
X-WR-CALNAME:Université de Caen Normandie
X-ORIGINAL-URL:https://www.unicaen.fr
X-WR-CALDESC:Évènements pour Université de Caen Normandie
REFRESH-INTERVAL;VALUE=DURATION:PT1H
X-Robots-Tag:noindex
X-PUBLISHED-TTL:PT1H
BEGIN:VTIMEZONE
TZID:Europe/Paris
BEGIN:DAYLIGHT
TZOFFSETFROM:+0100
TZOFFSETTO:+0200
TZNAME:CEST
DTSTART:20210328T010000
END:DAYLIGHT
BEGIN:STANDARD
TZOFFSETFROM:+0200
TZOFFSETTO:+0100
TZNAME:CET
DTSTART:20211031T010000
END:STANDARD
BEGIN:DAYLIGHT
TZOFFSETFROM:+0100
TZOFFSETTO:+0200
TZNAME:CEST
DTSTART:20220327T010000
END:DAYLIGHT
BEGIN:STANDARD
TZOFFSETFROM:+0200
TZOFFSETTO:+0100
TZNAME:CET
DTSTART:20221030T010000
END:STANDARD
BEGIN:DAYLIGHT
TZOFFSETFROM:+0100
TZOFFSETTO:+0200
TZNAME:CEST
DTSTART:20230326T010000
END:DAYLIGHT
BEGIN:STANDARD
TZOFFSETFROM:+0200
TZOFFSETTO:+0100
TZNAME:CET
DTSTART:20231029T010000
END:STANDARD
END:VTIMEZONE
BEGIN:VEVENT
DTSTART;VALUE=DATE:20220413
DTEND;VALUE=DATE:20220416
DTSTAMP:20260422T184123
CREATED:20220408T084143Z
LAST-MODIFIED:20250226T091935Z
UID:28259-1649808000-1650067199@www.unicaen.fr
SUMMARY:Concours national de plaidoirie en propriété intellectuelle
DESCRIPTION:En 2009\, s’inspirant de l’IP Moot d’Oxford\, des universitaires nantais expérimentaient un nouveau challenge\, réservé aux étudiants de Master 2\, consacré à la propriété intellectuelle. Le Concours national de plaidoirie en propriété intellectuelle (CN2PI) naissait. Il a\, depuis\, été suivi de plusieurs éditions dans toute la France\, dans les places fortes de la Propriété Intellectuelle : après Nantes\, Grenoble\, Versailles St-Quentin\, Strasbourg\, Montpellier\, Aix-en-Provence\, Lille\, Lyon\, Toulouse ont organisé l’événement\, réunissant plus de 600 étudiants spécialisés s’affrontant lors de joutes oratoires devant des jurys composés de plusieurs dizaines d’universitaires et de praticiens (avocats\, juges\, juristes d’entreprises\, conseils en propriété industrielle\, etc.)\n\nEn 2022\, la 13ème édition du CN2PI se tiendra à Caen les 13\, 14 et 15 avril 2022. 16 Universités inscriront leurs meilleurs étudiants de Master 2 de Droit de la propriété intellectuelle\, IP/IT ou Droit du numérique.\n\nProgramme\nCette première édition normande du CN2PI débutera le 13 avril 2022 à 18h00 par une conférence de Me Jean Castelain\, Bâtonnier de l’ordre des avocats de Paris (2010-2011)\, Vice-président du Conseil national du Barreau\, ancien membre de la Conférence des avocats et spécialiste reconnu de droit d’auteur et des médias: « plaider\, et plaider le droit d’auteur ».\nLe 14 avril 2022 se tiendront à l’UFR Droit de Caen\, de 8h30 à 18h\, les phases éliminatoires\, les quarts et les demi-finales.\nLe 15 avril 2022\, la finale du CN2PI sera exceptionnellement organisée dans la Salle des Gardes de l’Hôtel de Ville de Caen\, en présence de personnalités éminentes du monde de la propriété intellectuelle. À l’issue de cette finale seront délivrés le prix de l’équipe gagnante\, le prix de l’équipe finaliste\, le prix individuel du meilleur plaideur et le prix de la sportivité.\n\nTéléchargez le programme complet\nInscription\nL’ensemble des épreuves sont accessibles au public\, dans la limite des places disponibles et uniquement sur inscription à l’adresse suivante : droit.recherche@unicaen.fr
URL:https://www.unicaen.fr/evenement/concours-national-de-plaidoirie-en-propriete-intellectuelle/
CATEGORIES:Concours,Formation,Recherche
ATTACH;FMTTYPE=image/png:https://www.unicaen.fr/wp-content/uploads/2022/04/cn2pi_ban2-e1649405132222.png
ORGANIZER;CN="UFR droit%2C administration %C3%A9conomique et sociale et administration publique":MAILTO:droit.secretariat@unicaen.fr
END:VEVENT
END:VCALENDAR