BEGIN:VCALENDAR
VERSION:2.0
PRODID:-//Université de Caen Normandie - ECPv6.15.18//NONSGML v1.0//EN
CALSCALE:GREGORIAN
METHOD:PUBLISH
X-ORIGINAL-URL:https://www.unicaen.fr
X-WR-CALDESC:Évènements pour Université de Caen Normandie
REFRESH-INTERVAL;VALUE=DURATION:PT1H
X-Robots-Tag:noindex
X-PUBLISHED-TTL:PT1H
BEGIN:VTIMEZONE
TZID:Europe/Paris
BEGIN:DAYLIGHT
TZOFFSETFROM:+0100
TZOFFSETTO:+0200
TZNAME:CEST
DTSTART:20210328T010000
END:DAYLIGHT
BEGIN:STANDARD
TZOFFSETFROM:+0200
TZOFFSETTO:+0100
TZNAME:CET
DTSTART:20211031T010000
END:STANDARD
BEGIN:DAYLIGHT
TZOFFSETFROM:+0100
TZOFFSETTO:+0200
TZNAME:CEST
DTSTART:20220327T010000
END:DAYLIGHT
BEGIN:STANDARD
TZOFFSETFROM:+0200
TZOFFSETTO:+0100
TZNAME:CET
DTSTART:20221030T010000
END:STANDARD
BEGIN:DAYLIGHT
TZOFFSETFROM:+0100
TZOFFSETTO:+0200
TZNAME:CEST
DTSTART:20230326T010000
END:DAYLIGHT
BEGIN:STANDARD
TZOFFSETFROM:+0200
TZOFFSETTO:+0100
TZNAME:CET
DTSTART:20231029T010000
END:STANDARD
END:VTIMEZONE
BEGIN:VEVENT
DTSTART;VALUE=DATE:20220404
DTEND;VALUE=DATE:20220407
DTSTAMP:20260422T072509
CREATED:20220308T071614Z
LAST-MODIFIED:20220308T073837Z
UID:26330-1649030400-1649289599@www.unicaen.fr
SUMMARY:Critique du cinéma : cinéma et marxisme - pensées\, formes\, engagements
DESCRIPTION:Le colloque international intitulé « Critique du cinéma : cinéma et marxisme – pensées\, formes\, engagements » n’est pas une manifestation militante\, c’est un espace théorique afin d’envisager à l’aune des importantes recherches menées ces dernières années\, les relations entretenues par le cinéma avec le marxisme\, envisagé comme une compréhension critique du spectacle des images animées. \nSi\, en 2013\, on pouvait encore s’étonner avec Isabelle Gouarné : « du peu de recherches menées en histoire des sciences humaines sur la pensée marxiste\, alors même que son ancrage fut durable en France et qu’on a pu affirmer\, mais rarement démontrer\, son hégémonie après la Seconde Guerre mondiale »\, la situation en études cinématographiques est aujourd’hui bien différente. \nAux articles et ouvrages pionniers ont succédé des thèses de référence tandis que nombre de films qui hier encore étaient inconnus sont dorénavant numérisés et valorisés par les institutions conservatrices. Recherches qu’on souhaiterait au cours de ce colloque confronter ou associer afin de penser le cinéma à partir de catégories dont les enjeux épistémologiques sont encore peu examinés\, à savoir le collectif plutôt que l’auteur ; le non commercial plutôt que le commercial ; l’amateur plutôt que le professionnel ; le mineur plutôt que le majeur ; le réel ou le didactique plutôt que le fictif ; l’international dans ses relations au national\, etc. \nResponsables scientifiques : Valérie Vignaux et Sébastien Layerle \nPublic visé : tout public \nDimension de la manifestation : internationale \nLieux :\nInstitut Mémoire de l’édition contemporaine · IMEC\nAbbaye D’Ardenne\nChemin de Saint-Germain à Saint-Germain-la-Blanche-Herbe \nMRSH\nCaen\nCampus 1\nSalle des Actes \nContact :\nValérie Vignaux\n06 38 22 63 62\nvalerie.vignaux@unicaen.fr
URL:https://www.unicaen.fr/evenement/critique-du-cinema-cinema-et-marxisme-pensees-formes-engagements/
CATEGORIES:Conférence
END:VEVENT
BEGIN:VEVENT
DTSTART;VALUE=DATE:20220404
DTEND;VALUE=DATE:20220408
DTSTAMP:20260422T072509
CREATED:20220323T144926Z
LAST-MODIFIED:20220408T123523Z
UID:27565-1649030400-1649375999@www.unicaen.fr
SUMMARY:Semaine des masters UNICAEN : des webinaires pour vous présenter nos formations
DESCRIPTION:Vous êtes intéressés par un master de l’université de Caen Normandie ?\nVous souhaitez échanger avec le responsable pédagogique ? \nLes responsables des masters vous donnent rendez-vous du 4 au 7 avril 2022 sous la forme de webinaires : une présentation\, puis des échanges\, le tout en 1h !\nChoisissez votre formation\, puis connectez-vous à la date et à l’horaire indiqués. \nEn savoir plus sur les masters UNICAEN. \nMaster Contrôle de gestion et audit organisationnel parcours Contrôleur de gestion business partner et amélioration continue\n\nLundi 4 avril – 18h – Présentation par Julien Henriot et Sylvain Gorin\nFiche présentation de la formation\n\nMaster Droit International et droit Européen parcours Droit et Régulation des marchés internationaux\n\nMardi 5 avril – 19h – Présentation par Stéphane Leclerc\nFiche présentation de la formation\n\nMaster Économie appliquée parcours Advanced applied economics\n\nJeudi 7 avril – 18h – Présentation par Nicolas Drouhin\nFiche présentation de la formation\n\nMaster Géographie\, aménagement\, environnement et développement\n\nparcours Environnement\, risques et diagnostics territoriaux\nJeudi 7 avril – 18h – Présentation par Olivier Cantat\nFiche présentation de la formation\nparcours Territoires en transition : métiers du diagnostic\, de l’aménagement et du développement local\nMercredi 6 avril – 18h – Présentation par Michaël Bermond\nFiche présentation de la formation\n\nMaster Gestion de l’environnement parcours Ingénierie et géosciences du littoral\n\nMardi 5 avril – 18h – Présentation par Dominique Mouazé\nFiche présentation de la formation\n\nMaster Management du sport parcours Sports : territoires\, acteurs et réseaux\n\nLundi 4 avril – 19h – Présentation par Boris Helleu\nFiche présentation de la formation\nMercredi 6 avril – 19h – Présentation par Boris Helleu\nFiche présentation de la formation\n\nMaster Mathématiques parcours Mathématiques générales\n\nMardi 5 avril – 18h – Présentation par John Guaschi\nFiche présentation de la formation\n\nMaster Métier de l’enseignement\, de l’éducation et de la formation · MEEF · Pratiques et ingénierie de la formation parcours Mobilités et tourismes éducatifs\n\nMardi 5 avril – 19h –  Présentation par Xavier Michel\nFiche présentation de la formation\n\nMaster Métiers de l’enseignement\, de l’éducation et de la formation · MEEF · Premier Degré\n\nMardi 5 avril – 18h – Présentation par Jean-Philippe Georget\nFiche présentation de la formation\n\nMaster Métiers du livre et de l’édition\n\nJeudi 7 avril – 18h – Présentation par Brigitte Gauvin\nFiches présentation de la formation parcours Edition ou parcours Métiers des bibliothèques\n\nMaster Monnaie\, banque\, finance\, assurance parcours Gestion d’actifs\, contrôle des risques et conformité\n\nJeudi 7 avril – 21h – Présentation par Slim Souissi\nFiche présentation de la formation\n\nMaster Physique parcours Noyaux\, atomes\, collisions\n\nJeudi 7 avril – 19h – Présentation par David Boilley\nFiche présentation de la formation\n\nMaster Psychologie\n\nJeudi 7 avril – 18h – Présentation par Karine Lebreton – REPLAY\nFiches présentation de la formation parcours Psychologie clinique du développement de l’enfant\, de l’adolescent et de la famille ou parcours Neuropsychologie clinique de l’enfant à l’adulte ou parcours Psychologie de l’éducation ou parcours Psychologie psycho-dynamique clinique et pathologique ou parcours Psychologie sociale et conduite du changement : diagnostic et intervention\n\nMaster Santé publique parcours Éthique en santé\n\nMardi 5 avril – 18h – Présentation par Mylène Gouriot et Guillaume Grandazzi – REPLAY\nFiche de présentation de la formation\n\nMaster Sciences du langage\n\nMercredi 6 avril – 18h – Présentation par Pierre Larrivee\nFiches présentation de la formation parcours Didactique du français langue étrangère ou parcours Linguistique et traitement des données\n\nMaster Sciences du médicament et des produits d’E-santé\n\nMardi 5 avril – 19h – Présentation par François Sichel\nFiches de présentation de la formation parcours Drug design et parcours Développement clinique du médicament\n\nMaster Urbanisme et aménagement parcours Aménagement durable\, urbanisme rénové\, assistance à maîtrise d’ouvrage\n\nMardi 5 avril – 18h – Présentation par Alice Rouyer\nFiche présentation de la formation\n\nUNICAEN\, c’est aussi des diplômes d’ingénieurs portés par l’ESIX Normandie\nDiplôme d’ingénieur en Agro-alimentaire\n\nLundi 4 avril – 18h – Présentation par Margot Schlusselhuber – REPLAY\nFiche présentation de la formation\n\nDiplôme d’ingénieur Mécatronique et Systèmes Embarqués\n\nMercredi 6 avril – 18h – Présentation par Sébastien Saez\nFiche présentation de la formation
URL:https://www.unicaen.fr/evenement/semaine-des-masters-unicaen-des-webinaires-pour-vous-presenter-nos-formations/
LOCATION:Caen · Campus 1 · Bâtiment B · Espace Orientation Insertion (EOI)\, Bâtiment B\, Esplanade de la Paix\, Caen\, 14000\, France
CATEGORIES:Formation,Orientation
END:VEVENT
BEGIN:VEVENT
DTSTART;VALUE=DATE:20220406
DTEND;VALUE=DATE:20220408
DTSTAMP:20260422T072509
CREATED:20220404T091836Z
LAST-MODIFIED:20220404T091836Z
UID:28012-1649203200-1649375999@www.unicaen.fr
SUMMARY:Colloque international "Freak accidents : de l'accident improbable et monstrueux au cinéma"
DESCRIPTION:Ce colloque s’attache à l’exemple particulier et spécifique des accidents de production dans l’histoire du cinéma\, de sa création à nos jours. « Accident de tournage » désigne l’événement imprévu qui survient au cours du tournage et occasionne des dommages matériels et corporels\, parfois mortels. L’accident de tournage est ici approché à travers une expression anglaise en forme de pléonasme\, « freak accident »\, qui martèle l’approche rationnelle\, voire statistique\, de l’improbabilité (l’exception mettant l’accent sur la règle) tout en invoquant l’irrationnel propre au monstrueux\, une fatalité dont les causes nous échapperaient et sur lequel nous n’aurions pas de prises. Appliquée au cinéma et à son industrie\, l’expression interpelle à plus d’un titre. En amenant le monstre dans l’accident de cinéma\, il s’agit non seulement de garder actif le principe fondateur de hasard et d’improbabilité historiquement à l’œuvre dans le cinéma\, mais aussi d’explorer la notion de monstrueux dans l’image de l’accident lui-même ou de ses effets\, de manière corporelle et plastique. \nProgramme\nmercredi 6 avril\n9h-17h | Colloque\nMaison de la recherche en sciences humaines (campus 1) \n18h | Projection The Last Movie (Dennis Hopper\, 1971)\nCafé des images (4 square du théâtre\, 14200 Hérouville Saint-Clair) \njeudi 7 avril\n9h30-18h | Colloque\nésam Caen/Cherbourg—site de Caen (17 cours Caffarelli\, 14000 Caen) \nTélécharger le programme complet \nContact\nAlexis Guillier (LASLAR · UR 4256) | alexis.guillier@unicaen.fr
URL:https://www.unicaen.fr/evenement/colloque-international-freak-accidents-de-laccident-improbable-et-monstrueux-au-cinema/
CATEGORIES:Recherche,Sciences humaines et sociales
ATTACH;FMTTYPE=image/png:https://www.unicaen.fr/wp-content/uploads/2022/04/Image1-e1649063712700.png
END:VEVENT
BEGIN:VEVENT
DTSTART;TZID=Europe/Paris:20220406T100000
DTEND;TZID=Europe/Paris:20220406T150000
DTSTAMP:20260422T072509
CREATED:20220325T171719Z
LAST-MODIFIED:20220404T082921Z
UID:27768-1649239200-1649257200@www.unicaen.fr
SUMMARY:[ANNULÉ] Journée nationale Savate partagée
DESCRIPTION:Suite à des expériences riches d’échanges et d’enseignements initiées à Grenoble et Paris\, avec la Fédération Française de SAVATE boxe française et Disciplines Associées\, l’université de Caen Normandie accueille une nouvelle édition de la journée nationale « Savate partagée » organisée par la Commission nationale sport santé et handicap\, la Fédération française de savate et DA et le Comité national de canne de combat. \nInitialement programmée en décembre\, l’évènement avait dû être reporté suite à la hausse nationale très importante des contaminations à la Covid-19. \nPour les plus motivés\, des séquences de mises en situations complémentaires et de rencontres inclusives\, sportives et ludiques\, seront proposées\, en complément\, de 14h à 15h00 avec l’accompagnement de l’encadrement fédéral. \nFormulaire d’inscription
URL:https://www.unicaen.fr/evenement/journee-nationale-savate-partagee/
LOCATION:Caen · Campus 2 · Gymnase Étienne Jules Marey (UFR STAPS)\, Gymnase UFR STAPS\, Boulevard Maréchal Juin\, Caen\, 14000\, France
ATTACH;FMTTYPE=image/jpeg:https://www.unicaen.fr/wp-content/uploads/2022/03/STAPS_Percussions©DircomUnicaen-web-54_1000x400.jpg
END:VEVENT
BEGIN:VEVENT
DTSTART;TZID=Europe/Paris:20220406T180000
DTEND;TZID=Europe/Paris:20220406T200000
DTSTAMP:20260422T072509
CREATED:20220330T081121Z
LAST-MODIFIED:20220330T084445Z
UID:27863-1649268000-1649275200@www.unicaen.fr
SUMMARY:À Caen l'Ukraine
DESCRIPTION:L’université organise\, via le département de philosophie de l’UFR HSS\, une soirée d’échange autour de la guerre en Ukraine. \nAu programme de cette soirée : \n\nProjection du court-métrage « kilim » en présence de la réalisatrice Natalia Kyselova et de son acteur Andrii Kostash\nTémoignages : Olena Tenditna et les étudiants de l’université\nLectures :  Alix Lavignasse et Rodolphe Dekowski\, pour les textes des dramaturges Neda Nejdana et Vladyslav Troïtsky\n\nPlaces limitées à la capacité d’accueil de l’amphithéâtre.
URL:https://www.unicaen.fr/evenement/a-caen-lukraine/
LOCATION:Caen · Campus 1 · Maison de la recherche en sciences humaines (MRSH) · Amphi\, Campus 1\, Maison de la recherche en sciences humaines (MRSH)\, 1 Esplanade de la Paix\, Caen\, 14000\, France
CATEGORIES:Projection - Cinéma,Université,Vie de campus
ATTACH;FMTTYPE=image/jpeg:https://www.unicaen.fr/wp-content/uploads/2022/03/DSC_0059-scaled-e1646150003338.jpg
END:VEVENT
BEGIN:VEVENT
DTSTART;TZID=Europe/Paris:20220406T183000
DTEND;TZID=Europe/Paris:20220406T193000
DTSTAMP:20260422T072509
CREATED:20211105T090123Z
LAST-MODIFIED:20220401T151614Z
UID:22700-1649269800-1649273400@www.unicaen.fr
SUMMARY:Nocturne du Plan de Rome : Les aqueducs de Rome
DESCRIPTION:Signes de la puissance romaine\, les aqueducs ont marqué durablement le paysage méditerranéen\, fournissant une eau jugée indispensable à un mode de vie digne d’un citoyen de l’empire. Rien qu’à Rome\, près d’un milliard de litres d’eau étaient acheminés quotidiennement par onze aqueducs dont certains fonctionnent encore aujourd’hui. Quelles connaissances techniques permettaient aux Romains de construire de tels ouvrages ? Comment étaient-ils entretenus et administrés ? Quels lieux desservaient-ils ? Nous évoquerons le travail des ingénieurs et de l’administration impériale en suivant virtuellement le parcours urbain d’un des plus somptueux aqueducs de la capitale : l’Aqua Claudia. Depuis la muraille d’Aurélien et la Porte Majeure\, en passant par les arcades sur le Célius et la vallée San Gregorio jusqu’au Palatin et à la fontaine monumentale du Septizodium\, nous découvrirons les principes physiques qui régissent l’adduction d’eau et les solutions imaginées par les Romains pour les mettre en œuvre. \nLa conférence sera retransmise en direct sur YouTube : https://www.youtube.com/cireve/live \nTout le programme des nocturnes du Plan de Rome 2021-2022 est à retrouver sur https://rome.unicaen.fr/
URL:https://www.unicaen.fr/evenement/nocturne-du-plan-de-rome-les-aqueducs-de-rome/
LOCATION:Caen · Campus 1 · Bâtiment P · Amphi Pierre Daure\, Amphithéâtre Pierre Daure\, Esplanade de la Paix\, Caen\, 14000\, France
CATEGORIES:Nocturne du Plan de Rome
ATTACH;FMTTYPE=image/jpeg:https://www.unicaen.fr/wp-content/uploads/2021/11/2022-03-06_Nocturne_plan_de_rome_web.jpg
END:VEVENT
BEGIN:VEVENT
DTSTART;TZID=Europe/Paris:20220406T200000
DTEND;TZID=Europe/Paris:20220406T210000
DTSTAMP:20260422T072509
CREATED:20220323T081043Z
LAST-MODIFIED:20220325T093557Z
UID:27550-1649275200-1649278800@www.unicaen.fr
SUMMARY:Fous de la Rampe 2022 | Nous voir nous
DESCRIPTION:Dans le cadre de la clôture de la 26ème édition du Festival de théâtre étudiant « Les Fous de la Rampe »\, le Collectif Ensem(si)ble vous présente « Nous Voir Nous ». \nCollectif Ensem(si)ble \n« Nous voir nous » retrace l’histoire de cinq prétendus amis lors d’une même soirée à travers les réseaux sociaux. Sous une avalanche de photographies\, de flashs et de vidéos\, les cinq personnages sur un rythme effréné nous dévoilent chacun leurs vies\, mais est ce réellement la leur ? Au fil de la pièce\, le temps se dilate et l’on découvre de nouvelles versions de la même histoire. C’est un véritable univers froid et superficiel fait de rivalités qui se dévoile peu à peu. Où s’arrête la réalité et où commence la fiction ? Comment manipulons-nous la réalité à travers les écrans\, les images ? Jusqu’où iront-ils pour théâtraliser leurs vies ? \nTexte : Guillaume Corbeil \nMise en scène et création lumière : Julien De Ciancio \nDistribution : Jeanne Didot\, Asma Ghezzali\, Valentin Hautcoeur\, Léa Wilhelm\, Alexandre Thoraval \nCréation vidéo : Charline Richard \nDramaturgie : Asma Ghezzali \nRégie générale : Thibault Dubourg \nProgrammation des Fous de la Rampe
URL:https://www.unicaen.fr/evenement/nous-voir-nous/
LOCATION:Caen · Campus 1 · Maison de l’étudiant (MDE)\, Maison de l'étudiant Université de Caen\, Rue Colonel Usher\, Caen\, 14000\, France
CATEGORIES:Théâtre
ATTACH;FMTTYPE=image/jpeg:https://www.unicaen.fr/wp-content/uploads/2022/03/Nous-voir-nous.jpg
END:VEVENT
END:VCALENDAR