BEGIN:VCALENDAR
VERSION:2.0
PRODID:-//Université de Caen Normandie - ECPv6.15.18//NONSGML v1.0//EN
CALSCALE:GREGORIAN
METHOD:PUBLISH
X-WR-CALNAME:Université de Caen Normandie
X-ORIGINAL-URL:https://www.unicaen.fr
X-WR-CALDESC:Évènements pour Université de Caen Normandie
REFRESH-INTERVAL;VALUE=DURATION:PT1H
X-Robots-Tag:noindex
X-PUBLISHED-TTL:PT1H
BEGIN:VTIMEZONE
TZID:Europe/Paris
BEGIN:DAYLIGHT
TZOFFSETFROM:+0100
TZOFFSETTO:+0200
TZNAME:CEST
DTSTART:20210328T010000
END:DAYLIGHT
BEGIN:STANDARD
TZOFFSETFROM:+0200
TZOFFSETTO:+0100
TZNAME:CET
DTSTART:20211031T010000
END:STANDARD
BEGIN:DAYLIGHT
TZOFFSETFROM:+0100
TZOFFSETTO:+0200
TZNAME:CEST
DTSTART:20220327T010000
END:DAYLIGHT
BEGIN:STANDARD
TZOFFSETFROM:+0200
TZOFFSETTO:+0100
TZNAME:CET
DTSTART:20221030T010000
END:STANDARD
BEGIN:DAYLIGHT
TZOFFSETFROM:+0100
TZOFFSETTO:+0200
TZNAME:CEST
DTSTART:20230326T010000
END:DAYLIGHT
BEGIN:STANDARD
TZOFFSETFROM:+0200
TZOFFSETTO:+0100
TZNAME:CET
DTSTART:20231029T010000
END:STANDARD
END:VTIMEZONE
BEGIN:VEVENT
DTSTART;VALUE=DATE:20220222
DTEND;VALUE=DATE:20220402
DTSTAMP:20260425T182609
CREATED:20220203T130537Z
LAST-MODIFIED:20220311T140612Z
UID:25236-1645488000-1648857599@www.unicaen.fr
SUMMARY:Die Weiße Rose - La rose blanche
DESCRIPTION:Le département d’études germaniques vous propose une exposition\, en français\, sur la résistance en Allemagne au cours de la seconde Guerre mondiale. \nSophie Scholl\, célèbre résistante et étudiante allemande du groupe « Weiße Rose/La Rose Blanche »\, aurait fêté son 100e anniversaire en 2021. Le Département d’études germaniques lui rend hommage en présentant une exposition détaillant la genèse du groupe de résistance\, présentant ses activités antinazies ainsi que les biographies de Sophie et Hans Scholl\, de Willi Graf\, Kurt Huber\, Hans Leipelt\, Christoph Probst et Alexander Schmorell\, leurs contacts avec d’autres groupes d’opposition\, puis enfin l’anéantissement de la résistance étudiante par le système judiciaire nazi. \nExposition sur entrée libre réservée à la communauté universitaire. \nVisites guidées possibles pour les scolaires\, suivant le protocole sanitaire en vigueur\, en contactant annika.moller@unicaen.fr \nVernissage (sur invitation pour le public extérieur) le 22 février à 18h30 sur le campus 1\, dans le Hall du bâtiment G\, avec la participation d’étudiants de L1 et L3 d’allemand et de musiciens du Chœur & Orchestre Universitaire Régional · COUR\, suivi de la projection du film « Elser\, un héros ordinaire » à 20h dans l’amphithéâtre Pierre Daure (VO STFR). \nPort du masque et passe vaccinal obligatoires.
URL:https://www.unicaen.fr/evenement/die-weise-rose-la-rose-blanche/
LOCATION:Caen · Campus 1 · Bâtiment G\, Centre de formation aux carrières des bibliothèques de Caen\, Caen\, 14000\, France
CATEGORIES:Exposition
ATTACH;FMTTYPE=image/jpeg:https://www.unicaen.fr/wp-content/uploads/2022/02/La-rose-blanche.jpg
END:VEVENT
BEGIN:VEVENT
DTSTART;TZID=Europe/Paris:20220329T103000
DTEND;TZID=Europe/Paris:20220329T120000
DTSTAMP:20260425T182609
CREATED:20211008T123613Z
LAST-MODIFIED:20211008T123613Z
UID:21703-1648549800-1648555200@www.unicaen.fr
SUMMARY:Atelier Candidature "Intégrer une Licence professionnelle ou un BUT (après une L2 ou L3)"
DESCRIPTION:Intégrer une Licence professionnelle ou un BUT\nModalités\n\nDurée : 1h30\nPublic : étudiants de L2 ou L3\nSelon les dates\, l’atelier se déroulera en présentiel ou en distanciel (27 janv. – 23 fév.)\n\nObjectifs\n\nClarifier son projet\nCibler les formations en lien avec son projet\nRepérer ses principaux atouts et préparer CV-Lettre\n\nInscription\n\nInscription obligatoire en ligne via le Career center\nNombre de places limité
URL:https://www.unicaen.fr/evenement/atelier-candidature-integrer-une-licence-professionnelle-ou-un-but-apres-une-l2-ou-l3-5/
LOCATION:Caen · Campus 1 · Bâtiment B\, Bâtiment B\, Esplanade de la Paix\, Caen\, 14000\, France
CATEGORIES:Orientation
ORGANIZER;CN="Espace orientation insertion (EOI)":MAILTO:orientationinsertion@unicaen.fr
END:VEVENT
BEGIN:VEVENT
DTSTART;TZID=Europe/Paris:20220329T170000
DTEND;TZID=Europe/Paris:20220329T183000
DTSTAMP:20260425T182609
CREATED:20220304T100146Z
LAST-MODIFIED:20220304T100511Z
UID:26135-1648573200-1648578600@www.unicaen.fr
SUMMARY:Conférence · La maladie d’Alzheimer dans tous ses états
DESCRIPTION:avec Olivier Martinaud\, professeur des universités-praticien hospitalier (NIMH · UMR-S 1077 UNICAEN-EPHE-INSERM)\nCette conférence est co-organisée par la Corpo Sciences et la BU Rosalind Franklin (Sciences-STAPS).\n\nInfos pratiques\nen présentiel ou en ligne sur la WebTV de Normandie Université \n  \n 
URL:https://www.unicaen.fr/evenement/conference-la-maladie-dalzheimer-dans-tous-ses-etats/
LOCATION:Caen · Campus 2 · BU Rosalind-Franklin\, BU Rosalind-Franklin\, Campus 2\, Côte de Nacre\, Boulevard Maréchal Juin\, Caen\, 14032\, France
CATEGORIES:Recherche
ATTACH;FMTTYPE=image/jpeg:https://www.unicaen.fr/wp-content/uploads/2021/11/Cerveau.jpg
END:VEVENT
BEGIN:VEVENT
DTSTART;TZID=Europe/Paris:20220329T200000
DTEND;TZID=Europe/Paris:20220329T213000
DTSTAMP:20260425T182609
CREATED:20220323T073056Z
LAST-MODIFIED:20220325T093556Z
UID:27534-1648584000-1648589400@www.unicaen.fr
SUMMARY:Fous de la Rampe 2022 | Garde à Nous !
DESCRIPTION:Dans le cadre de la 26ème édition du Festival de théâtre étudiant « Les Fous de la Rampe »\, la compagnie étudiante la Grenade Égarée vous présente « Garde à Nous ! » \nUn soldat qui revient de la guerre. Il retrouve sa famille qui est restée\, il tente de résister à ses démons et de ne pas sombrer dans une folie noire. Et si l’on ne revenait jamais de la guerre ? Il s’agit à la fois de retrouver un contexte familial et à la fois de cohabiter avec ses souvenirs de guerre ; revenir comme s’il n’était jamais parti sans même se souvenir de ce à quoi ressemblait la vie qu’il a laissé. \nEntre rêve et réalité\, vie et mort\, amour et haine : prenons Garde à Nous. \nMise en scène : Flavien Beaudron et Louise Gardan \nDistribution : Aglaé Cahierre\, Thomas Cuesta\, Apollinaire Ponziani et Lucas Touchard \nProgrammation des Fous de la Rampe
URL:https://www.unicaen.fr/evenement/garde-a-nous/
LOCATION:Caen · Campus 1 · Maison de l’étudiant (MDE)\, Maison de l'étudiant Université de Caen\, Rue Colonel Usher\, Caen\, 14000\, France
CATEGORIES:Théâtre
ATTACH;FMTTYPE=image/jpeg:https://www.unicaen.fr/wp-content/uploads/2022/03/GardeANous.jpg
END:VEVENT
BEGIN:VEVENT
DTSTART;TZID=Europe/Paris:20220329T200000
DTEND;TZID=Europe/Paris:20220329T223000
DTSTAMP:20260425T182609
CREATED:20220321T094431Z
LAST-MODIFIED:20220321T094557Z
UID:27401-1648584000-1648593000@www.unicaen.fr
SUMMARY:Ne nous racontez plus d'histoires
DESCRIPTION:Dans le cadre de la semaine d’éducation et d’actions contre le racisme et l’antisémitisme et de la commémoration des 60 ans des accords d’Evian marquant la fin de la guerre d’Algérie et son indépendance. En partenariat avec Sos Racisme Basse-Normandie. \nUn film de Ferhat Mouhali et Carole Filiu | Documentaire | 2020 | 1h et 28 minutes \nElle est française\, il est algérien. Toute leur enfance a été bercée par la guerre d’Algérie. Souvenirs traumatisants d’un départ forcé pour la journaliste\, fille de pieds noirs ; récit mythifié d’une indépendance glorieuse pour le réalisateur\, militant des droits humains. Chacun a eu droit à sa version de l’Histoire. \nLoin de l’historiographie officielle\, ils rencontrent des témoins aux discours volontairement oubliés et qui se battent contre la guerre des mémoires pour faire entendre une vérité plus apaisée. \nProjection suivie d’un échange avec Paul-Max Morin\, chercheur associé à Science Po Paris et auteur du livre « Les jeunes et la guerre d’Algérie ». \n« Les jeunes et la guerre d’Algérie » de Paul-Max Morin. Au cours de ses recherches\, l’auteur a rencontré de nombreux jeunes désireux d’interroger ces traces pour comprendre leurs origines\, leurs identités et la société française. En pansant les plaies du passé\, leurs quêtes nous aident à penser la société française. Parce qu’ils sont la solution\, ce livre leur donne la parole Sur la base d’une enquête auprès de 3 000 jeunes âgés de 18 à 25 ans et après une centaine d’entretiens avec des petits-enfants d’appelés\, de Pieds-noirs\, de Harki\, de Juifs d’Algérie\, de militants au FLN ou à l’OAS\, on comprend vite que 39% des jeunes Français ont un lien familial avec la guerre d’Algérie et doivent affronter ses conséquences intimes et politiques. \nCet ouvrage permet à la fois de faire le constat de ce que les jeunes savent et retiennent de la colonisation et de la guerre d’Algérie\, de ce qui a été transmis dans les familles et de la façon dont cette nouvelle génération interprète\, négocie et utilise les traces de cette histoire avec lesquelles nous vivons encore.
URL:https://www.unicaen.fr/evenement/ne-nous-racontez-plus-dhistoires/
LOCATION:Caen · Campus 1 · Bâtiment P · Amphi Pierre Daure\, Amphithéâtre Pierre Daure\, Esplanade de la Paix\, Caen\, 14000\, France
CATEGORIES:Projection - Cinéma
ATTACH;FMTTYPE=image/jpeg:https://www.unicaen.fr/wp-content/uploads/2022/03/Ne-nous-racontez-plus-dhistoires.jpg
END:VEVENT
END:VCALENDAR