BEGIN:VCALENDAR
VERSION:2.0
PRODID:-//Université de Caen Normandie - ECPv6.15.18//NONSGML v1.0//EN
CALSCALE:GREGORIAN
METHOD:PUBLISH
X-WR-CALNAME:Université de Caen Normandie
X-ORIGINAL-URL:https://www.unicaen.fr
X-WR-CALDESC:Évènements pour Université de Caen Normandie
REFRESH-INTERVAL;VALUE=DURATION:PT1H
X-Robots-Tag:noindex
X-PUBLISHED-TTL:PT1H
BEGIN:VTIMEZONE
TZID:Europe/Paris
BEGIN:DAYLIGHT
TZOFFSETFROM:+0100
TZOFFSETTO:+0200
TZNAME:CEST
DTSTART:20210328T010000
END:DAYLIGHT
BEGIN:STANDARD
TZOFFSETFROM:+0200
TZOFFSETTO:+0100
TZNAME:CET
DTSTART:20211031T010000
END:STANDARD
BEGIN:DAYLIGHT
TZOFFSETFROM:+0100
TZOFFSETTO:+0200
TZNAME:CEST
DTSTART:20220327T010000
END:DAYLIGHT
BEGIN:STANDARD
TZOFFSETFROM:+0200
TZOFFSETTO:+0100
TZNAME:CET
DTSTART:20221030T010000
END:STANDARD
BEGIN:DAYLIGHT
TZOFFSETFROM:+0100
TZOFFSETTO:+0200
TZNAME:CEST
DTSTART:20230326T010000
END:DAYLIGHT
BEGIN:STANDARD
TZOFFSETFROM:+0200
TZOFFSETTO:+0100
TZNAME:CET
DTSTART:20231029T010000
END:STANDARD
END:VTIMEZONE
BEGIN:VEVENT
DTSTART;VALUE=DATE:20220115
DTEND;VALUE=DATE:20220320
DTSTAMP:20260421T045140
CREATED:20211210T134418Z
LAST-MODIFIED:20220425T142929Z
UID:23911-1642204800-1647734399@www.unicaen.fr
SUMMARY:Concours EloCAENce
DESCRIPTION:Pour chaque étape du concours\, les candidats auront un sujet à défendre face à un autre candidat\, l’un défendant la positive et l’autre la négative. Les sujets peuvent porter sur l’actualité\, sur des adages de la vie commune… À titre d’exemple\, le sujet du concours national d’éloquence 2021 était « L’union fait-elle la force ? ». \nLes vainqueurs seront invités à participer à NormandiEloquence\, le concours d’éloquence régional puis au Concours national d’éloquence organisé par l’ARES. Le concours est ouvert à tous les étudiants de l’université de Caen Normandie\, toutes filières confondues. \nInscription \nLa participation est totalement gratuite. Attention ! Le pass sanitaire est requis. \nContact : contact@lexcadomus.org
URL:https://www.unicaen.fr/evenement/concours-elocaence/
LOCATION:Caen · Campus 1 · Bâtiment B\, Bâtiment B\, Esplanade de la Paix\, Caen\, 14000\, France
CATEGORIES:Concours
ATTACH;FMTTYPE=image/jpeg:https://www.unicaen.fr/wp-content/uploads/2021/12/Concours-EloCAENce.jpg
END:VEVENT
BEGIN:VEVENT
DTSTART;VALUE=DATE:20220204
DTEND;VALUE=DATE:20220316
DTSTAMP:20260421T045140
CREATED:20220204T080954Z
LAST-MODIFIED:20220419T094355Z
UID:25263-1643932800-1647388799@www.unicaen.fr
SUMMARY:Consultation citoyenne sur la télémédecine
DESCRIPTION:Cette consultation citoyenne s’inscrit dans le cadre du projet « Enjeux du développement de la télémédecine en Normandie » (EDETEN)\, porté par l’université de Caen Normandie et financé par l’Union européenne dans le cadre du programme opérationnel FEDER/ FSE 2014-2020. \nCette consultation doit permettre de recueillir directement et anonymement les avis et expériences des Normands et Normandes sur la télémédecine. La consultation en ligne est structurée en trois thèmes auxquels vous pourrez répondre : la téléconsultation\, la télésurveillance médicale et vos habitudes de santé. \nÀ l’issue de cette enquête\, les résultats seront restitués sur le site de l’Espace de réflexion éthique de Normandie (EREN). Toute participation est importante\, que vous ayez ou non expérimenté la télémédecine ! D’avance un grand merci et n’hésitez pas à parler de cette concertation citoyenne autour de vous ! \nContactez-nous à l’adresse suivante : cecilia.calheiros@unicaen.fr
URL:https://www.unicaen.fr/evenement/consultation-citoyenne-sur-la-telemedecine/
LOCATION:Caen · Campus 1 · Bâtiment B · Espace Orientation Insertion (EOI)\, Bâtiment B\, Esplanade de la Paix\, Caen\, 14000\, France
CATEGORIES:Santé
ATTACH;FMTTYPE=image/jpeg:https://www.unicaen.fr/wp-content/uploads/2022/02/Teleconsultation.jpg
END:VEVENT
BEGIN:VEVENT
DTSTART;VALUE=DATE:20220222
DTEND;VALUE=DATE:20220402
DTSTAMP:20260421T045140
CREATED:20220203T130537Z
LAST-MODIFIED:20220311T140612Z
UID:25236-1645488000-1648857599@www.unicaen.fr
SUMMARY:Die Weiße Rose - La rose blanche
DESCRIPTION:Le département d’études germaniques vous propose une exposition\, en français\, sur la résistance en Allemagne au cours de la seconde Guerre mondiale. \nSophie Scholl\, célèbre résistante et étudiante allemande du groupe « Weiße Rose/La Rose Blanche »\, aurait fêté son 100e anniversaire en 2021. Le Département d’études germaniques lui rend hommage en présentant une exposition détaillant la genèse du groupe de résistance\, présentant ses activités antinazies ainsi que les biographies de Sophie et Hans Scholl\, de Willi Graf\, Kurt Huber\, Hans Leipelt\, Christoph Probst et Alexander Schmorell\, leurs contacts avec d’autres groupes d’opposition\, puis enfin l’anéantissement de la résistance étudiante par le système judiciaire nazi. \nExposition sur entrée libre réservée à la communauté universitaire. \nVisites guidées possibles pour les scolaires\, suivant le protocole sanitaire en vigueur\, en contactant annika.moller@unicaen.fr \nVernissage (sur invitation pour le public extérieur) le 22 février à 18h30 sur le campus 1\, dans le Hall du bâtiment G\, avec la participation d’étudiants de L1 et L3 d’allemand et de musiciens du Chœur & Orchestre Universitaire Régional · COUR\, suivi de la projection du film « Elser\, un héros ordinaire » à 20h dans l’amphithéâtre Pierre Daure (VO STFR). \nPort du masque et passe vaccinal obligatoires.
URL:https://www.unicaen.fr/evenement/die-weise-rose-la-rose-blanche/
LOCATION:Caen · Campus 1 · Bâtiment G\, Centre de formation aux carrières des bibliothèques de Caen\, Caen\, 14000\, France
CATEGORIES:Exposition
ATTACH;FMTTYPE=image/jpeg:https://www.unicaen.fr/wp-content/uploads/2022/02/La-rose-blanche.jpg
END:VEVENT
BEGIN:VEVENT
DTSTART;TZID=Europe/Paris:20220303T100000
DTEND;TZID=Europe/Paris:20220304T180000
DTSTAMP:20260421T045140
CREATED:20220127T160753Z
LAST-MODIFIED:20230324T130225Z
UID:24900-1646301600-1646416800@www.unicaen.fr
SUMMARY:Normandurable\, salon des métiers de la transition écologique
DESCRIPTION:Le Normandurable\, c’est le Salon des métiers de la transition écologique. C’est donc une manifestation est dédiée à l’orientation et à l’insertion professionnelle. Mais c’est aussi un lieu de diffusion des savoirs et de partage d’expériences. Le Normandurable\, c’est l’évènement qui accélère la transition ! \nL’université de Caen Normandie et la Marette avait déjà collaboré pour la première édition qui avait réuni plus de 5000 visiteurs. La Région Normandie soutient également ce salon depuis le début. À l’occasion de cette deuxième édition\, l’Agence Régionale de l’Orientation apporte également son aide. Les universités du Havre et de Rouen rejoignent elles aussi l’aventure\, affirmant l’identité normande de l’évènement. \nRencontrez des entreprises qui recrutent lors du salon\nVenez à la rencontre des entreprises et partenaires du secteur de la transition écologique qui tiendront des stands en bâtiment G. L’occasion également d’échanger avec l’Agence Régionale de l’Orientation sur votre parcours et les métiers qui s’offrent à vous. \nPerfectionnez votre dossier de candidature\nDurant les deux jours\, l’EOI\, Espace Orientation Insertion de l’université\, proposera des ateliers pour perfectionner votre candidature. Retrouvez-les au rez-de-jardin du bâtiment L\, en salle SES03. \nÉcoutez et échangez sur la transition écologique\nUn riche programme de conférences\, tables rondes\, talks et masterclass est prévu à la MRSH. Il s’inscrit dans une thématique globale Résilience des territoires\, adaptation et atténuation du changement climatique. Ainsi\, des chercheurs des 3 universités normandes ainsi que des entreprises engagées partageront avec le public leurs savoirs et expériences. \nRetrouvez la programmation complète ainsi que la liste des exposants sur lenormandurable.fr. \nÉvènement gratuit soumis au contrôle du pass sanitaire.
URL:https://www.unicaen.fr/evenement/normandurable-salon-des-metiers-de-la-transition-ecologique/
LOCATION:Caen · Campus 1 · Bâtiment B\, Bâtiment B\, Esplanade de la Paix\, Caen\, 14000\, France
CATEGORIES:Développement durable,Formation,Orientation
ATTACH;FMTTYPE=image/jpeg:https://www.unicaen.fr/wp-content/uploads/2022/01/Bandeau-web.jpg
END:VEVENT
BEGIN:VEVENT
DTSTART;TZID=Europe/Paris:20220303T103000
DTEND;TZID=Europe/Paris:20220303T120000
DTSTAMP:20260421T045140
CREATED:20211008T121147Z
LAST-MODIFIED:20211008T121156Z
UID:21653-1646303400-1646308800@www.unicaen.fr
SUMMARY:Atelier Rédaction CV & lettre
DESCRIPTION:CV & lettre : rédaction\nModalités\n\nle 1er jeudi de chaque mois\nDurée : 1h30\nPublic : candidats à un stage\, à une alternance ou à un emploi\nSelon les dates\, l’atelier se déroulera en présentiel ou en distanciel (4 nov. – 6 janv. – 7 avril – 2 juin)\n\nObjectifs\n\nIntégrer le point de vue du recruteur\nIdentifier les critères clés d’un CV et d’une lettre de motivation efficace\nEchanger pour améliorer ses CV & lettres\n\nInscription\nInscription obligatoire en ligne via le Career center.\nNombre de places limité. \nProchaines dates\n\nJeudi 7 avril 2022 – 14h-15h30 – Visio\nJeudi 5 mai 2022 – 10h30-12h\nJeudi 2 juin 2022 – 14h-15h30 – Visio\nJeudi 7 juillet 2022 – 10h30-12h
URL:https://www.unicaen.fr/evenement/atelier-redaction-cv-lettre-7/
LOCATION:Caen · Campus 1 · Bâtiment B\, Bâtiment B\, Esplanade de la Paix\, Caen\, 14000\, France
CATEGORIES:Orientation
ORGANIZER;CN="Espace orientation insertion (EOI)":MAILTO:orientationinsertion@unicaen.fr
END:VEVENT
END:VCALENDAR