BEGIN:VCALENDAR
VERSION:2.0
PRODID:-//Université de Caen Normandie - ECPv6.15.18//NONSGML v1.0//EN
CALSCALE:GREGORIAN
METHOD:PUBLISH
X-ORIGINAL-URL:https://www.unicaen.fr
X-WR-CALDESC:Évènements pour Université de Caen Normandie
REFRESH-INTERVAL;VALUE=DURATION:PT1H
X-Robots-Tag:noindex
X-PUBLISHED-TTL:PT1H
BEGIN:VTIMEZONE
TZID:Europe/Paris
BEGIN:DAYLIGHT
TZOFFSETFROM:+0100
TZOFFSETTO:+0200
TZNAME:CEST
DTSTART:20210328T010000
END:DAYLIGHT
BEGIN:STANDARD
TZOFFSETFROM:+0200
TZOFFSETTO:+0100
TZNAME:CET
DTSTART:20211031T010000
END:STANDARD
BEGIN:DAYLIGHT
TZOFFSETFROM:+0100
TZOFFSETTO:+0200
TZNAME:CEST
DTSTART:20220327T010000
END:DAYLIGHT
BEGIN:STANDARD
TZOFFSETFROM:+0200
TZOFFSETTO:+0100
TZNAME:CET
DTSTART:20221030T010000
END:STANDARD
BEGIN:DAYLIGHT
TZOFFSETFROM:+0100
TZOFFSETTO:+0200
TZNAME:CEST
DTSTART:20230326T010000
END:DAYLIGHT
BEGIN:STANDARD
TZOFFSETFROM:+0200
TZOFFSETTO:+0100
TZNAME:CET
DTSTART:20231029T010000
END:STANDARD
END:VTIMEZONE
BEGIN:VEVENT
DTSTART;VALUE=DATE:20220115
DTEND;VALUE=DATE:20220320
DTSTAMP:20260423T144619
CREATED:20211210T134418Z
LAST-MODIFIED:20220425T142929Z
UID:23911-1642204800-1647734399@www.unicaen.fr
SUMMARY:Concours EloCAENce
DESCRIPTION:Pour chaque étape du concours\, les candidats auront un sujet à défendre face à un autre candidat\, l’un défendant la positive et l’autre la négative. Les sujets peuvent porter sur l’actualité\, sur des adages de la vie commune… À titre d’exemple\, le sujet du concours national d’éloquence 2021 était « L’union fait-elle la force ? ». \nLes vainqueurs seront invités à participer à NormandiEloquence\, le concours d’éloquence régional puis au Concours national d’éloquence organisé par l’ARES. Le concours est ouvert à tous les étudiants de l’université de Caen Normandie\, toutes filières confondues. \nInscription \nLa participation est totalement gratuite. Attention ! Le pass sanitaire est requis. \nContact : contact@lexcadomus.org
URL:https://www.unicaen.fr/evenement/concours-elocaence/
LOCATION:Caen · Campus 1 · Bâtiment B\, Bâtiment B\, Esplanade de la Paix\, Caen\, 14000\, France
CATEGORIES:Concours
ATTACH;FMTTYPE=image/jpeg:https://www.unicaen.fr/wp-content/uploads/2021/12/Concours-EloCAENce.jpg
END:VEVENT
BEGIN:VEVENT
DTSTART;VALUE=DATE:20220128
DTEND;VALUE=DATE:20220221
DTSTAMP:20260423T144619
CREATED:20220127T075321Z
LAST-MODIFIED:20220127T075710Z
UID:24862-1643328000-1645401599@www.unicaen.fr
SUMMARY:Exposition "Les ruines en ville : Caen de 1944 à nos jours"
DESCRIPTION:Les étudiants du Master 2 Histoire & Patrimoine vous invitent à découvrir l’histoire tourmentée de la ville\, dont le bâti conserve les traces de multiples destructions et reconstructions intervenues depuis la Seconde Guerre mondiale. Par la mise en parallèle de deux époques\, celles de la reconstruction et la nôtre\, l’exposition permet d’interroger le sens et la fonction de la ruine dans la ville : est-elle toujours visible ? Comment est-elle valorisée ? La reconstruction implique-t-elle toujours sa disparition ? \nEntrée libre \nContact\nFrançoise Passera\nfrancoise.passera@unicaen.fr \nGabriel De Bruyn\ngabriel.debruyn@unicaen.fr \n 
URL:https://www.unicaen.fr/evenement/exposition-les-ruines-en-ville-caen-de-1944-a-nos-jours/
LOCATION:Caen · Campus 1 · Bâtiment G\, Centre de formation aux carrières des bibliothèques de Caen\, Caen\, 14000\, France
CATEGORIES:Exposition
ATTACH;FMTTYPE=image/jpeg:https://www.unicaen.fr/wp-content/uploads/2022/01/Expo-les-ruines-en-ville.jpg
END:VEVENT
BEGIN:VEVENT
DTSTART;TZID=Europe/Paris:20220201T200000
DTEND;TZID=Europe/Paris:20220201T223000
DTSTAMP:20260423T144619
CREATED:20220119T124223Z
LAST-MODIFIED:20220314T160104Z
UID:24612-1643745600-1643754600@www.unicaen.fr
SUMMARY:Ouistreham
DESCRIPTION:d’Emmanuel Carrère | avec Juliette Binoche\, Hélène Lambert\, Léa Carne | 1h 46min | Drame \nEn collaboration avec le pôle culture de l’université de Caen Normandie. Festival Cannes 2021 • Quinzaine des Réalisateurs (film d’ouverture) CINÉ-TALENTS \nFilm solaire placé sous le signe de l’altérité et de la solidarité\, Ouistreham bouleverse autant qu’il questionne. Présenté en ouverture de la Quinzaine des Réalisateurs au Festival de Cannes 2021\, le film embrasse de manière frontale la réalité de ces vies faites de petits matins\, de dos cassés\, mais aussi de rires et de joie. Faisant la part belle à ces femmes de l’ombre incarnées par des débutantes lumineuses et bouleversantes\, aux côtés d’une Juliette Binoche sans fard\, Ouistreham nous entraîne dans les existences de travailleurs précaires de la région de Caen. \nSeize ans après La Moustache (2005)\, l’écrivain scénariste et réalisateur Emmanuel Carrère revient à la réalisation de fiction. Sous l’impulsion de la comédienne Juliette Binoche\, il fait le choix d’adapter Le Quai de Ouistreham (L’Olivier\, 2010)\, modèle de récit journalistique de Florence Aubenas du Monde. Là où la journaliste livrait le témoignage d’une immersion pendant plusieurs mois sous un faux nom parmi les travailleurs précaires de Caen\, Emmanuel Carrère propose une réflexion sur l’écriture confrontée au réel. \nEn première partie de soirée\, les enseignants du département cinéma de l’université de Caen Normandie et les étudiants d’Art du spectacle\, promo 20.21 vous proposent de découvrir l’un de leurs courts-métrages réalisé l’an passé. Projection suivie d’un échange avec l’équipe du film. \nPass sanitaire et port du masque obligatoires. \nRéservation fortement conseillée
URL:https://www.unicaen.fr/evenement/ouistreham/
LOCATION:Caen · Campus 1 · Bâtiment P · Amphi Pierre Daure\, Amphithéâtre Pierre Daure\, Esplanade de la Paix\, Caen\, 14000\, France
CATEGORIES:Projection - Cinéma
ATTACH;FMTTYPE=image/jpeg:https://www.unicaen.fr/wp-content/uploads/2022/01/Ouistreham.jpg
END:VEVENT
BEGIN:VEVENT
DTSTART;TZID=Europe/Paris:20220201T200000
DTEND;TZID=Europe/Paris:20220201T223000
DTSTAMP:20260423T144619
CREATED:20220121T133124Z
LAST-MODIFIED:20220314T160130Z
UID:24745-1643745600-1643754600@www.unicaen.fr
SUMMARY:Twist à Bamako
DESCRIPTION:de Robert Guédiguian | avec Stéphane Bak\, Alicia Da Luz Gomes\, Saabo Balde | 2h 09min | Drame historique\n \n1962. Le Mali goûte son indépendance fraîchement acquise et la jeunesse de Bamako danse des nuits entières sur le twist venu de France et d’Amérique. Samba\, le fils d’un riche commerçant\, vit corps et âme l’idéal révolutionnaire : il parcourt le pays pour expliquer aux paysans les vertus du socialisme. C’est là\, en pays bambara\, que surgit Lara\, une jeune fille mariée de force\, dont la beauté et la détermination bouleversent Samba. Samba et Lara savent leur amour menacé. Mais ils espèrent que\, pour eux comme pour le Mali\, le ciel s’éclaircira… \nEn première partie de soirée\, les enseignants du département cinéma de l’université de Caen Normandie et les étudiants d’Art du spectacle\, promo 2020–2021 vous proposent de découvrir l’un de leurs courts-métrages réalisé l’an passé. Projection suivie d’un échange avec l’équipe du film. \nPass sanitaire et port du masque obligatoires. \nEn collaboration avec le pôle culture de l’université de Caen Normandie et le Café des images. \nRéservation fortement conseillée
URL:https://www.unicaen.fr/evenement/twist-a-bamako/
LOCATION:Caen · Campus 1 · Bâtiment P · Amphi Pierre Daure\, Amphithéâtre Pierre Daure\, Esplanade de la Paix\, Caen\, 14000\, France
CATEGORIES:Projection - Cinéma
ATTACH;FMTTYPE=image/jpeg:https://www.unicaen.fr/wp-content/uploads/2022/01/visuel2_twist-a-bamako.jpg
END:VEVENT
END:VCALENDAR